BEGIN:VCALENDAR
VERSION:2.0
PRODID:-//Gdanska - ECPv6.15.20//NONSGML v1.0//EN
CALSCALE:GREGORIAN
METHOD:PUBLISH
X-WR-CALNAME:Gdanska
X-ORIGINAL-URL:https://www.gdanska.de
X-WR-CALDESC:Veranstaltungen für Gdanska
REFRESH-INTERVAL;VALUE=DURATION:PT1H
X-Robots-Tag:noindex
X-PUBLISHED-TTL:PT1H
BEGIN:VTIMEZONE
TZID:Europe/Berlin
BEGIN:DAYLIGHT
TZOFFSETFROM:+0100
TZOFFSETTO:+0200
TZNAME:CEST
DTSTART:20250330T010000
END:DAYLIGHT
BEGIN:STANDARD
TZOFFSETFROM:+0200
TZOFFSETTO:+0100
TZNAME:CET
DTSTART:20251026T010000
END:STANDARD
BEGIN:DAYLIGHT
TZOFFSETFROM:+0100
TZOFFSETTO:+0200
TZNAME:CEST
DTSTART:20260329T010000
END:DAYLIGHT
BEGIN:STANDARD
TZOFFSETFROM:+0200
TZOFFSETTO:+0100
TZNAME:CET
DTSTART:20261025T010000
END:STANDARD
BEGIN:DAYLIGHT
TZOFFSETFROM:+0100
TZOFFSETTO:+0200
TZNAME:CEST
DTSTART:20270328T010000
END:DAYLIGHT
BEGIN:STANDARD
TZOFFSETFROM:+0200
TZOFFSETTO:+0100
TZNAME:CET
DTSTART:20271031T010000
END:STANDARD
END:VTIMEZONE
BEGIN:VEVENT
DTSTART;TZID=Europe/Berlin:20260416T200000
DTEND;TZID=Europe/Berlin:20260416T220000
DTSTAMP:20260420T103633
CREATED:20260305T144227Z
LAST-MODIFIED:20260323T140719Z
UID:10001594-1776369600-1776376800@www.gdanska.de
SUMMARY:Hein de Jong Quartet - Jazzkarussell
DESCRIPTION:BESETZUNG:\nHein de Jong – Vibraphone\nBerend van den Berg – Flügel\nJoep Lumey – Kontrabass\nHans Braber – Schlagzeug \nVERANSTALTUNGSINFO:\n/// DO\, 16.04.2026\n20:00 / Einlass 19:30\nEintritt 15\,- €\n(10\,- € erm.) \nJazz-Karussell Oberhausen\nim Gdanska\nAltmarkt 3\, 46045 Oberhausen \nVier große Musiker der Jazz-Szene Hollands kommen für ein gemeinsames Konzert nach Oberhausen. Wieder ist es ein Schlagzeuger\, der hier seine Lieblingskollegen zusammentrommelt\, deren lebenslange Freundschaft und musikalische Verbundenheit hörbar auf der Bühne verschmelzen. Im Mittelpunkt steht der Vibraphonist Hein de Jong\, ein Meister an seinem Instrument. Gemeinsam mit dem Pianisten Berend van den Berg und Kontrabassist Joep Lumey ist es dem Schlagzeuger Hans Braber wieder einmal gelungen einen Top-Act auf die Bühne zu zaubern. \nNur Abendkasse \nEinfach kommen und das Konzert mit allen Sinnen genießen! \nTischreservierung für hungrige Gäste\, die gerne „auf Nummer Sicher“ gehen: gdanska.de \nDas Jazz-Karussell Oberhausen wird vom Kulturbüro der Stadt gefördert.
URL:https://www.gdanska.de/event/hein-de-jong-quartet-jazzkarussell/
LOCATION:Gdanska\, Altmarkt 3\, 46045 Oberhausen
CATEGORIES:Jazz,Konzerte
ATTACH;FMTTYPE=image/jpeg:https://www.gdanska.de/wp-content/uploads/2026/03/Hein-de-Jong.jpg
ORGANIZER;CN="Jazzkarussell":MAILTO:eva.kurowski@t-online.de
END:VEVENT
END:VCALENDAR