BEGIN:VCALENDAR
VERSION:2.0
PRODID:-//Gdanska - ECPv6.15.20//NONSGML v1.0//EN
CALSCALE:GREGORIAN
METHOD:PUBLISH
X-WR-CALNAME:Gdanska
X-ORIGINAL-URL:https://www.gdanska.de
X-WR-CALDESC:Veranstaltungen für Gdanska
REFRESH-INTERVAL;VALUE=DURATION:PT1H
X-Robots-Tag:noindex
X-PUBLISHED-TTL:PT1H
BEGIN:VTIMEZONE
TZID:Europe/Berlin
BEGIN:DAYLIGHT
TZOFFSETFROM:+0100
TZOFFSETTO:+0200
TZNAME:CEST
DTSTART:20250330T010000
END:DAYLIGHT
BEGIN:STANDARD
TZOFFSETFROM:+0200
TZOFFSETTO:+0100
TZNAME:CET
DTSTART:20251026T010000
END:STANDARD
BEGIN:DAYLIGHT
TZOFFSETFROM:+0100
TZOFFSETTO:+0200
TZNAME:CEST
DTSTART:20260329T010000
END:DAYLIGHT
BEGIN:STANDARD
TZOFFSETFROM:+0200
TZOFFSETTO:+0100
TZNAME:CET
DTSTART:20261025T010000
END:STANDARD
BEGIN:DAYLIGHT
TZOFFSETFROM:+0100
TZOFFSETTO:+0200
TZNAME:CEST
DTSTART:20270328T010000
END:DAYLIGHT
BEGIN:STANDARD
TZOFFSETFROM:+0200
TZOFFSETTO:+0100
TZNAME:CET
DTSTART:20271031T010000
END:STANDARD
END:VTIMEZONE
BEGIN:VEVENT
DTSTART;TZID=Europe/Berlin:20260421T190000
DTEND;TZID=Europe/Berlin:20260421T210000
DTSTAMP:20260421T114939
CREATED:20260420T195718Z
LAST-MODIFIED:20260420T195718Z
UID:10001622-1776798000-1776805200@www.gdanska.de
SUMMARY:Beatkeller Geschichten - Gitarrissimo
DESCRIPTION:21.04.2026 Gitarrissimo 960 – Beatkeller-Geschichten\nBeatkeller Geschichten 1970 – Teil 3 \nDienstag\, 21. April 2026\nBeginn: 19:30 Uhr\nEintrittspreis: 10 € \nRestaurant »Gdanska«\nAltmarkt 3\n46045 Oberhausen\nE-Mail: info@obsaitensprung.de
URL:https://www.gdanska.de/event/beatkeller-geschichten-gitarrissimo-8/
LOCATION:Literatur Keller\, Zugang Gutenbergstr. 8\, Oberhausen\, DE\, 46045\, Deutschland
CATEGORIES:Gitarrissimo,Sonstige Veranstaltungen
ATTACH;FMTTYPE=image/png:https://www.gdanska.de/wp-content/uploads/2026/04/Gemini_Generated_Image_3za6en3za6en3za6.png
END:VEVENT
END:VCALENDAR