BEGIN:VCALENDAR
VERSION:2.0
PRODID:-//Gdanska - ECPv6.15.20//NONSGML v1.0//EN
CALSCALE:GREGORIAN
METHOD:PUBLISH
X-ORIGINAL-URL:https://www.gdanska.de
X-WR-CALDESC:Veranstaltungen für Gdanska
REFRESH-INTERVAL;VALUE=DURATION:PT1H
X-Robots-Tag:noindex
X-PUBLISHED-TTL:PT1H
BEGIN:VTIMEZONE
TZID:Europe/Berlin
BEGIN:DAYLIGHT
TZOFFSETFROM:+0100
TZOFFSETTO:+0200
TZNAME:CEST
DTSTART:20230326T010000
END:DAYLIGHT
BEGIN:STANDARD
TZOFFSETFROM:+0200
TZOFFSETTO:+0100
TZNAME:CET
DTSTART:20231029T010000
END:STANDARD
BEGIN:DAYLIGHT
TZOFFSETFROM:+0100
TZOFFSETTO:+0200
TZNAME:CEST
DTSTART:20240331T010000
END:DAYLIGHT
BEGIN:STANDARD
TZOFFSETFROM:+0200
TZOFFSETTO:+0100
TZNAME:CET
DTSTART:20241027T010000
END:STANDARD
BEGIN:DAYLIGHT
TZOFFSETFROM:+0100
TZOFFSETTO:+0200
TZNAME:CEST
DTSTART:20250330T010000
END:DAYLIGHT
BEGIN:STANDARD
TZOFFSETFROM:+0200
TZOFFSETTO:+0100
TZNAME:CET
DTSTART:20251026T010000
END:STANDARD
END:VTIMEZONE
BEGIN:VEVENT
DTSTART;TZID=Europe/Berlin:20240602T170000
DTEND;TZID=Europe/Berlin:20240602T190000
DTSTAMP:20260419T142700
CREATED:20240520T084213Z
LAST-MODIFIED:20240522T073654Z
UID:10001324-1717347600-1717354800@www.gdanska.de
SUMMARY:Tworzymy teatr dziecięy - Spotkanie organizacyjne
DESCRIPTION:Zapraszamy rodziców i dzieci na spokanie organizacyjne tworzonego przez KOKOPOL\nze wsparciem Gminy Polskiej Piast i Gdańskiej teatru dziecięcego.\nChcemy uczyć dzieci i młodzieź języka polskiego poprzez teatr\, śpiew i zabawę.  \nKochani rodzice i dziadkowie\, dajcie dzieciom tę szansę\, podarujcie im Wasz pierwszy język\nojczysty\, język ich rodziców i dziadków.\nBędą Wam za to wdzięczni.
URL:https://www.gdanska.de/event/tworzymy-teatr-dzieciey-spotkanie-organizacyjne/
LOCATION:Gdanska Theater\, Gutenbergstraße 8\, Hofeinfahrt\, 46045 Oberhausen
CATEGORIES:Sonstige Veranstaltungen,Veranstaltung in polnischer Sprache
ATTACH;FMTTYPE=image/jpeg:https://www.gdanska.de/wp-content/uploads/2024/05/Teatr-dzieci.jpg
END:VEVENT
BEGIN:VEVENT
DTSTART;TZID=Europe/Berlin:20240604T200000
DTEND;TZID=Europe/Berlin:20240604T200000
DTSTAMP:20260419T142700
CREATED:20240602T060354Z
LAST-MODIFIED:20240602T060502Z
UID:10001326-1717531200-1717531200@www.gdanska.de
SUMMARY:Go Music - Juni 2024
DESCRIPTION:04.06.2024 Gitarrissimo 885 – Go Music\nGo Music – Juni 2024 \nDienstag\, 04. Juni 2024\nBeginn: 20:15 Uhr\nEintrittspreis: 20 € \n**Die Juni – GO MUSIC präsentiert eine Konstellation der Extraklasse vor der Sommerpause**\nGO MUSIC geht in die Sommerpause\, aber bevor es soweit ist\, gibt es noch einmal ein Konzerthighlight\nder Extraklasse. Martin Engelien\, Bassist und Organisator dieser international gefeierten Musikreihe\,\nöffnet erneut die Tore zu einem musikalischen Universum voller Vielfalt und Virtuosität. Als\nGründungsmitglied der legendären „Klaus Lage Band“ bereicherte er über zwei Dekaden lang die\nBühnen der deutschsprachigen Länder mit unvergesslichen Hits wie „1000 und eine Nacht“ „Monopoli“\nund vielen anderen. Seine Zusammenarbeit mit Jazzikone Albert Mangelsdorff zeugt von seinem\naußergewöhnlichen Talent und seinem Gespür für Musik auf höchstem Niveau\, als Produzent des\nerfolgreichsten Albums der weltbekannten Jazzlegende hinterließ er seine Spuren auch in der Welt des\nJazz. Seit 28 Jahren begeistert er das Publikum mit seiner monatlichen Konzertreihe „GO MUSIC“\, die\nhochkarätige Musiker und Künstler aus aller Welt vereint.\nFür die JUNI Tournee durch 9 Städte in NRW hat Engelien eine Besetzung der Extraklasse\nzusammengestellt. Der finnische Gitarrist Muddy Manninen\, bekannt aus seiner Zeit bei Wishbone Ash\,\ntrifft auf die britische Saxophonistin und Sängerin Patsy Gamble. Diese dynamische Kombination\nverspricht eine einzigartige Fusion aus Blues\, Rock und Funk. Gamble\, Finalistin des British Blues Award\n2011 und 2012\, ist keine Unbekannte in der Musikszene. Mit ihrer Vielseitigkeit und ihrem Talent hat sie\nbereits an der Seite von Größen wie Steve Winwood und Mick Jagger brilliert. Zusammen mit Manninens\nvirtuosem E-Gitarrenspiel entsteht eine unwiderstehliche Mischung\, die das Publikum in ihren Bann\nziehen wird.\nDoch das ist noch nicht alles. Manni von Bohr\, ein Meister seines Fachs und eine Legende des\nDrumsounds\, wird die Bühne mit seiner unvergleichlichen Technik und seinem Know-how zum Beben\nbringen. Als „The Pope of Drumming“ von keinem Geringeren als dem renommierten US-Magazin\n„Modern Drummer“ betitelt\, schreibt von Bohr mit seiner Arbeit als Drummer für Bands wie „Birth Control“\nund dem Randy Hansen Projekt\, sowie als Mitglied der deutschen Rockikone „Bröselmaschine“\nMusikgeschichte. Sein Talent und seine Leidenschaft für das Schlagzeug haben ihn zu einem gefragten\nSolokünstler\, Autor und Workshop-Lehrer gemacht\, der sein umfangreiches Wissen und seine\nErfahrungen gerne mit anderen teilt.\nGO MUSIC verspricht einen Abend voller mitreißender Musik\, von renommierten Künstlern präsentiert.\nEin Muss für alle Musikliebhaber\, die den Sommer mit den Klängen von Weltklasse-Musikern einläuten\nwollen. Gönnen Sie sich diesen musikalischen Höhepunkt\, bevor die Sommerpause beginnt. \nRestaurant »Gdanska«\nAltmarkt 3\n46045 Oberhausen\nE-Mail: info@obsaitensprung.de
URL:https://www.gdanska.de/event/go-music-juni-2024/
LOCATION:Gdanska\, Altmarkt 3\, 46045 Oberhausen
CATEGORIES:Gitarrissimo,Konzerte
ATTACH;FMTTYPE=image/jpeg:https://www.gdanska.de/wp-content/uploads/2024/06/gdanska-4.jpg
ORGANIZER;CN="Gitarrissimo":MAILTO:info@obsaitensprung.de
END:VEVENT
BEGIN:VEVENT
DTSTART;TZID=Europe/Berlin:20240607T190000
DTEND;TZID=Europe/Berlin:20240607T210000
DTSTAMP:20260419T142700
CREATED:20240320T175158Z
LAST-MODIFIED:20240320T175158Z
UID:10001305-1717786800-1717794000@www.gdanska.de
SUMMARY:Tonio Schachinger\, Echtzeitalter - Literaturhaus
DESCRIPTION:Auf den ersten Blick ein Schulroman entpuppt sich „Echtzeitalter“ als mit feinsinniger Ironie durchsetzter Gesellschaftsroman. Schachinger beschreibt das Aufwachsen des jungen Till in einem Internat\, das mit reaktionärem Drill die künftige Elite auf das Leben vorbereiten will. Doch Till flüchtet ins Gaming\, bei „Age of Empire 2“ wird er zum jüngsten TOP 10-Spieler der Welt. Doch wie „echt“ sind diese beiden Welten wirklich? Und sind sie so gegensätzlich\, wie man meinen könnte? \nTonio Schachinger war schon 2021 mit seinem Debüt „Nicht wie ihr“ bei uns zu Gast und hat im letzten Jahr für seinen zweiten Roman „Echtzeitalter“ den Deutschen Buchpreis erhalten. \nFreitag\, 7. Juni 2024\, 19 Uhr (Einlass ab 18 Uhr) \nGdanska Theater\, Gutenbergstr. 8\, 46045 Oberhausen \nEintritt: 15 € (ermäßigt 7\,50 €)
URL:https://www.gdanska.de/event/tonio-schachinger-echtzeitalter-literaturhaus/
LOCATION:Gdanska Theater\, Gutenbergstraße 8\, Hofeinfahrt\, 46045 Oberhausen
CATEGORIES:Lesungen
ATTACH;FMTTYPE=image/jpeg:https://www.gdanska.de/wp-content/uploads/2024/03/Tonio-Schachinger-c-Bernhard-Seiter-e1713548933840.jpg
ORGANIZER;CN="LITERATURHAUS Oberhausen":MAILTO:literaturhaus-oberhausen@gmx.de
END:VEVENT
BEGIN:VEVENT
DTSTART;TZID=Europe/Berlin:20240608T200000
DTEND;TZID=Europe/Berlin:20240608T230000
DTSTAMP:20260419T142700
CREATED:20240114T175507Z
LAST-MODIFIED:20240120T135346Z
UID:10001277-1717876800-1717887600@www.gdanska.de
SUMMARY:Becky Sikasa (DE) - Indie Radar Ruhr
DESCRIPTION:„Die BBC nannte Becky Sikasa “Future Superstar in loading buffer mode”. Und mit dieser Prognose sind sie nicht alleine: Musikliebhaber und Kritiker ziehen Vergleiche zur unaufgeregten Magie einer Cleo Sol oder Olivia Dean\, so mühelos webt Becky Sikasa Harmonien übereinander\, schreibt berührende\, vibrierende off-pop Songs. So berührend\, dass ihre Debüt EP “Twelve Wooden Boxes” neben den Alben von Paolo Nutini\, Joesef und Young Fathers für das “Scottish Album of the Year” nominiert wird.“ \n \nIhre zweite Single „Keeper“ erreichte über eine halbe Million Streams auf Apple Music. \nDie Release-Shows für Becky Sikasas Debüt-EP in Glasgow und Köln waren bereits Wochen im Voraus ausverkauft: In Zusammenarbeit mit preisgekrönten Produzenten und Regisseuren formt Becky ihre künstlerische Vision und ist mit einem ausverkauften Londoner Debüt in der Blues Kitchen und zwei beeindruckenden Auftritten beim The Great Escape Festival auf dem Weg\, eine der neuen Stimmen des UK-Neo-Soul zu werden. \n____ \nDatum: Samstag\, 08.06.2024\nOrt: Gdanska\, Altmarkt 3\, 46045 Oberhausen\nDoors: 19:00 Uhr\nBeginn: 20:00 Uhr\nTickets hier: https://indie-radar-ruhr.de/event/becky-sikasa-de/
URL:https://www.gdanska.de/event/becky-sikasa-de-indie-radar-ruhr/
LOCATION:Gdanska\, Altmarkt 3\, 46045 Oberhausen
CATEGORIES:INDIE RADAR RUHR,Konzerte
ATTACH;FMTTYPE=image/jpeg:https://www.gdanska.de/wp-content/uploads/2024/01/Becky-Sikasa_2-c-Susan-McFadzean-e1713549001901.jpg
ORGANIZER;CN="INDIE RADAR RUHR":MAILTO:booking@indie-radar-ruhr.de
END:VEVENT
BEGIN:VEVENT
DTSTART;TZID=Europe/Berlin:20240611T193000
DTEND;TZID=Europe/Berlin:20240611T213000
DTSTAMP:20260419T142700
CREATED:20240610T081230Z
LAST-MODIFIED:20240610T081230Z
UID:10001335-1718134200-1718141400@www.gdanska.de
SUMMARY:Beatkeller-Geschichten - Gitarrissimo
DESCRIPTION:Im Gdanska-Keller geht es am Dienstag weiter. Die eigentliche Beatgeschichte hatte in diesem Jahr ihren Höhepunkt erreicht und schwappte mit der „British Invasion“ vor allem nach Amerika über. Vorrübergehend war nicht ein amerikanischer Titel in den britischen Charts. Und es war auch das Jahr des ersten Beatles-Film „Yeah! Yeah! Yeah!“ (A Hard Days Night). Geschichten und vor allem die Lieder und Fotos von damals werden wie immer von Jürgen Reinke präsentiert.   \nSein über 60 Jahre gesammeltes Wissen möchte Gitarrissimo-Chef Jürgen Reinke mit dieser Reihe gerne mit Gleichaltrigen teilen oder an Jüngere weitergeben. Pro Folge werden im Schnitt etwa 20-25 Titel\, die für das entsprechende Jahr von Bedeutung waren oder eine wichtige Bedeutung für die weitere Entwicklung der Rockmusik in den 60ern oder 70ern hatten\, gespielt. Dafür steht Reinke seine umfangreiche CD-Sammlung mit über 60.000 Titeln zur Verfügung. Die Musiktitel werden mit Musikerfotos\, Plakatfotos\, Plattencovern u.ä. „per Beamer auf die Leinwand gebracht“ bildlich unterstützt. Hierzu stehen dem Erzählenden weit über 100.000 Abbildungen zur Verfügung\, die auch zum Teil aus dem „Archiv für populäre Musik“ in Dortmund stammen. Der verbale Teil der Veranstaltung wird nicht vollchronologisch wie früher im Geschichtsunterricht ablaufen\, sondern zu jedem der gespielten Titel wird in einem kurzen Text berichtet\, warum er nach Ansicht des Verfassers wichtig ist und der Song deshalb ausgewählt wurde. Nach Ende der knapp zweistündigen Veranstaltungen (mit Pause) gibt es noch ausreichend Gelegenheit\, sich im gemütlichen Kreis an die „Alten Zeiten“ zu erinnern und die eine oder andere Geschichte von damals zu erzählen.\nwww.obsaitensprung.de
URL:https://www.gdanska.de/event/beatkeller-geschichten-gitarrissimo-3/
LOCATION:Literatur Keller\, Zugang Gutenbergstr. 8\, Oberhausen\, DE\, 46045\, Deutschland
CATEGORIES:Sonstige Veranstaltungen
ATTACH;FMTTYPE=image/jpeg:https://www.gdanska.de/wp-content/uploads/2024/06/Plakat-gross-1.jpeg
ORGANIZER;CN="Gitarrissimo":MAILTO:info@obsaitensprung.de
END:VEVENT
BEGIN:VEVENT
DTSTART;TZID=Europe/Berlin:20240615T193000
DTEND;TZID=Europe/Berlin:20240615T213000
DTSTAMP:20260419T142700
CREATED:20240602T115301Z
LAST-MODIFIED:20240602T115301Z
UID:10001327-1718479800-1718487000@www.gdanska.de
SUMMARY:Lunates (DE) • Vorzeigeschwiegersöhne (DE) - Indie Radar Ruhr - Endlich Sommer 2024
DESCRIPTION:Eine neue Band lässt man sich am besten selbst vorstellen. Also\, dann mal los\, mit den ersten Zeilen des wunderbaren »Sure To Be Fine«\, der bislang neusten Single von »Lunates«:\n»Clenched fists and a first kiss/ the first time that I had the guts to talk to her/ Five shots and the night was/ like the stuff we used to see on television«\nUnd da stimmt natürlich gleich alles\, denn wenn dieser Vor-Verliebtheit-blubbert-es-in-der-Magengrube-Text zugedeckt wird von pendelnden Chorusgitarren und einer guten Anzahl von BPMs\, dann sieht man gleich all das Zeug aus dem Fernsehen vor dem inneren Auge: Lippen\, die sich zum ersten Mal berühren\, betrunkenes Händchenhalten\, Rotweinflecken und ausgedrückte Zigaretten auf dem Teppich vielleicht auch. Lyrics wie Szenen aus einem Coming-of-Age-Film. Soundtrack\, um nachts ins Freibad einzubrechen.\nGeschrieben von einer Band\, deren Namen man sich besser jetzt sofort merken sollte\, denn so dringlich dem Zwischenmenschlichen verschrieben und gleichzeitig so tanzbar kam in Deutschland schon lange kein Indie mehr daher: »Lunates«\, das sind sechs junge Menschen\, kennengelernt an der Kunstuni in Essen\, und doch im Auftritt gänzlich unprätentiös. Mit Jacken kaum über den Schultern\, Turnschuhen und ungebügelten Hemden springen sie auf ihrem Pressefoto in die Luft\, so lässig\, dass man glaubt\, die hätte man doch alle erst neulich auf der WG-Party getroffen\, auf dieser einen\, wo so gute Musik lief. Da ist Maria\, die Sängerin\, Jan und Wiktor (Gitarre)\, Joshi (Bass)\, Emma (Keyboard)\, Jonathan (Schlagzeug). Die Songs sind Kollaborationen aller Mitglieder\, die teilweise Wurzeln in der Klassik haben\, teilweise im Jazz\, aber auch im Metal oder Punkrock\, und vielleicht sind es diese Unterschiede\, die »Lunates« so einen konsequenten Sound\, so eine genau ausdefinierte Schnittmenge geben: »Safe Wave« etwa\, der erste Song der Band\, beginnt mit einem »The Cure«-artigen Synthesizer\, geht dann auf in feinstem Indie-Pop Gewand\, in einem mehrstimmigen Balanceakt zwischen Selbst- und Menschenliebe\, irgendwo zwischen Bands wie »Alvvays«\, »Wolf Alice« und Sam Fender.\nBei »Lunates« scheint alles sofort am richtigen Platz\, alles wirkt grundlogisch\, in den Liedern und auch auf der Bühne. Deswegen leuchtet es ein\, dass »Lunates« in ihrer kaum ein Jahr alten Bandgeschichte bereits Supportgigs für Künstler:innen wie »SHITNEY BEERS«\, »Stina Holmquist« oder »Tigermilch« spielen durfte und schon jetzt in ihrer Heimat eine nicht zu verachtende Fangemeinde hat. Und das – wohlgemerkt – noch ganz ohne erste größere Veröffentlichung. Die ist\, in Form einer EP\, für 2024 geplant. \nDie Vorzeigeschwiegersöhne sind Leo und Lars\, beste Freunde\, die sich schon seit 10 Jahren kennen und seit 2015 in unterschiedlichsten Konstellationen gemeinsam auf Bühnen gestanden haben! Sie haben in ihren letzten Shows erfahren dürfen\, dass es nicht mehr als zwei Instrumente\, zwei Stimmen und ne dicke Portion Stimmung braucht\, um den Raum zum brennen zu bringen. Sowohl ihre Lieder als auch ihr die Lieder in ein komödiantisches Tuch einwickelndes Bühnenprogramm beziehen das Publikum mit ein und schaffen eine interaktive Konzerterfahrung. Ihre Show lebt von ihrer Kommunikation auf der Bühne\, denn das sie sich in- und auswendig kennen\, spiegelt sich auch in der Live-Performance wider. In den Liedern geht es um die Dinge\, die einen vermeintlichen Vorzeigeschwiegersohn nunmal so beschäftigen. Vor allem um die Liebe. In verträumten\, aber immer wieder mit Überraschungen gespickten Balladen oder fetzigen Hymnen wird vor allem eines klar: Sie nehmen sich selbst nicht allzu ernst. Abgesehen von ihren Texten mit Identifikationspotenzial machen sie schlichtweg „tighte“ und dynamische Livemusik. Mit Klavier und Akustikgitarre ist ihr als Retro Pop geschimpfter Sound stark vom Vibe der 70er Jahre inspiriert. Ebenso wie ihre Bühnenoutfits. Irgendwas zwischen Simon and Garfunkel\, Reinhard Mey\, AnnenMayKantereit und Helge Schneider beschreibt die beiden großen Jungs mit lockigem und gewelltem Haar am besten. Als Trademarks unseres Sounds gelten Leos vielseitige\, mehrere Oktaven durchreichende Stimme und der von Billy Joel inspirierte Pianostil von Lars. Ihre Show ist mehr als nur Live-Musik\, es ist ein Kurzfilm\, in den man eintaucht und für einige Momente im Meer der Schönheit treibt. Ihre Debut-EP „Mit Milch & Zucker“ erscheint am 14.06. und präsentiert mit fünf bezaubernden Songs das\, was die deutsche Pop-Szene gerade braucht – die Vorzeigeschwiegersöhne. \nEintritt ist frei\, für das Sitzen im Biergarten müsst ihr aber reservieren.
URL:https://www.gdanska.de/event/lunates-de-vorzeigeschwiegersoehne-de-indie-radar-ruhr-endlich-sommer-2024/
LOCATION:Gdanska\, Altmarkt 3\, 46045 Oberhausen
CATEGORIES:INDIE RADAR RUHR,Konzerte,Open Air
ATTACH;FMTTYPE=image/png:https://www.gdanska.de/wp-content/uploads/2024/06/EndlichSommer_zusammen_15.06.png
ORGANIZER;CN="INDIE RADAR RUHR":MAILTO:booking@indie-radar-ruhr.de
END:VEVENT
BEGIN:VEVENT
DTSTART;TZID=Europe/Berlin:20240621T160000
DTEND;TZID=Europe/Berlin:20240621T190000
DTSTAMP:20260419T142700
CREATED:20240320T180112Z
LAST-MODIFIED:20240320T180133Z
UID:10001306-1718985600-1718996400@www.gdanska.de
SUMMARY:LiteRadTour Vol.7\, Lieblings-Orte - Literaturhaus
DESCRIPTION:In vielerlei Hinsicht ist Oberhausen eine typische Ruhrgebietsstadt: Kind der Industrialisierung\, in kurzer Zeit rund um die Zentren der Industrie gewachsen\, weiter versiegelt durch Verkehr\, Eigenheime und Gewerbegebiete – eine Schönheit ist sie nicht. Und doch gibt es Orte der Ruhe\, Muße und Freizügigkeit. Einige davon werden wir auf unserer Tour\, die durch den Oberhausener Süden mäandert\, aufsuchen. Dazu werden ausgesuchte literarische Häppchen serviert. Ein „Auskehrschwung“ im Gdanska ist geplant. \nFreitag 21. Juni 2024\nStart 15 Uhr Altmarkt\, Ende 19 Uhr am Ausgangspunkt\nTeilnahme: 10 € (ermäßigt 5 €) \nbegrenzte Teilnehmerzahl; Anmeldung und eigenes Rad erforderlich \n 
URL:https://www.gdanska.de/event/literadtour-vol-7-lieblings-orte-literaturhaus/
LOCATION:Gdanska\, Altmarkt 3\, 46045 Oberhausen
CATEGORIES:Lesungen,Open Air,Sonstige Veranstaltungen
ATTACH;FMTTYPE=image/jpeg:https://www.gdanska.de/wp-content/uploads/2024/03/LiteRadTour-e1713549035463.jpg
ORGANIZER;CN="LITERATURHAUS Oberhausen":MAILTO:literaturhaus-oberhausen@gmx.de
END:VEVENT
BEGIN:VEVENT
DTSTART;TZID=Europe/Berlin:20240628T193000
DTEND;TZID=Europe/Berlin:20240628T213000
DTSTAMP:20260419T142700
CREATED:20240602T122701Z
LAST-MODIFIED:20240602T122859Z
UID:10001331-1719603000-1719610200@www.gdanska.de
SUMMARY:benrose - Endlich Sommer 2024
DESCRIPTION:Eintritt ist frei! Die Band spielt draußen auf der Terrassenbühne im Biergarten des Gdanska. Die Tische sind gegen Regen geschützt. Sollte es stark regnen\, findet die Veranstaltung im Saal statt. \nDer Eintritt ist frei\, für die Künstler und Techniker fährt ein Spendenboot durch die Reihen.\nTischreservierung: https://www.gdanska.de/tisch-reservieren/
URL:https://www.gdanska.de/event/benrose-endlich-sommer-2024/
LOCATION:Gdanska\, Altmarkt 3\, 46045 Oberhausen
CATEGORIES:Konzerte,Open Air
ATTACH;FMTTYPE=image/png:https://www.gdanska.de/wp-content/uploads/2024/06/indie_radar_ruhr_EndlichSommer_benrose.png
END:VEVENT
END:VCALENDAR