BEGIN:VCALENDAR
VERSION:2.0
PRODID:-//Gdanska - ECPv6.15.20//NONSGML v1.0//EN
CALSCALE:GREGORIAN
METHOD:PUBLISH
X-WR-CALNAME:Gdanska
X-ORIGINAL-URL:https://www.gdanska.de
X-WR-CALDESC:Veranstaltungen für Gdanska
REFRESH-INTERVAL;VALUE=DURATION:PT1H
X-Robots-Tag:noindex
X-PUBLISHED-TTL:PT1H
BEGIN:VTIMEZONE
TZID:Europe/Berlin
BEGIN:DAYLIGHT
TZOFFSETFROM:+0100
TZOFFSETTO:+0200
TZNAME:CEST
DTSTART:20230326T010000
END:DAYLIGHT
BEGIN:STANDARD
TZOFFSETFROM:+0200
TZOFFSETTO:+0100
TZNAME:CET
DTSTART:20231029T010000
END:STANDARD
BEGIN:DAYLIGHT
TZOFFSETFROM:+0100
TZOFFSETTO:+0200
TZNAME:CEST
DTSTART:20240331T010000
END:DAYLIGHT
BEGIN:STANDARD
TZOFFSETFROM:+0200
TZOFFSETTO:+0100
TZNAME:CET
DTSTART:20241027T010000
END:STANDARD
BEGIN:DAYLIGHT
TZOFFSETFROM:+0100
TZOFFSETTO:+0200
TZNAME:CEST
DTSTART:20250330T010000
END:DAYLIGHT
BEGIN:STANDARD
TZOFFSETFROM:+0200
TZOFFSETTO:+0100
TZNAME:CET
DTSTART:20251026T010000
END:STANDARD
END:VTIMEZONE
BEGIN:VEVENT
DTSTART;TZID=Europe/Berlin:20241102T200000
DTEND;TZID=Europe/Berlin:20241102T220000
DTSTAMP:20260421T134731
CREATED:20240925T105313Z
LAST-MODIFIED:20240925T105313Z
UID:10001381-1730577600-1730584800@www.gdanska.de
SUMMARY:The Bony King Of Nowhere (BEL) - Indie-Radar-Ruhr
DESCRIPTION:The Bony King of Nowhere ist mit neuer Platte zurück! Einen bleibenden Eindruck hinterließ Bram\nVanparys (so der belgische Musiker bürgerlich) zuletzt 2018 mit der Veröffentlichung seines von\nder Kritik gefeierten Albums Silent Days und der Auszeichnung als „Bester Autor/Komponist“ bei\nden Music Industry Awards (MIA). Am 02.02.24 veröffentlichte er sein neues\, sechstes Album\nEverybody Knows.Das erst kürzlich auf Unday Records erschienene Everybody Knows ließ lange auf sich warten\n(rund fünf Jahre um genau zu sein). Dies lag zum Teil an Vanparys‘ persönlichem Anspruch\, sich\nnie wiederholen und seine kreativen Fähigkeiten ständig übertreffen zu wollen. Die ersten beiden\nVorab-Singles gaben bereits einen klaren Hinweis darauf\, was man von diesem neuen Album\nerwarten kann: Zum einen tragen „Are You Still Alive“ und „Almost Invisible“ die für The Bony King\nof Nowhere klar zuzuordnende Handschrift aus sphärischen Klangpaletten (der Künstlername\nbasiert nicht umsonst auf einem Radiohead-Songtitel); zum anderen ergänzen sie den neuesten\nLongplayer durch viele weitere Nuancen und Details und machen Everybody Knows zu einem\ngroßartigen Gesamtwerk\, welches The Bony King of Nowhere in noch höhere künstlerische\nGefilde befördert. Themen wie der alltägliche Trott und blinde Gehorsam\, eingetretene\ngesellschaftliche Pfade und Verhaltensmuster\, die Ignoranz von sogenannten “Big Shots” sowie\ndie Nachteile von moderner Online-Kommunikation werden in den elf Tracks auf Everbody\nKnows inhaltlich behandelt. Von Beobachtungen verschiedener Soziolog:innen inspiriert\, seziert\nVanparys auf seinem neuen Longplayer die wohl einsamste Gesellschaft der bisherigen\nmenschlichen Geschichte. Doch regt das Album nicht nur zum Nachdenken an\, sondern schenkt\nauch Hoffnung und Kraft an grauen Tagen.
URL:https://www.gdanska.de/event/the-bony-king-of-nowhere-bel-indie-radar-ruhr/
LOCATION:Gdanska\, Altmarkt 3\, 46045 Oberhausen
CATEGORIES:INDIE RADAR RUHR,Konzerte
ATTACH;FMTTYPE=image/jpeg:https://www.gdanska.de/wp-content/uploads/2024/09/The-Bony-King-of-Nowhere-c-Eva-Donckers-1-e1714467461805-2048x1152-1.jpg
ORGANIZER;CN="INDIE RADAR RUHR":MAILTO:booking@indie-radar-ruhr.de
END:VEVENT
BEGIN:VEVENT
DTSTART;TZID=Europe/Berlin:20241105T200000
DTEND;TZID=Europe/Berlin:20241105T230000
DTSTAMP:20260421T134731
CREATED:20241024T190735Z
LAST-MODIFIED:20241024T190735Z
UID:10001396-1730836800-1730847600@www.gdanska.de
SUMMARY:GO MUSIC im November 2024
DESCRIPTION:GO MUSIC im November 2024 – Die ultimative Blues-Rock-Tournee! Freut euch auf ein unvergessliches Musikerlebnis mit hochkarätigen Künstlern wie Martin Engelien\, Christian Schwarzbach\, Jens Skwirblies und Sebastian Bauer. Ohne Proben\, aber voller Leidenschaft und Überraschungen bringen sie Blues-Rock vom Feinsten auf die Bühnen NRWs. Jeder Abend ist einzigartig\, mitreißend und „unvorherhörbar“. Ein Muss für alle Blues-Rock-Fans! \nGitarrissimo 901 – Go Music \nJens Skwirblies\nChristian Schwarzbach (Randy Hansen\, Bobby Kimball)\nMartin Engelien\nSebastian Bauer \nDienstag\, 05. November 2024\nBeginn: 20:15 Uhr\nEintrittspreis: 20 € \nRestaurant »Gdanska«\nAltmarkt 3\n46045 Oberhausen\nE-Mail: info@obsaitensprung.de
URL:https://www.gdanska.de/event/go-music-im-november-2024/
LOCATION:Gdanska\, Altmarkt 3\, 46045 Oberhausen
CATEGORIES:Gitarrissimo,Konzerte
ATTACH;FMTTYPE=image/jpeg:https://www.gdanska.de/wp-content/uploads/2024/10/gdanska_web.jpg
ORGANIZER;CN="Gitarrissimo":MAILTO:info@obsaitensprung.de
END:VEVENT
BEGIN:VEVENT
DTSTART;TZID=Europe/Berlin:20241107T200000
DTEND;TZID=Europe/Berlin:20241107T220000
DTSTAMP:20260421T134731
CREATED:20241001T102149Z
LAST-MODIFIED:20241001T102149Z
UID:10001384-1731009600-1731016800@www.gdanska.de
SUMMARY:Jazz - Karussell   Nita Aartsen
DESCRIPTION:Nita Aartsen IDN – Flügel\, Gesang\nAlexander Aartsen – IDN – Gesang\nMatthias Bergmann – D- Flügelhorn\, Trompete \nNita Aartsen ist eine sehr umtriebige und äußerst unterhaltsame Jazzpianistin aus Indonesien. Sie ist jedes Jahr auf Welttournee\, und das Jazz-Karussell Oberhausen erlebte die singende Pianistin schon in anderer Besetzung. Nun bringt sie mit Alexander Aartsen einen Sänger mit auf die Bühne. Der Mann mit der sonoren Stimme ist wie Nita früh dem Jazz verfallen und hat ein breites Repertoire anzubieten. Mit dem großartigen Matthias Bergmann an Flügelhorn und Trompete freuen wir uns auf einen lockeren Abend mit musikalischen Höhepunkten und spannenden Knistermomenten.\nNita Aartsen wurde von AMI zur besten weiblichen Jazzkünstlerin gewählt und tritt regelmäßig auf vielen asiatischen\, australischen\, US-amerikanischen und europäischen Jazzfestivals und in den internationalen Jazzclubs auf. Geboren in einer musikalischen Familie\, startete ihre Karriere im Alter von 17 Jahren als indonesische Staatspianistin. Über 30 Jahre lang hat sie ihr musikalisches Talent mit verschiedenen Künstlern geteilt\, Arrangements für Orchester und Bigband erstellt\, die internationale Jazz-Camp-Akademie in Indonesien ins Leben gerufen und mit vielen Promotern und Jazz-Institutionen auf der ganzen Welt zusammengearbeitet. In ihrer jetzigen Position als Botschafterin der Jazzkultur Indonesiens hilft sie vielen jungen Talenten international zu agieren. \n20:00 Uhr / 19:30 Einlass\nEintritt: 15\,- / 10\,- erm.
URL:https://www.gdanska.de/event/jazz-karussell-nita-aartsen/
LOCATION:Gdanska\, Altmarkt 3\, 46045 Oberhausen
CATEGORIES:Jazz,Konzerte
ATTACH;FMTTYPE=image/jpeg:https://www.gdanska.de/wp-content/uploads/2024/10/Bild1.jpg
ORGANIZER;CN="Jazzkarussell":MAILTO:eva.kurowski@t-online.de
END:VEVENT
BEGIN:VEVENT
DTSTART;TZID=Europe/Berlin:20241108T190000
DTEND;TZID=Europe/Berlin:20241108T210000
DTSTAMP:20260421T134731
CREATED:20240906T141323Z
LAST-MODIFIED:20240906T141354Z
UID:10001360-1731092400-1731099600@www.gdanska.de
SUMMARY:Lukas Rietzschel\, Raumfahrer - Literaturhaus
DESCRIPTION:Was haben Jan Nowak\, Krankenpfleger\, sein Vater und ein gehbehinderter Patient schon groß zu erwarten? Vom Leben inmitten einer Kleinstadt an der Grenze zu Polen. Das Krankenhaus kurz vor der Schließung\, die Stadt eine ziemliche Tristesse – kurz: Ein Ort im Osten Deutschlands in Nachwende-Zeiten. Was ihre Welt und all die ungestellten Fragen aus der Vergangenheit zu tun haben mit Georg Baselitz\, dem kopfstürzenden Maler\, seinen Bilderwelten\, was die Familien Nowak und Baselitz verknüpft\, das lässt Lukas Rietzschel seine Hauptfigur in sparsamer\, zu-gleich berührender Sprache vielschichtig und in großem Bogen entdecken und entfalten.\n„Raumfahrer“ ist der zweite Roman des 1994 in Räckelwitz bei Kamenz geborenen Autors\, der auch als Dramatiker arbeitet und heute in Görlitz lebt.\nFreitag\, 08. November 2024\, 19 Uhr (Einlass ab 18 Uhr)\nGdanska Theater\, Gutenbergstr. 8\, 46045 Oberhausen\nEintritt: 10 € (ermäßigt 5 €)
URL:https://www.gdanska.de/event/lukas-rietzschel-raumfahrer-literaturhaus/
LOCATION:Gdanska\, Altmarkt 3\, 46045 Oberhausen
CATEGORIES:Lesungen
ATTACH;FMTTYPE=image/jpeg:https://www.gdanska.de/wp-content/uploads/2024/09/Rietzschel-Lukas-c-Christine-Fenzl.jpg
END:VEVENT
BEGIN:VEVENT
DTSTART;TZID=Europe/Berlin:20241109T183000
DTEND;TZID=Europe/Berlin:20241109T220000
DTSTAMP:20260421T134731
CREATED:20241024T091523Z
LAST-MODIFIED:20241024T091523Z
UID:10001394-1731177000-1731189600@www.gdanska.de
SUMMARY:Allerheiligen Blueskonzert - Zaduszki bluesowe
DESCRIPTION:Allerheiligen Blueskonzert – Zaduszki bluesowe\n25 – lecie istnienia Grupy COMMUNA
URL:https://www.gdanska.de/event/allerheiligen-blueskonzert-zaduszki-bluesowe/
LOCATION:Gdanska\, Altmarkt 3\, 46045 Oberhausen
CATEGORIES:Konzerte,Veranstaltung in polnischer Sprache
ATTACH;FMTTYPE=image/jpeg:https://www.gdanska.de/wp-content/uploads/2024/10/Comuna.jpg
ORGANIZER;CN="Leonard Paszek":MAILTO:leonard.p@interia.pl
END:VEVENT
BEGIN:VEVENT
DTSTART;TZID=Europe/Berlin:20241110T170000
DTEND;TZID=Europe/Berlin:20241110T190000
DTSTAMP:20260421T134731
CREATED:20241028T103003Z
LAST-MODIFIED:20241106T194535Z
UID:10001399-1731258000-1731265200@www.gdanska.de
SUMMARY:"Teatr nasz" z Chicago prezentuje:(uwaga o godz. 17:00)
DESCRIPTION:TEATR NASZ z Chicago prezentuje:\nBogusław Schaeffer\nKwartet dla czterech aktorów\n______________________________________\nREŻYSER: Andrzej Krukowski przy współpracy członków teatru\nASYSTENT REŻYSERA: Aldona Olchowska\nPRODUKCJA: Akru Productions \n„Dzień dzielę na dwoje. Kiedy budzę się po popołudniowej drzemce\, zaczynam nowy dzień. Wyjątkiem jest oczywiście niedziela. Mój tydzień ma trzynaście dni”. – B. Schaeffer\nLegendarny już spektakl wybitnego dramaturga\, muzykologa i kompozytora Bogusława Schaeffera.\nW tym legendarnym scenariuszu pisanym w formie partytury autor nadał każdej scenie formę niezrealizowanej akcji\, w której aktorzy i widzowie mają określony czas na bycie ze sobą TU\ni TERAZ\, ale jak wypełnia się ten „logarytm” akcji\, zależy od aktorów-wykonawców. „Kwartet na czterech aktorów” to jeden z tych spektakli\, w których aktorzy starają się odpowiedzieć na fundamentalne pytania o istotę muzyki i sztuki\, o naszą duchowość\, o istnienie jednostki i jedność\nw wielości. Dialog między ludźmi odbywa się z trudem\, a nawet w cudowny sposób. \nWydarzenie finansowane ze środków Ministerstwa Spraw Zagranicznych RP we współpracy z Fundacją Polonii Świata przy Radzie Polonii Świata. Partnerzy projektu: Off Theater Zigarre przy Verein für Interkulturelle Projekte V.I.P. e.V. w Brunszwiku (Niemcy) oraz Teatr Nasz przy AKRU PRODUCTION INC. w Chicago (USA)
URL:https://www.gdanska.de/event/teatr-nasz-aus-chicago/
LOCATION:Gdanska\, Altmarkt 3\, 46045 Oberhausen
CATEGORIES:Theater,Veranstaltung in polnischer Sprache
ATTACH;FMTTYPE=image/jpeg:https://www.gdanska.de/wp-content/uploads/2024/10/f189f5d4-1dc8-4597-8cae-714e277888d2.jpeg
ORGANIZER;CN="Leonard Paszek":MAILTO:leonard.p@interia.pl
END:VEVENT
BEGIN:VEVENT
DTSTART;TZID=Europe/Berlin:20241113T190000
DTEND;TZID=Europe/Berlin:20241113T190000
DTSTAMP:20260421T134731
CREATED:20240906T141723Z
LAST-MODIFIED:20241007T095733Z
UID:10001361-1731524400-1731524400@www.gdanska.de
SUMMARY:Verführung zum Lesen - Literaturhaus
DESCRIPTION:Suchen Sie nach Anregungen für Ihre Lektüre-Abende? Fehlt Ihnen noch eine zündende Idee für ein Geschenk? Möchten Sie auch mal zwanglos mit uns über bestimmte Bücher reden?\n„Verführung zum Lesen“ will solchen Bedürfnissen Rechnung tragen. Im ersten Teil der Veranstaltung werden Gudrun Wermert-Heetderks und Heinz Schumacher neue und nicht mehr ganz so neue Bücher vorstellen\, die beide mit Vergnügen und Gewinn gelesen haben und für besonders empfehlenswert erachten.\nIm zweiten Teil\, nach der Pause\, werden zwei Bücher im Mittelpunkt stehen\, über die sich die Moderatoren im Gespräch austauschen. Diesmal sind es: Robert Seethaler: Das Café ohne Namen und Benedict Wells: Vom Ende der Einsamkeit. Dabei wird auch Interessenten aus dem Publikum Gelegenheit gegeben\, ihre Meinung zu den diskutierten Büchern einzubringen oder Fragen zu stellen.\nMittwoch\, 13. November 2024\, 19 Uhr (Einlass ab 18 Uhr)\nGdanska Theater\, Gutenbergstr. 8\, 46045 Oberhausen\nEintritt: 5 €
URL:https://www.gdanska.de/event/verfuehrung-zum-lesen-literaturhaus/
LOCATION:Gdanska Theater\, Gutenbergstraße 8\, Hofeinfahrt\, 46045 Oberhausen
CATEGORIES:Lesungen
ATTACH;FMTTYPE=image/jpeg:https://www.gdanska.de/wp-content/uploads/2024/09/Verfuehrung-zum-Lesen2-e1731232720237.jpg
ORGANIZER;CN="LITERATURHAUS Oberhausen":MAILTO:literaturhaus-oberhausen@gmx.de
END:VEVENT
BEGIN:VEVENT
DTSTART;TZID=Europe/Berlin:20241114T200000
DTEND;TZID=Europe/Berlin:20241114T220000
DTSTAMP:20260421T134731
CREATED:20240909T190714Z
LAST-MODIFIED:20241110T095730Z
UID:10001370-1731614400-1731621600@www.gdanska.de
SUMMARY:JESPER MUNK (DE/DK) - Indie-Radar-Ruhr
DESCRIPTION:Es gibt fast niemand in der deutschen Indieszene\, die/der noch nie etwas von ihm gehört hat. Aber: Wo soll man anfangen\, wie einordnen und wo aufhören? Aufgehört wird meist zum Schluss\, doch Jesper Munk ist noch lange nicht fertig\, ganz im Gegenteil. Mit seinen 31 Jahren hat sich für ihn die Suche nach der eigenen Klangwelt als erfolgreich erwiesen\, was bei Konzerten wie auf Platte deutlich zu hören ist. In den letzten 12 Jahren ist viel passiert und Jesper Munks Geschichte ist eine von vielen Auf und Abs\, von der bluesy Supernova zum zwar hippen aber unterschätzten Crooner\, vom Teenage-Posterboy zum etablierten und gestandenen Singer/Songwriter.esper Munk ! 2024 startet der in Berlin lebende Deutsch-Däne wieder durch und zwar in all seinen Facetten. So hat er sich\, vor allem zur großen Freude seiner Blues-Fans\, die er gleich zu Beginn seiner Karriere u.a. als Toursupport von Eric Burdon zu begeistern wusste\, mit Teilen seines Frühwerks versöhnt. Weswegen nun all jene wieder auf ihre Kosten kommen werden\, die Klassiker von „Morning Coffee“ über „Clean“ bis hin zu „Shakespeare And Heartbreak“ und „Courage For Love“ in den letzten Jahren auf seinen Konzerten schmerzlich vermissten. Insgesamt kann Jesper Munk auf etwas mehr als 40.000 verkaufte Tonträger zurückblicken und alleine beim Streaming-Monopolisten kommt er insgesamt auf 36 Mio. Streams\, bei heute noch knapp 150.000 monatlichen Hörer:innen und knapp 40.000 Followern.2019 gründete Jesper Munk die Post-Punk/Kink-Jazz-Underground-Band P.D.O.A. (Public Display Of Affection) mit und trat kurz darauf auch der Berliner Art-Noise-Kultband Plattenbau bei. Beide Bands hatten definitiv einen positiven Einfluss auf den musikalischen Horizont und die weitere Perspektive seiner Solo-Karriere.\nJesper Munk hat zudem ein neues Album aufgenommen. Nach dem hochgelobten Cover-Abum „Taped Heart Sounds“ diesmal aber wieder mit eigenem Songmaterial. Erscheinen wird „YESTERDAZE“ mit seiner filigran anmutenden\, die Seele und das Herz eines jeden Indie-Aficionados wärmenden Lo-Fi-to-Hi-Fi-Produktion\, die Jesper Munk dieses Mal selbst in die Hand genommen hat\, im Oktober 2024. Darauf ein bunter Crooner-Strauß irgendwo zwischen Jazz und New Wave\, Chanson\, balladeskem Blues und jeder Menge Soul. Zur Seite standen ihm erneut The Cassette Heads\, die ihn auch live auf Tour begleiten werden. \nJesper Munk\n14.11.2024\nGdanska Oberhausen\, Altmarkt 3\, 46045 Oberhausen\nEinlass: 19Uhr\nBeginn: 20Uhr
URL:https://www.gdanska.de/event/jesper-munk-de-dk-indie-radar-ruhr/
LOCATION:Gdanska\, Altmarkt 3\, 46045 Oberhausen
CATEGORIES:INDIE RADAR RUHR,Konzerte
ATTACH;FMTTYPE=image/jpeg:https://www.gdanska.de/wp-content/uploads/2024/09/Jesper-Munk-3-by-Julio-Cordey-scaled-1-e1731232636848.jpg
ORGANIZER;CN="INDIE RADAR RUHR":MAILTO:booking@indie-radar-ruhr.de
END:VEVENT
BEGIN:VEVENT
DTSTART;TZID=Europe/Berlin:20241119T180000
DTEND;TZID=Europe/Berlin:20241119T193000
DTSTAMP:20260421T134731
CREATED:20241028T100626Z
LAST-MODIFIED:20241028T100626Z
UID:10001398-1732039200-1732044600@www.gdanska.de
SUMMARY:Wissenschaft im Wirtshaus
DESCRIPTION:Digitale Handelsstandorte – Innenstädte vitalisieren?\nVortragsreihe des Wissenschaftsforums Ruhr e. V. und der OWT Oberhausener Wirtschafts- und Tourismusförderung GmbH\nAusschlaggebend für den Besuch der Innenstadt ist der Einkaufsbummel. Dennoch sinken die Frequenzen und führen somit zu Umsatzverlusten. Um diesen Trend zu stoppen und die Innenstädte am Leben zu halten\, gilt es attraktive Angebote zu schaffen\, die die Besucher:innen zurück lotsen. Der stationäre Handel und weitere Akteure der Stadt sind hier gefordert. Anhand von Theorie und Praxis wagen wir einen Blick auf die Oberhausener Innenstadt und ihre zukünftigen Entwicklungsperspektiven.\nDazu freuen wir uns auf Vortrag und Diskussion mit Alexander Weßling aus dem Mittelstand- Digital Zentrum Handel in Köln.
URL:https://www.gdanska.de/event/wissenschaft-im-wirtshaus-4/
LOCATION:Gdanska\, Altmarkt 3\, 46045 Oberhausen
CATEGORIES:Sonstige Veranstaltungen
ATTACH;FMTTYPE=image/jpeg:https://www.gdanska.de/wp-content/uploads/2024/10/poster_WimW-Einzelhandel_digitalisieren_19_11_24.jpg
ORGANIZER;CN="OWT Oberhausener Wirtschafts- und Tourismusf%C3%B6rderung GmbH":MAILTO:0208 85036-28
END:VEVENT
BEGIN:VEVENT
DTSTART;TZID=Europe/Berlin:20241121T200000
DTEND;TZID=Europe/Berlin:20241121T220000
DTSTAMP:20260421T134731
CREATED:20241001T102553Z
LAST-MODIFIED:20241001T102553Z
UID:10001385-1732219200-1732226400@www.gdanska.de
SUMMARY:Jazz-Karussell Padi Orchestra
DESCRIPTION:Milli Häuser\, voc\, comp & more | Uwe Kellerhoff\, dr\, comp & more\nClive Fenton\, Sousaphone & Flügelhorn | Martin Buschmann\, Steelpan & Saxophon\nBirgit Froese\, surdos\, timales & perc | Caetano Ruin\, congas\, key | Matthias Dymke\, p\nDas PADI Orchestra macht »Global Music«\nEin perfekter Konzertabend für weltoffene Musikfans. Sieben großartige Musiker:innen aus drei Ländern präsentieren einen pulsierenden Klangkosmos\, der mit musikalischer Finesse und genreübergreifender Kreativität die Grenzen sprengt. Aus westafrikanischen\, afrokubanischen\, brasilianischen\, karibischen\, oder Reggae-Grooves gespickt mit Jazz Interpretationen\, entsteht\nein eindrucksvolles Erlebnis: mitreißend\, bewegend\, in die Beine gehend und mitten ins\nHerz. Kurz\, Musik die glücklich macht. Die internationalen Grooves bilden die Grundlage für\ndie Songs. Es gibt Bekanntes\, aber vor allem eigene Kompositionen aus der Feder von\nBandgründer und Drummer Uwe Kellerhoff und Sängerin Milli Häuser. Es gibt fulminante\,\ntrickreiche Percussion-Arrangements im Wechsel mit eingängigen\, tanzbaren Songs und\nvirtuosen Soli.\nGeschichte: Initiiert und gegründet wurde das Padi Orchestra von Preisträger\, Schlagzeuger\,\nPerkussionist und Komponist Uwe Kellerhoff. Entstanden ist das Ensemble mit geflüchteten\nMusiker:innen aus neun verschiedenen Ländern. Dann kamen schnell weitere einheimische\nMusiker:innen dazu. Das Ensemble spielte in bis zu 24 köpfiger Besetzung bei vielen Events\nu.a. Ruhr International\, Beethoven-Tage Bonn\, Ruhrfestspiele Recklinghausen. Durch\nden Einschnitt mit Corona\, zerfiel das große Ensemble und bildet nun ein Neues mit sieben\nprofessionelle Musiker:innen. https://milli-haeuser.de/projekte/padi-orchestra/\n20:00 Uhr / 19:30 Einlass         Eintritt: 15\,- / 10\,- erm.
URL:https://www.gdanska.de/event/jazz-karussell-padi-orchestra/
LOCATION:Gdanska\, Altmarkt 3\, 46045 Oberhausen
ATTACH;FMTTYPE=image/jpeg:https://www.gdanska.de/wp-content/uploads/2024/10/Bild2.jpg
ORGANIZER;CN="Jazzkarussell":MAILTO:eva.kurowski@t-online.de
END:VEVENT
BEGIN:VEVENT
DTSTART;TZID=Europe/Berlin:20241122T190000
DTEND;TZID=Europe/Berlin:20241122T210000
DTSTAMP:20260421T134731
CREATED:20240906T143501Z
LAST-MODIFIED:20241007T094932Z
UID:10001362-1732302000-1732309200@www.gdanska.de
SUMMARY:Marion Poschmann\, Chor der Erinnyen - Literaturhaus
DESCRIPTION:Marion Poschmann präsentiert uns nach ihrem Erfolgsroman “Die Kieferninseln” ihr neues Buch\, in dem sich erneut durch einen mehrdimensionalen Erzählraum neue Horizonte auftun. Wir erleben drei Frauen\, die sich an einem gemeinsamen Wochenende in einer Hütte gegenseitig „auf die Nerven gehen“. Für die Protagonistin Matilda\, die gerade von ihrem Mann verlassen wurde und deren Mutter ihr ebenfalls zusetzt\, ist das keine große Hilfe\, um mit ihren diffusen Zuständen klarzukommen. Zusätzlich zieht ein gigantischer Sturm auf – real und im übertragenen Sinn. Ein bisschen Geistergeschichte\, ein bisschen griechische Mythologie\, ein bisschen feministischer Befreiungskampf\, alles in einem reduzierten und gleichzeitig hochpoetischen Tonfall geschrieben\, der das Buch zum „Kleinod“ werden lässt\, so die Kritik.\nMarion Poschmann kommt zum zweiten Mal zu uns. Sie wurde 1969 in Essen geboren\, studierte Germanistik\, Philosophie und Slawistik in Bonn und Berlin. 2005 erhielt sie den Literaturpreis Ruhrgebiet für ihr Gesamtwerk. Marion Poschmann lebt in Berlin.\nFreitag\, 22. November 2024\, 19 Uhr (Einlass ab 18 Uhr)\nGdanska Theater\, Gutenbergstr. 8\, 46045 Oberhausen\nEintritt: 10 € (ermäßigt 5 €)
URL:https://www.gdanska.de/event/marion-poschmann-chor-der-erinnyen-literaturhaus/
LOCATION:Gdanska Theater\, Gutenbergstraße 8\, Hofeinfahrt\, 46045 Oberhausen
CATEGORIES:Lesungen
ATTACH;FMTTYPE=image/jpeg:https://www.gdanska.de/wp-content/uploads/2024/09/Marion-Poschmann-c-Heike-Steinweg-hoch-1.jpg
ORGANIZER;CN="LITERATURHAUS Oberhausen":MAILTO:literaturhaus-oberhausen@gmx.de
END:VEVENT
BEGIN:VEVENT
DTSTART;TZID=Europe/Berlin:20241123T180000
DTEND;TZID=Europe/Berlin:20241123T220000
DTSTAMP:20260421T134731
CREATED:20241014T135123Z
LAST-MODIFIED:20241014T135841Z
UID:10001392-1732384800-1732399200@www.gdanska.de
SUMMARY:Benefizkonzert für die Flutopfer in Polen
DESCRIPTION:Milliardenschäden hat das Hochwasser in Polen eingerichtet.\nStark geschädigt vom Hochwasser bereitet sich Polen langsam auf den Wiederaufbau zerstörter Gebiete vor.\nDie Not der Menschen ist unvorstellbar.\nJeder einzelne Betrag\, den wir für die Flutopfer spenden\, ist von großer Bedeutung.\nWir wollen auch nicht tatenlos zusehen. Die Musiker spielen und singen für die notbedürftigen Menschen in unserem Heimatland.
URL:https://www.gdanska.de/event/konzert-zu-gunsten-der-hochwasseropfer-in-polen/
LOCATION:Gdanska\, Altmarkt 3\, 46045 Oberhausen
CATEGORIES:Konzerte
ATTACH;FMTTYPE=image/jpeg:https://www.gdanska.de/wp-content/uploads/2024/10/koncert-charytatywny-23.11.24-2.jpg
END:VEVENT
BEGIN:VEVENT
DTSTART;TZID=Europe/Berlin:20241124T080000
DTEND;TZID=Europe/Berlin:20241124T170000
DTSTAMP:20260421T134731
CREATED:20241121T093950Z
LAST-MODIFIED:20241121T093950Z
UID:10001402-1732435200-1732467600@www.gdanska.de
SUMMARY:PREMIERA "Na pełnym morzu"\, dwa przedstawienia o 16:00 i 18:30
DESCRIPTION:Na pełnym morzu – jednoaktowa sztuka teatralna autorstwa Sławomira Mrożka; inscenizacja Teatru Polonijnego Gdanska w Oberhausen.\nGłównymi bohaterami dramatu są trzej rozbitkowie\, dryfujący na tratwie na tytułowym pełnym morzu. Odkrywają\, że wyczerpały się już całe zapasy żywności\, a są bardzo głodni. Postanawiają zatem\, że jeden z nich zostanie posiłkiem dla dwóch pozostałych. Naturalnie żaden z nich nie chce zostać zjedzony\, dlatego szukają sposobu\, jak wyłonić tę osobę. Najpierw rozważają losowanie\, ale szybko odrzucają ten pomysł. Potem postanawiają przeprowadzić wybory\, poprzedzone wiecowymi przemówieniami każdego z nich. Gdy głosowanie okazuje się być nieważnym (bo choć było tylko trzech głosujących\, oddano cztery głosy)\, dwaj spośród nich próbują wywrzeć moralną i psychologiczną presję na tego trzeciego\, aby zgodził się zostać ich posiłkiem. \nBILETY  NA PRZEDSTWIENIE o godz. 16:00 są już niestety wysprzedane. 
URL:https://www.gdanska.de/event/premiera-na-pelnym-morzu-dwa-przedstawienia-o-1600-i-1830/
LOCATION:Gdanska Theater\, Gutenbergstraße 8\, Hofeinfahrt\, 46045 Oberhausen
CATEGORIES:Theater,Veranstaltung in polnischer Sprache
ATTACH;FMTTYPE=image/jpeg:https://www.gdanska.de/wp-content/uploads/2024/11/Premiere.jpg
ORGANIZER;CN="Leonard Paszek":MAILTO:leonard.p@interia.pl
END:VEVENT
BEGIN:VEVENT
DTSTART;TZID=Europe/Berlin:20241127T190000
DTEND;TZID=Europe/Berlin:20241127T203000
DTSTAMP:20260421T134731
CREATED:20240907T103146Z
LAST-MODIFIED:20241110T095615Z
UID:10001364-1732734000-1732739400@www.gdanska.de
SUMMARY:Literarischer Treff im Literaturkeller Jonas Lüscher\, Frühling der Barbaren
DESCRIPTION:Ein neues (altes) Konzept wird im Literaturhaus wiedergeboren und weiterentwickelt. An jedem letzten Mittwoch im Monat gibt es im Literaturkeller einen Treffpunkt für literarisch interessierte Menschen. Fester Programmpunkt ist das Gespräch über ein konkretes Buch und den Autor/die Autorin (Monatsschwerpunkte siehe unten) – mal aktuell\, mal klassisch\, mal ein Sachbuch\, mal ein Roman\, ein Erzählband oder Lyrik. Schön wäre natürlich\, wenn einige das Buch schon gelesen hätten. Darüber hinaus ist das Gespräch über weitere Literatur\, Autorinnen und Autoren genauso möglich wie der Austausch über die Aktivitäten des Literaturhauses\, Anregungen\, Pläne\, Projekte\, Utopien usw.\nBei einem Glas Wein oder einer Tasse Tee ist ein geselliger Rahmen für die Kultur des geschriebenen und gesprochenen Wortes geschaffen.\nMittwoch\, ab 19 Uhr\n30. Oktober: Ulrike Herrmann\, Das Ende des Kapitalismus (Gesprächsleitung Rainer Piecha)\n27. November: Jonas Lüscher\, Frühling der Barbaren (Gesprächsleitung Heinz Schumacher) \nReservierung über www.literaturhaus-oberhausen.de\nGdanska Theater: Eingang im Hof\, Zugang von der Gutenbergstr. 8\, 46045 Oberhausen
URL:https://www.gdanska.de/event/literarischer-treff-im-literaturkeller-ulrike-herrmann-das-ende-des-kapitalismus/
LOCATION:Literatur Keller\, Zugang Gutenbergstr. 8\, Oberhausen\, DE\, 46045\, Deutschland
CATEGORIES:Lesungen
ATTACH;FMTTYPE=image/jpeg:https://www.gdanska.de/wp-content/uploads/2024/09/Luescher-Fruehling-der-Barbaren-e1731232562841.jpg
ORGANIZER;CN="LITERATURHAUS Oberhausen":MAILTO:literaturhaus-oberhausen@gmx.de
END:VEVENT
BEGIN:VEVENT
DTSTART;TZID=Europe/Berlin:20241128T200000
DTEND;TZID=Europe/Berlin:20241128T220000
DTSTAMP:20260421T134731
CREATED:20241016T092337Z
LAST-MODIFIED:20241122T174447Z
UID:10001393-1732824000-1732831200@www.gdanska.de
SUMMARY:Piotr Wylezol und Szymon Mika "Laut-Stille"- Jazz-Karussell (G+G Konzert)
DESCRIPTION:Wyleżoł / Mika „Laut Stille“ \nPiotr Wyleżoł – Klavier\nSzymon Mika – Gitarre \nDer Pianist Piotr Wyleżoł und der Gitarrist Szymon Mika gehören zu den herausragendsten Jazzmusikern Europas. Sie arbeiten seit vielen Jahren zusammen und bereisen die Bühnen Polens und der Welt mit ihren eigenen Projekten und Kompositionen anderer Künstler.\nunter anderem mit Jeff Ballard\, Yumi Ito\, Andy Middleton\, Dayna Stephens und vielen anderen. Auf dem Album „Loud Silence“ präsentieren sie im kammermusikalischen\, intimen Format und mit dem akustischen Klang von Klavier und Gitarre ihre eigene Musik\, die stark im weit gefassten Jazz verwurzelt ist und ihr ihren ganz eigenen Klang und Charakter verleiht. Das Album enthält auch einige der berühmtesten Jazzstandards aller Zeiten: Take Five und Stella von Starlight in einer einzigartigen Interpretation. Die Kompositionen sind auch Ausgangspunkt für spontane und überraschende Improvisationen\, die ein fast intuitives Verständnis zwischen den Künstlern zeigen.\nDie Künstler selbst haben einen Kommentar zum Album „Loud Silence“ hinzugefügt.\n„Wir präsentieren Ihnen ein Album\, das für uns etwas Besonderes ist. Ein Album\, das viele Emotionen\, Ängste und Hoffnungen sammelt und zum Ausdruck bringt\, die uns während der Covid-Pandemie in den Jahren 2020–2021 begleiten. Die meisten Kompositionen sind damals entstanden und beim Musizieren zu Hause während dieser Zeit.“ Der Lockdown und die Ungewissheit über morgen werden „es uns sicherlich geholfen haben\, diese schwierige Zeit für Künstler zu überstehen. Eine Art Zeit des ‚Testens‘\, des Schauens in uns selbst und des Nachdenkens über die Rolle und Bedeutung der Musik in unserem Leben.“ \nDas in den letzten Dezemberwochen veröffentlichte Album „Loud Silence“ wurde von polnischen und ausländischen Kritikern sofort geschätzt und in mehrere Listen zu den besten europäischen Jazzalben des Jahres 2022 aufgenommen (jazz-fun.de\, allaboutjazz.com)! \n„Loud Silence ist eine herausragende Darstellung sowohl der individuellen Talente als auch der Teamarbeit zweier hochkarätiger Jazzmusiker\, die von Anfang bis Ende ein Vergnügen ist.“ ..Adam Baruch\n„Zwei großartige Instrumentalisten\, zwei unterschiedliche Persönlichkeiten haben ein wunderschönes Album geschaffen\, stimmig in Komposition und Klang.“ .. jazzfun.de\nhttps://open.spotify.com/album/4cZ9Kcj9uI5nFR93RLdkL2?si=1Rbm4nJqRCOsV5OtciSctA
URL:https://www.gdanska.de/event/piotr-wylezol-und-szymon-mika-laut-stille-jazz-karussell/
LOCATION:Gdanska\, Altmarkt 3\, 46045 Oberhausen
CATEGORIES:Jazz,Konzerte
ATTACH;FMTTYPE=image/jpeg:https://www.gdanska.de/wp-content/uploads/2024/10/Wylezol-Mika-foto-1.jpg
END:VEVENT
END:VCALENDAR