BEGIN:VCALENDAR
VERSION:2.0
PRODID:-//Gdanska - ECPv6.15.20//NONSGML v1.0//EN
CALSCALE:GREGORIAN
METHOD:PUBLISH
X-WR-CALNAME:Gdanska
X-ORIGINAL-URL:https://www.gdanska.de
X-WR-CALDESC:Veranstaltungen für Gdanska
REFRESH-INTERVAL;VALUE=DURATION:PT1H
X-Robots-Tag:noindex
X-PUBLISHED-TTL:PT1H
BEGIN:VTIMEZONE
TZID:Europe/Berlin
BEGIN:DAYLIGHT
TZOFFSETFROM:+0100
TZOFFSETTO:+0200
TZNAME:CEST
DTSTART:20230326T010000
END:DAYLIGHT
BEGIN:STANDARD
TZOFFSETFROM:+0200
TZOFFSETTO:+0100
TZNAME:CET
DTSTART:20231029T010000
END:STANDARD
BEGIN:DAYLIGHT
TZOFFSETFROM:+0100
TZOFFSETTO:+0200
TZNAME:CEST
DTSTART:20240331T010000
END:DAYLIGHT
BEGIN:STANDARD
TZOFFSETFROM:+0200
TZOFFSETTO:+0100
TZNAME:CET
DTSTART:20241027T010000
END:STANDARD
BEGIN:DAYLIGHT
TZOFFSETFROM:+0100
TZOFFSETTO:+0200
TZNAME:CEST
DTSTART:20250330T010000
END:DAYLIGHT
BEGIN:STANDARD
TZOFFSETFROM:+0200
TZOFFSETTO:+0100
TZNAME:CET
DTSTART:20251026T010000
END:STANDARD
END:VTIMEZONE
BEGIN:VEVENT
DTSTART;TZID=Europe/Berlin:20241204T190000
DTEND;TZID=Europe/Berlin:20241204T210000
DTSTAMP:20260421T151939
CREATED:20241204T104002Z
LAST-MODIFIED:20241204T104049Z
UID:10001404-1733338800-1733346000@www.gdanska.de
SUMMARY:Infoabend MARKTSTRASSE im Wirtshaus
DESCRIPTION:Liebe Freund*innen der Stadterneuerung Brückenschlag\,\nim Rahmen unserer Vorbereitungstreffen für die konkrete Planung des Umbaus der Marktstraße möchten wir gerne im Gdanska\nüber die Ideen zum Umbau der Marktstraße berichten und darüber diskutieren.
URL:https://www.gdanska.de/event/infoabend-marktstrasse-im-wirtshaus/
LOCATION:Gdanska\, Altmarkt 3\, 46045 Oberhausen
CATEGORIES:Sonstige Veranstaltungen
ATTACH;FMTTYPE=image/jpeg:https://www.gdanska.de/wp-content/uploads/2024/12/Marktstrasse-im-Wirtshaus_Plakat_A3-2.jpg
END:VEVENT
BEGIN:VEVENT
DTSTART;TZID=Europe/Berlin:20241205T200000
DTEND;TZID=Europe/Berlin:20241205T220000
DTSTAMP:20260421T151939
CREATED:20241001T103016Z
LAST-MODIFIED:20241001T103016Z
UID:10001386-1733428800-1733436000@www.gdanska.de
SUMMARY:Jazz-Karussell Kristin Korb – SABAKO „ Sweet Dreams“
DESCRIPTION:Kristin Korb\, Gesang und Kontrabass\nMartin Sasse\, Flügel\nPeter Baumgärtner\, Schlagzeug\nKRISTIN KORB HAUCHT EURYTHMICS-KLASSIKERN NEUES LEBEN EIN!\n„SWEET DREAMS“ ALBUM ERSCHEINT AM 25. OKTOBER.\n„Sie hat eine Art\, alles zu nehmen und es cool klingen zu lassen!“\n– Londoner Jazz Nachrichten\nHier kommen die kultigen Klänge der 80er Jahre mit der amerikanischen Jazz-Sängerin/Bassistin Kristin Korb im Trio mit Martin Sasse und Peter Baumgärtner.\nMTV und die innovativen Klänge der Eurythmics lieferten den Soundtrack zu Kristin Korbs Teenager Jahren. Der kraftvolle Gesang und die eindrucksvollen Bilder von Annie Lennox waren nicht zu überhören und hinterließen einen bleibenden Eindruck. Jetzt bringt Kristin Korb ihre einzigartige Kunstfertigkeit in diese zeitlosen Hits ein und verbindet ihre Fähigkeiten als Bassistin und Sängerin\, um bezaubernde Interpretationen zu schaffen\, die die Originale ehren und gleichzeitig ihre persönliche Verbindung zu Annie und der Musik der Band zum Ausdruck bringt.\nEINE JAZZ-REISE DURCH DIE GRÖSSTEN HITS VON EURYTHMIC – Süße Träume\nDas Album ist mehr als nur ein Coveralbum. Kristin Korb interpretiert die Eurythmics-Klassiker durch ihre vom Jazz geprägte Brille neu und verwebt sie zu lebendigen neuen Arrangements und Interpretationen.\nKristin Korb\, voc./b\nKristin studierte Musik am Eastern Montana College und machte ihren Master in Klassischer Bass Performance an der University of California in San Diego. Während ihres Studiums wurde sie von ihrem Professor Bertram Turetzky ermuntert gleichzeitig zu singen und Bass zu spielen. Weiterhin studierte sie unter Ray Brown\, mit dem sie 1996 ihre erste Aufnahme Introducing Kristin Korb with the Ray Brown Trio veröffentlichte. Kristin unterrichtete Gesang und Bass an den großen Universitäten Amerikas. Sie tourte weltweit mit Jazz-Künstlern wie zum Beispiel Llew Matthews\, Kim Richmond\, Pete Christlieb\, Jeff Hamilton\, Alex Riel und Jan Lundgren und lebt heute in Dänemark. www.kristinkorb.com\nMartin Sasse\, Flügel\nMartin Sasse hat im Laufe seiner Bühnenkarriere mit nahezu allen Größen im internationalen Jazz zusammengearbeitet und zählt lange schon selbst zu den herausragenden Jazz-Pianisten in Europa. Er hat an die dreißig Alben unter eigenem Namen veröffentlicht und spielt als Gast auf zahllosen Aufnahmen und bei Konzerten weltweit. Legenden des Jazz prägen und prägten seinen Weg. Martin Sasse studierte klassisches Klavier in Essen und Jazzpiano an der Musikhochschule in Köln. Seit Frühjahr 2024 ist Martin Sasse Professor für Jazzklavier an der Folkwang-Universität der Künste in Essen. Glückwunsch! www.martinsasse.de\nPeter Baumgärtner\, dr\nDer gebürtige „Schwarzwälder“ aus St. Georgen lebt seit 40 Jahren in NRW. In die Landeshauptstadt zog es ihn durch ein Engagement im Düsseldorfer „Kommödchen“. Dort war er drei Jahre festes Ensemblemitglied und arbeitete u.a. mit Lore Lorentz\, Thomas Freitag\, Harald Schmidt\, Michael Quast u.v.a. zusammen. Außerdem war er Drummer der Europaproduktion des Musicals „Hair“\, begleitete große Varietékünstler im Tigerpalast Frankfurt und begleitete Produktionen im Schillertheater NRW und am Düsseldorfer Schauspielhaus. Er studierte an der Swiss Jazz School bei Billy Brooks und spielte unzählige Konzerte mit den vielen Großen der Szene. www.peterbaumgaertner.com\nRestaurant Gdanska\, Altmarkt3\, Oberhausen\n20:00 Uhr / 19:30 Einlass / Eintritt: 15\,- / 10\,- erm.
URL:https://www.gdanska.de/event/jazz-karussell-kristin-korb-sabako-sweet-dreams/
LOCATION:Gdanska\, Altmarkt 3\, 46045 Oberhausen
CATEGORIES:Jazz
ATTACH;FMTTYPE=image/jpeg:https://www.gdanska.de/wp-content/uploads/2024/10/Bild3-scaled.jpg
ORGANIZER;CN="Jazzkarussell":MAILTO:eva.kurowski@t-online.de
END:VEVENT
BEGIN:VEVENT
DTSTART;TZID=Europe/Berlin:20241206T190000
DTEND;TZID=Europe/Berlin:20241206T210000
DTSTAMP:20260421T151939
CREATED:20240907T102721Z
LAST-MODIFIED:20240907T102721Z
UID:10001363-1733511600-1733518800@www.gdanska.de
SUMMARY:Lisa Palmes liest: Joanna Bator\, Bitternis - Literaturhaus
DESCRIPTION:Joanna Bator erzählt von fünf Generationen Frauen in Niederschlesien\, ihren Lebensentwürfen und deren Scheitern in der Zeit von 1938 bis zur Gegenwart. Angst\, Zorn und Bitternis sind das Resultat\, das nicht ohne Folgen bleibt. Erst die jüngste Frau\, Kalina\, bringt ihre Vorfahren zum Reden und versucht so\, dem verhängnisvollen Kreislauf zu entkommen und das Glück zu finden\, nach dem die Frauen ihrer Familie immer – vergeblich – gesucht haben. Und die Männer? „Die Männer kamen abhanden – ob sie nun starben oder verschwanden“. Sie sind gleichsam nur als Leerstelle existent.\nGelesen wird der Roman von Lisa Palmes\, die den Text ins Deutsche übersetzt hat – im intensiven Dialog mit der Autorin. Lisa Palmes ist für ihre Übersetzungen schon mehrfach ausgezeichnet worden und war mit der von „Bitternis“ für den Preis der Leipziger Buchmesse 2023 nominiert.\nFreitag\, 6. Dezember 2024\, 19 Uhr (Einlass ab 18 Uhr)\nGdanska Theater\, Gutenbergstr. 8\, 46045 Oberhausen\nEintritt: 10 € (ermäßigt 5 €)
URL:https://www.gdanska.de/event/lisa-palmes-liest-joanna-bator-bitternis-literaturhaus/
LOCATION:Gdanska Theater\, Gutenbergstraße 8\, Hofeinfahrt\, 46045 Oberhausen
CATEGORIES:Lesungen
ATTACH;FMTTYPE=image/jpeg:https://www.gdanska.de/wp-content/uploads/2024/09/Lisa-Palmes.jpg
ORGANIZER;CN="LITERATURHAUS Oberhausen":MAILTO:literaturhaus-oberhausen@gmx.de
END:VEVENT
BEGIN:VEVENT
DTSTART;TZID=Europe/Berlin:20241210T200000
DTEND;TZID=Europe/Berlin:20241210T230000
DTSTAMP:20260421T151939
CREATED:20241024T191226Z
LAST-MODIFIED:20241110T095450Z
UID:10001397-1733860800-1733871600@www.gdanska.de
SUMMARY:GO MUSIC'S ROCKIN XMAS
DESCRIPTION:Weinachten Rockt!\nEintrittspreis im Vorverkauf oder bei Reservierungen 26 €\nAbendkasse 29 €
URL:https://www.gdanska.de/event/go-musics-rockin-xmas/
LOCATION:Gdanska\, Altmarkt 3\, 46045 Oberhausen
CATEGORIES:Gitarrissimo,Konzerte
ATTACH;FMTTYPE=image/jpeg:https://www.gdanska.de/wp-content/uploads/2024/10/gdanska_2024.jpg
END:VEVENT
BEGIN:VEVENT
DTSTART;TZID=Europe/Berlin:20241213T200000
DTEND;TZID=Europe/Berlin:20241213T220000
DTSTAMP:20260421T151939
CREATED:20241207T114948Z
LAST-MODIFIED:20241207T115037Z
UID:10001405-1734120000-1734127200@www.gdanska.de
SUMMARY:BEZ IDOLA -Muzyka stanu wojennego
DESCRIPTION:W piątek 13 grudnia w 43. rocznicę wprowadzenia w Polsce stanu wojennego na scenie teatralnej restauracji odbędzie sie Koncert Piosenki Zaangażowanej w wykonaniu zespołu „Bez Idola”.  Zespół powstał wiosną 1981 roku. Jego członkowie wywodzili się w większości z toruńsko-bydgoskich środowisk akademickich. Przez wiele lat istnienia zespół zdobył wiele cennych nagród na festiwalach piosenki studenckiej oraz turystycznej. Do najważniejszych można zaliczyć Giełdę Piosenki w Szklarskiej Porębie\, Yapę w Łodzi\, czy Bazunę. \nWażnym wydarzeniem w życiu zespołu był stan wojenny. W tym okresie do repertuaru włączono piosenki o wydźwięku wyraźnie politycznym. Utwory takie jak: „Staruszka”\, „Reżymowe tango”\, „Ballada o zomuraju”\, „Przeszukanie” czy „Modlitwa internowanych” stały się wizytówką zespołu w tamtym ponurym czasie. \nMuzycy przez ponad 40 lat działalności ukształtowali własny styl oparty na kilku wokalach i akompaniamencie gitarowym. Dziś bazuje przede wszystkim na własnym repertuarze. Autorem większości tekstów jest Andrzej Marek Michorzewski. Muzykę do nich od wielu lat pisze Roman Uske. \nDo najbardziej popularnych utworów należą: „Marzec`88”\, „Hania i Emil”\, „Nostalgia\, a kiszone ogórki”\, „Dziewczyna z czarnym parasolem”\, „Ludzie są podli”\, „W tym domu zapłakanym” czy „Hotel Ukraina”. Wszystkie je będzie można usłyszeć podczas koncertu w Oberhausen. \nZapraszamy!
URL:https://www.gdanska.de/event/bez-idola-muzyka-stanu-wojennego/
LOCATION:Gdanska Theater\, Gutenbergstraße 8\, Hofeinfahrt\, 46045 Oberhausen
CATEGORIES:Konzerte,Veranstaltung in polnischer Sprache
ATTACH;FMTTYPE=image/jpeg:https://www.gdanska.de/wp-content/uploads/2024/12/13.-grudnia-1.jpg
ORGANIZER;CN="Leonard Paszek":MAILTO:leonard.p@interia.pl
END:VEVENT
BEGIN:VEVENT
DTSTART;TZID=Europe/Berlin:20241217T193000
DTEND;TZID=Europe/Berlin:20241217T210000
DTSTAMP:20260421T151939
CREATED:20241214T121701Z
LAST-MODIFIED:20241214T121709Z
UID:10001407-1734463800-1734469200@www.gdanska.de
SUMMARY:Beatkeller-Geschichten - Gitarrissimo
DESCRIPTION:Gitarrissimo 905 – Beatkeller-Geschichten\nBeatkeller-Geschichten \nDienstag\, 17. Dezember 2024\nBeginn: 19:30 Uhr\nEintrittspreis: 10 € \nRestaurant »Gdanska«\nAltmarkt 3\n46045 Oberhausen\nE-Mail: info@obsaitensprung.de
URL:https://www.gdanska.de/event/beatkeller-geschichten-gitarrissimo-5/
LOCATION:Literatur Keller\, Zugang Gutenbergstr. 8\, Oberhausen\, DE\, 46045\, Deutschland
CATEGORIES:Gitarrissimo
ATTACH;FMTTYPE=image/jpeg:https://www.gdanska.de/wp-content/uploads/2024/12/beatkeller-17.12.2024.jpg
ORGANIZER;CN="Gitarrissimo":MAILTO:info@obsaitensprung.de
END:VEVENT
BEGIN:VEVENT
DTSTART;TZID=Europe/Berlin:20241219T200000
DTEND;TZID=Europe/Berlin:20241219T220000
DTSTAMP:20260421T151939
CREATED:20241001T103354Z
LAST-MODIFIED:20241001T103354Z
UID:10001387-1734638400-1734645600@www.gdanska.de
SUMMARY:Jazz-Karussell Matthias Schriefl - Moving Krippenspielers
DESCRIPTION:Matthias Schriefl (DE\, Trompete\, Flügelhorn\, Baritonsaxofon\, Altsaxofon\, Akkordeon\, Alphorn\, Posaune\, Pikkolotrompete\, Gesang)\nZuzanna Leharová (AUS\, Violine\, Flügelhorn\, Akkordeon\, Blockflöte\, Gesang)\nSimon Rummel (DE\, Viola\, Keyboard\, Klavier\, Melodika\, Euphonium\, Blockflöte\, Gesang)\nJohannes Bär (AUS\, (Tuba\, Klarinette\, Posaune\, Euphonium\, Trompete\, Flügelhorn\, Pikkolotrompete\, Alphorn\, Beatbox\, Gesang)\nKalle Mathiesen (DK\, Drums\, E-Bass\, Gitarre\, Gesang)\nDie Moving Krippenspielers sind mittlerweile eine angesehene Kult-Band. Nach einem Jahr Aussetzen\, können sich die Fans auf ein Wiedersehen beim Jazz-Karussell freuen. So gibt es nicht nur ein völlig neues Krippenspiel und neue Weihnachts-Lieder-Arrangements zu hören\, sondern dieses Jahr kennt Besinnlichkeit schier gar kein Erbarmen mehr.\nEs wird wieder heimelig musikalisch und ungezügelt anarchisch mit exotischem Lebkuchen-Aroma.\nFünf hochbegabte Vollblutmusiker in avantgardistischer Garderobe\, rund dreißig Instrumente\, Weihnachtslieder\, Gesang und ein paar Volkstänze – das sind die Zutaten für dieses zeitlos-neuartige Krippenspiel.\nVolksgut trifft Jazz trifft Balkan trifft Calypso trifft Funk trifft Punk trifft Klassik trifft Reggae trifft Disco-Beat trifft Avantgarde trifft Dreigesang trifft Comedy.\nMit dem „kölsche Blas- J.“* Matthias Schriefl\, der mit tiefen Wurzeln im Allgäu fast triebhaft die Weihnachtsgeschichte Jahr für Jahr neu und aktuell ausufern lässt\, ist man auf alle Überraschungen gefasst. Egal\, was auch passiert\, es wird wieder richtig gut. Denn\, auch wenn die Welt grad aus den Fugen gerät: man kann mit Fugen dagegenhalten\, oder es gegebenenfalls auf musikalisch höchstem Niveau in groben Unfug ausarten lassen.\n* (Kölner Blas-Gott) \nwww.schriefl.eu \nRestaurant Gdanska\, Am Altmarkt\, Oberhausen\n20:00 Uhr / 19:30 Einlass\nEintritt: 15\,- / 10\,- erm. \nTischreservierung für hungrige Gäste wird empfohlen: gdanska.de\nEs werden genügend Sitzmöglichkeiten da sein\, auch für Spontis ist gesorgt.
URL:https://www.gdanska.de/event/jazz-karussell-matthias-schriefl-moving-krippenspielers/
LOCATION:Gdanska\, Altmarkt 3\, 46045 Oberhausen
CATEGORIES:Jazz,Konzerte
ATTACH;FMTTYPE=image/jpeg:https://www.gdanska.de/wp-content/uploads/2024/10/Bild4.jpg
ORGANIZER;CN="Jazzkarussell":MAILTO:eva.kurowski@t-online.de
END:VEVENT
BEGIN:VEVENT
DTSTART;TZID=Europe/Berlin:20241221T190000
DTEND;TZID=Europe/Berlin:20241221T213000
DTSTAMP:20260421T151939
CREATED:20241213T131324Z
LAST-MODIFIED:20241213T131432Z
UID:10001406-1734807600-1734816600@www.gdanska.de
SUMMARY:"Na pełnym morzu" Theaterstück nach Slawomir Mrozek
DESCRIPTION:Na pełnym morzu – jednoaktowa sztuka teatralna autorstwa Sławomira Mrożka; inscenizacja Teatru Polonijnego Gdanska w Oberhausen.\nGłównymi bohaterami dramatu są trzej rozbitkowie\, dryfujący na tratwie na tytułowym pełnym morzu. Odkrywają\, że wyczerpały się już całe zapasy żywności\, a są bardzo głodni. Postanawiają zatem\, że jeden z nich zostanie posiłkiem dla dwóch pozostałych. Naturalnie żaden z nich nie chce zostać zjedzony\, dlatego szukają sposobu\, jak wyłonić tę osobę. Najpierw rozważają losowanie\, ale szybko odrzucają ten pomysł. Potem postanawiają przeprowadzić wybory\, poprzedzone wiecowymi przemówieniami każdego z nich. Gdy głosowanie okazuje się być nieważnym (bo choć było tylko trzech głosujących\, oddano cztery głosy)\, dwaj spośród nich próbują wywrzeć moralną i psychologiczną presję na tego trzeciego\, aby zgodził się zostać ich posiłkiem.
URL:https://www.gdanska.de/event/na-pelnym-morzu-theaterstueck-nach-slawomir-mrozek/
LOCATION:Gdanska\, Altmarkt 3\, 46045 Oberhausen
CATEGORIES:Theater,Veranstaltung in polnischer Sprache
ATTACH;FMTTYPE=image/jpeg:https://www.gdanska.de/wp-content/uploads/2024/12/na-pelnym-morzu.jpg
ORGANIZER;CN="Leonard Paszek":MAILTO:leonard.p@interia.pl
END:VEVENT
BEGIN:VEVENT
DTSTART;TZID=Europe/Berlin:20241222T200000
DTEND;TZID=Europe/Berlin:20241222T230000
DTSTAMP:20260421T151939
CREATED:20241124T195716Z
LAST-MODIFIED:20241214T121334Z
UID:10001403-1734897600-1734908400@www.gdanska.de
SUMMARY:Weihnachtsrock - Gitarrissimo
DESCRIPTION:22.12.2024 Gitarrissimo – Weihnachtsrock\nSuperzeit \nSonntag\, 22. Dezember 2024\nBeginn: 20:15 Uhr\nEintrittspreis: 18 € \nRestaurant »Gdanska«\nAltmarkt 3\n46045 Oberhausen\nE-Mail: info@obsaitensprung.de
URL:https://www.gdanska.de/event/weihnachtsrock-gitarrissimo/
LOCATION:Gdanska\, Altmarkt 3\, 46045 Oberhausen
CATEGORIES:Gitarrissimo,Konzerte
ATTACH;FMTTYPE=image/jpeg:https://www.gdanska.de/wp-content/uploads/2024/11/2024-Plakat-Weihnachtsrock-2024-scaled.jpg
ORGANIZER;CN="Gitarrissimo":MAILTO:info@obsaitensprung.de
END:VEVENT
BEGIN:VEVENT
DTSTART;TZID=Europe/Berlin:20241223T193000
DTEND;TZID=Europe/Berlin:20241223T230000
DTSTAMP:20260421T151939
CREATED:20241118T184952Z
LAST-MODIFIED:20241118T184952Z
UID:10001401-1734982200-1734994800@www.gdanska.de
SUMMARY:Mr. Most Money Man - Rock-Christmas 34
DESCRIPTION:Unser jährliches BENEFIZ-Weihnachtskonzert für die Pupils for the Poor\, wie immer am 23.12. Dieses Jahr bereits die 34. Auflage (seit 1990). Unter dem Motto ‚Rock-Christmas 34‘ bereits seit 2006 in der Kult(ur)kneipe GDANSKA beheimatet. Kommet wie immer zahlreich und feiert mit. \nEinlass 19:30 Uhr – Show 20:30 Uhr – Abendkasse=Spende: 9 Euro \nMR. MOST MONEY MAN stehen für den feinsten Live-Sound der letzten vier Dekaden Musikhistorie. Das Publikum erwartet Nonstop ein launiger Querschnitt aus den besten Songs der vergangenen 40 Jahre. Die Band präsentiert im Laufe des Abends die Party Kracher aus Rock & Pop & Alternative der 80s & Up mit ausgeprägtem Feier- und Party-Potenzial. Zu Weihnachten steht dabei natürlich auch wieder das ein oder andere (Rock) Christmas Evergreen auf dem musikalischen Programm. \nwww.Gdanska.de\nwww.MrMostMoneyMan.de\nwww.facebook.com/MrMostMoneyMan
URL:https://www.gdanska.de/event/mr-most-money-man-rock-christmas-34/
LOCATION:Gdanska\, Altmarkt 3\, 46045 Oberhausen
CATEGORIES:Konzerte
ATTACH;FMTTYPE=image/jpeg:https://www.gdanska.de/wp-content/uploads/2022/11/mr_most_money_man.jpg
END:VEVENT
BEGIN:VEVENT
DTSTART;TZID=Europe/Berlin:20241224T080000
DTEND;TZID=Europe/Berlin:20241230T170000
DTSTAMP:20260421T151939
CREATED:20241114T204553Z
LAST-MODIFIED:20241118T185219Z
UID:10001400-1735027200-1735578000@www.gdanska.de
SUMMARY:Betriebsferien 24.12. bis 30.12.2024 geschlossen!
DESCRIPTION:Frohe Weihnachten!
URL:https://www.gdanska.de/event/betriebsferien-24-12-bis-30-12-2024-geschlossen/
LOCATION:Gdanska\, Altmarkt 3\, 46045 Oberhausen
CATEGORIES:Sonstige Veranstaltungen
ATTACH;FMTTYPE=image/png:https://www.gdanska.de/wp-content/uploads/2024/11/Winterferien-1.png
END:VEVENT
BEGIN:VEVENT
DTSTART;TZID=Europe/Berlin:20241231T200000
DTEND;TZID=Europe/Berlin:20241231T200000
DTSTAMP:20260421T151939
CREATED:20241024T091853Z
LAST-MODIFIED:20241229T102055Z
UID:10001395-1735675200-1735675200@www.gdanska.de
SUMMARY:SILVESTER im GDANSKA AUSVERKAUFT!!
DESCRIPTION:Zwei Bühnen – ein Silvester \ngroße Bühne: Classic Cover Duo – „Pol -Ton“ in Vertretung wegen Krankheit Salvatore Cutti\nkleine Bühne: Duo – „Benrose“ \nEinlass 19 Uhr\nParty 20 Uhr bis 1 Uhr \nEintritt: 35 Euro\nBegrüßungsgetränk & Sektglas zur Mitternacht \nKarten ab 15.10.2024 an der Theke erhältlich.
URL:https://www.gdanska.de/event/silvester-im-gdanska-2/
LOCATION:Gdanska\, Altmarkt 3\, 46045 Oberhausen
CATEGORIES:Sonstige Veranstaltungen
ATTACH;FMTTYPE=image/jpeg:https://www.gdanska.de/wp-content/uploads/2024/10/Plakat-DIN-A2-Silvester-2024-klein-1.jpg
END:VEVENT
END:VCALENDAR