BEGIN:VCALENDAR
VERSION:2.0
PRODID:-//Gdanska - ECPv6.15.20//NONSGML v1.0//EN
CALSCALE:GREGORIAN
METHOD:PUBLISH
X-ORIGINAL-URL:https://www.gdanska.de
X-WR-CALDESC:Veranstaltungen für Gdanska
REFRESH-INTERVAL;VALUE=DURATION:PT1H
X-Robots-Tag:noindex
X-PUBLISHED-TTL:PT1H
BEGIN:VTIMEZONE
TZID:Europe/Berlin
BEGIN:DAYLIGHT
TZOFFSETFROM:+0100
TZOFFSETTO:+0200
TZNAME:CEST
DTSTART:20240331T010000
END:DAYLIGHT
BEGIN:STANDARD
TZOFFSETFROM:+0200
TZOFFSETTO:+0100
TZNAME:CET
DTSTART:20241027T010000
END:STANDARD
BEGIN:DAYLIGHT
TZOFFSETFROM:+0100
TZOFFSETTO:+0200
TZNAME:CEST
DTSTART:20250330T010000
END:DAYLIGHT
BEGIN:STANDARD
TZOFFSETFROM:+0200
TZOFFSETTO:+0100
TZNAME:CET
DTSTART:20251026T010000
END:STANDARD
BEGIN:DAYLIGHT
TZOFFSETFROM:+0100
TZOFFSETTO:+0200
TZNAME:CEST
DTSTART:20260329T010000
END:DAYLIGHT
BEGIN:STANDARD
TZOFFSETFROM:+0200
TZOFFSETTO:+0100
TZNAME:CET
DTSTART:20261025T010000
END:STANDARD
END:VTIMEZONE
BEGIN:VEVENT
DTSTART;TZID=Europe/Berlin:20250402T200000
DTEND;TZID=Europe/Berlin:20250402T213000
DTSTAMP:20260421T220200
CREATED:20250320T123740Z
LAST-MODIFIED:20250320T123740Z
UID:10001465-1743624000-1743629400@www.gdanska.de
SUMMARY:Mina Richman (DE) Indie-Radar-Ruhr
DESCRIPTION:Ehrlich. Queer. Selbstbestimmt. Es ist die Suche nach einer Perspektive und Lebensrichtung\, die die queere Deutsch-Iranerin Mina Richman schon früh zur Musik treibt. In Berlin geboren\, aber in der Kleinstadt Bad Salzuflen aufgewachsen\, pendelt sie zwischen den Welten und entdeckt in der CDSammlung ihrer Tante Schätze wie Joan As Policewoman und Nina Simone.\nInspiriert von diesen und aus der Einsamkeit der Corona Pandemie heraus veröffentlicht sie 2022 ihre Debüt-EP „Jaywalker“ mit der sie als beste Newcomerin für den PopNRW Preis nominiert wird. Von ihrem Vater „aus Versehen“ zur Feministin erzogen – wie sie es einmal in einem „Zeit“-Interview formulierte – bediente sie sich für ihren Künstlerinnennamen beim berühmten Cher-Zitat „Mom\, I am a rich man“. Der Solidaritäts-Song „Baba Said“ geht während der Revolution im Iran schlagartig viral und ermöglicht ihr mit ihrer Musik einen Beitrag zum Kampf für Freiheit und Menschenrechte zu leisten. Aktivismus mit Musik zu verbinden versteht sie als Pflicht und Notwendigkeit. In ihrem Debütalbum\, welches am 15. März 2024 über das Ladies&Ladys Label erschien\, stellt sich Mina Richman dem Erwachsenwerden. Mit viel Ehrlichkeit kehrt sie in ihre Kindheit zurück und verarbeitet streitende Eltern\, kulturelle Entwurzelung und den gesellschaftlichen\, wie auch ihren persönlichen Umgang mit ihrem Körper. Gemeinsam mit ihrer Band\, Friedrich Schnorr von Carolsfeld\, Alexander Mau und Leon Brames und dem Produzenten Tobias Siebert (Juli\, Enno Bunger) entwickelte sie einen vielseitigen Sound\, inspiriert von Soul und Blues Klassikern und modernen Folk und Hiphop Produktionen. \nVon DLF Kultur und FluxFM zum Album der Woche gekürt\, spielte sie im März/April 2024 eine deutschlandweite Headliner Tour und u.a.\, beim Orange Blossom Special\, Traumzeit\, Fusion\, Waves Vienna und Reeperbahn Festival. Im Oktober begleitete sie Christina Stürmer auf Tour und gewann den PopNRW Preis in der Kategorie „Outstanding Artist“. \nMina Richman\n02.04.2025\nGdanska Oberhausen\, Altmarkt 3\, 46045 Oberhausen\nEinlass: 19Uhr\nBeginn: 20Uhr
URL:https://www.gdanska.de/event/mina-richman-de-indie-radar-ruhr/
LOCATION:Gdanska\, Altmarkt 3\, 46045 Oberhausen
CATEGORIES:INDIE RADAR RUHR,Konzerte
ATTACH;FMTTYPE=image/jpeg:https://www.gdanska.de/wp-content/uploads/2025/03/mina-richmann.jpg
ORGANIZER;CN="INDIE RADAR RUHR":MAILTO:booking@indie-radar-ruhr.de
END:VEVENT
BEGIN:VEVENT
DTSTART;TZID=Europe/Berlin:20250403T200000
DTEND;TZID=Europe/Berlin:20250403T220000
DTSTAMP:20260421T220200
CREATED:20250312T095836Z
LAST-MODIFIED:20250312T100019Z
UID:10001460-1743710400-1743717600@www.gdanska.de
SUMMARY:Jazz - Karussell  „Go4iT“ – Peter Engelhardt Trio
DESCRIPTION:Cooler Vintage-Fusion-Sound!\nGO4iT! Trio. Instrumental. Groovy. Und das alles von smooth bis treibend. Cooler vintage Groove-Sound\, elektrisierend gespielt und das alles ohne kopflastige Allüren sondern mit ansteckender Spielfreude. Natürlich mit dem coolen vintage Hammond Sound\, der richtig drückt! Phonky-Jazz! \nKai Weiner – Hammondorgel\nPeter Engelhardt – Gitarre\nMarcus Rieck – Schlagzeug \nEintritt: 15\,- / 10\,- erm. f. Studis \nEinlass: 19:30 \nTischreservierung für hungrige Gäste: gdanska.de \n– oder einfach spontan kommen! \nDas Jazz-Karussell Oberhausenwird vom Kulturbüro der Stadt unterstützt
URL:https://www.gdanska.de/event/jazz-karussell-go4it-peter-engelhardt-trio/
LOCATION:Gdanska\, Altmarkt 3\, 46045 Oberhausen
CATEGORIES:Jazz,Konzerte
ATTACH;FMTTYPE=image/jpeg:https://www.gdanska.de/wp-content/uploads/2025/03/GO4iT-Peter-Engelhardt.jpg
ORGANIZER;CN="Jazzkarussell":MAILTO:eva.kurowski@t-online.de
END:VEVENT
BEGIN:VEVENT
DTSTART;TZID=Europe/Berlin:20250408T200000
DTEND;TZID=Europe/Berlin:20250408T220000
DTSTAMP:20260421T220200
CREATED:20250323T084244Z
LAST-MODIFIED:20250403T201847Z
UID:10001471-1744142400-1744149600@www.gdanska.de
SUMMARY:GO MUSIC LIVE IM GDANSKA – OBERHAUSEN
DESCRIPTION:Jenn Tiger\nKlaus Zimmermann\nMartin Engelien\nManni von Bohr \nWenn musikalische Exzellenz auf pure Spielfreude trifft\, entsteht ein einzigartiges Konzerterlebnis – genau das bringt GO MUSIC am 08. April ins Gdanska! Unter der Leitung von Martin Engelien erwartet euch eine hochkarätige Besetzung: \n🌟 Jenn Tiger – Die italienische Multi-Talent-Gitarristin mit einzigartigem Stil von Funk bis Latin\n🎸 Klaus Zimmermann – Blues- & Rockgitarrist mit legendärem Sound\n🥁 Manni von Bohr – Der „Pope of Drumming“ mit explosiver Virtuosität \nFreut euch auf unvorhersehbare Interpretationen\, spontane Improvisationen und pure Live-Energie!
URL:https://www.gdanska.de/event/gitarrissimo-919-go-music/
LOCATION:Gdanska\, Altmarkt 3\, 46045 Oberhausen
CATEGORIES:Gitarrissimo,Konzerte
ATTACH;FMTTYPE=image/jpeg:https://www.gdanska.de/wp-content/uploads/2025/03/gdans.jpg
ORGANIZER;CN="Gitarrissimo":MAILTO:info@obsaitensprung.de
END:VEVENT
BEGIN:VEVENT
DTSTART;TZID=Europe/Berlin:20250411T190000
DTEND;TZID=Europe/Berlin:20250411T210000
DTSTAMP:20260421T220200
CREATED:20250213T145239Z
LAST-MODIFIED:20250405T072957Z
UID:10001446-1744398000-1744405200@www.gdanska.de
SUMMARY:Christoph Peters\, Innerstädtischer Tod - Literaturhaus
DESCRIPTION:Christoph Peters schreibt gesellschaftspolitische Romane ganz besonderer Art. Vor zwei Jahren ist er mit dem Roman „Der Sandkasten“ bei uns gewesen\, in dem er das Verhältnis von Journalismus und Politik thematisiert hat. In seinem neuen Roman beleuchtet er die Verflechtungen rechtspopulistischer Politiker und Unternehmer im gesellschaftlichen Leben unserer Republik. Das Besondere daran: Es ist der letzte Teil einer Trilogie\, mit der Peters an die Romane eines frühen bundesdeutschen Schriftstellers\, Wolfgang Koeppen\, anknüpft und deren gesellschaftskritischen Ansatz in die Gegenwart überträgt. Durchaus gelungen\, wie ein Rezensent der FAZ bemerkt.\nFreitag\, 11. April 2025\, 19 Uhr (Einlass ab 18 Uhr)\nGdanska Theater\, Gutenbergstr. 8\, 46045 Oberhausen\nEintritt: 10 € / ermäßigt 5 €
URL:https://www.gdanska.de/event/christoph-peters-innerstaedtischer-tod-literaturhaus/
LOCATION:Gdanska Theater\, Gutenbergstraße 8\, Hofeinfahrt\, 46045 Oberhausen
CATEGORIES:Lesungen
ATTACH;FMTTYPE=image/jpeg:https://www.gdanska.de/wp-content/uploads/2025/02/Christoph-Peters-c-Peter-von-Felbert-2-e1743838173157.jpg
ORGANIZER;CN="LITERATURHAUS Oberhausen":MAILTO:literaturhaus-oberhausen@gmx.de
END:VEVENT
BEGIN:VEVENT
DTSTART;TZID=Europe/Berlin:20250412T180000
DTEND;TZID=Europe/Berlin:20250412T200000
DTSTAMP:20260421T220200
CREATED:20250323T082331Z
LAST-MODIFIED:20250323T082331Z
UID:10001470-1744480800-1744488000@www.gdanska.de
SUMMARY:Teatr - Zachciało się wam Kalwaryji
DESCRIPTION:Serdecznie zapraszamy! Sztuka napisana w latach 90-tych\, ale szalenie aktualna w dzisiejszych czasach.\nTeatr Gdanska zaprasza na komedie obyczajowa Ryszarda Latki w rezyseri Anny Dembek-Lada – „Zachciało wom się Kalwarii“ \nKochani\, gramy te sztuke już 6 lat i nadal nas śmieszy. Nadal są chętni\, żeby wypełnić salę teatralną w restauracji „Gdańska” w Oberhausen i śmiać się do łez razem z nami. Zapraszamy tych\, którzy jeszcze jej nie widzieli w niedzielę 07. kwietnia do Oberhausen. Dwie godziny śmiechu gwarantowane.
URL:https://www.gdanska.de/event/teatr-zachcialo-sie-wam-kalwaryji/
LOCATION:Gdanska Theater\, Gutenbergstraße 8\, Hofeinfahrt\, 46045 Oberhausen
CATEGORIES:Theater,Veranstaltung in polnischer Sprache
ATTACH;FMTTYPE=image/jpeg:https://www.gdanska.de/wp-content/uploads/2025/03/kalwaryja-april-25.jpg
ORGANIZER;CN="Leonard Paszek":MAILTO:leonard.p@interia.pl
END:VEVENT
BEGIN:VEVENT
DTSTART;TZID=Europe/Berlin:20250412T200000
DTEND;TZID=Europe/Berlin:20250412T220000
DTSTAMP:20260421T220200
CREATED:20250320T124223Z
LAST-MODIFIED:20250320T124223Z
UID:10001466-1744488000-1744495200@www.gdanska.de
SUMMARY:BRUCHBUDE (DE) Indie - Radar - Ruhr
DESCRIPTION:BRUCHBUDE gehen im Frühjahr 2025 auf „Live und in Farbe“ Tour! \n„Es ist Zeit für mehr Ecken und Kanten…“ heißt es von den Dortmunder Zwillingen Finn & Jonas\, die ihr musikalisches Projekt nun kürzlich noch einmal ganz neu aufgestellt haben. „Inzwischen sind wir einfach mehr als nur Finn & Jonas. Zu uns gehört eine Band!“ Und genau diese Band namens BRUCHBUDE wird Anfang kommenden Jahres quer durch Deutschland touren. Authentischer\, rauer Indie-Pop mit lauten E-Gitarren und mitreißenden Melodien. Finn und Jonas sind weiterhin die Frontsänger\, Luis Melo übernimmt den Bass\, der Urban-Künstler Yuto spielt Piano – so hat sich die Formation bereits auf ihrer ersten eigenen Tour in 2023 bewährt.\nDie „BRUCHBUDE“ hat für die vier Musiker schon lange eine große Bedeutung: es ist die Gartenlaube\, die in ein eigenes kleines Tonstudio verwandelt wurde und der Start für die gemeinsame Leidenschaft und viele Erinnerungen sein sollte. Zusammen spielten – nun – BRUCHBUDE bereits auf Festivals wie dem Open Flair\, Schlossgrabenfestival Darmstadt oder im JunkYard Dortmund\, liefen im 1LIVE Heimatkult und stellen mittlerweile ihre eigene YouTube Show auf die Beine.\nSie sind eine Band\, der man ihren Elan und ihre Freude an der Musik und Kunst jede Sekunde abkauft. Und so kann es nur ein großes Fest für alle Beteiligten werden\, BRUCHBUDE im Frühjahr 2025 im Rahmen der „Live und in Farbe“ Tour auf den Clubbühnen zu erleben! \nBRUCHBUDE\n12.04.2025\nGdanska Oberhausen\, Altmarkt 3\, 46045 Oberhausen\nEinlass: 19Uhr\nBeginn: 20Uhr
URL:https://www.gdanska.de/event/bruchbude-de-indie-radar-ruhr/
LOCATION:Gdanska\, Altmarkt 3\, 46045 Oberhausen
CATEGORIES:INDIE RADAR RUHR,Konzerte
ATTACH;FMTTYPE=image/jpeg:https://www.gdanska.de/wp-content/uploads/2025/03/BRUCHBUDE-Presse4-c-Runa-Wien-Kopie-1-scaled-e1715940726752-1536x865-1.jpg
ORGANIZER;CN="INDIE RADAR RUHR":MAILTO:booking@indie-radar-ruhr.de
END:VEVENT
BEGIN:VEVENT
DTSTART;TZID=Europe/Berlin:20250413T150000
DTEND;TZID=Europe/Berlin:20250413T180000
DTSTAMP:20260421T220200
CREATED:20250213T150157Z
LAST-MODIFIED:20250213T150157Z
UID:10001447-1744556400-1744567200@www.gdanska.de
SUMMARY:Eröffnung der Christoph-Schlingensief-Audiotour - Literaturhaus
DESCRIPTION:Christoph Schlingensief wurde am 24. Oktober 1960 in Oberhausen geboren und hat bis zum Studium in Oberhausen gelebt. Er war ein bekannter Film- und Theaterregisseur\, Autor und Aktionskünstler und ist einer der bekanntesten Künstler Oberhausens. Das Literaturhaus Oberhausen hat in Kooperation mit dem literaturgebiet.ruhr\, in Zusammenarbeit mit dem Theater Oberhausen und mit Unterstützung des Kulturbüros der Stadt und dem Weiterbildungsinstitut Oberhausen das Leben und Wirken Christoph Schlingensiefs porträtiert\, um es in der Stadtöffentlichkeit dauerhaft zu präsentieren.\nDie Audiotour folgt im Zentrum Oberhausens den wichtigsten Stationen aus Schlingensiefs Leben. Die Texte\, die in der Audiotour zu hören sind\, sind ausschließlich Selbstzeugnisse aus seinen Büchern.\nSonntag\, 13. April 2025\, 15 Uhr\nStart und Ziel: Gdanska\, Altmarkt 3\, 46045 Oberhausen\nTeilnahme frei\, anschließend Empfang im Gdanska
URL:https://www.gdanska.de/event/eroeffnung-der-christoph-schlingensief-audiotour-literaturhaus/
LOCATION:Gdanska\, Altmarkt 3\, 46045 Oberhausen
CATEGORIES:Sonstige Veranstaltungen
ORGANIZER;CN="LITERATURHAUS Oberhausen":MAILTO:literaturhaus-oberhausen@gmx.de
END:VEVENT
BEGIN:VEVENT
DTSTART;TZID=Europe/Berlin:20250415T190000
DTEND;TZID=Europe/Berlin:20250415T203000
DTSTAMP:20260421T220201
CREATED:20250323T085049Z
LAST-MODIFIED:20250323T085049Z
UID:10001472-1744743600-1744749000@www.gdanska.de
SUMMARY:Beatkeller Geschichten
DESCRIPTION:Beatkeller Geschichten\nSein über 60 Jahre gesammeltes Wissen möchte Gitarrissimo-Chef Jürgen Reinke mit dieser Reihe gerne mit Gleichaltrigen teilen oder an Jüngere weitergeben. Pro Folge werden im Schnitt etwa 20-25 Titel\, die für das entsprechende Jahr von Bedeutung waren oder eine wichtige Bedeutung für die weitere Entwicklung der Rockmusik in den 60ern oder 70ern hatten\, gespielt. Dafür steht Reinke seine umfangreiche CD-Sammlung mit über 60.000 Titeln zur Verfügung. Die Musiktitel werden mit Musikerfotos\, Plakatfotos\, Plattencovern u.ä. „per Beamer auf die Leinwand gebracht“ bildlich unterstützt. Hierzu stehen dem Erzählenden weit über 100.000 Abbildungen zur Verfügung\, die auch zum Teil aus dem „Archiv für populäre Musik“ in Dortmund stammen. Der verbale Teil der Veranstaltung wird nicht vollchronologisch wie früher im Geschichtsunterricht ablaufen\, sondern zu jedem der gespielten Titel wird in einem kurzen Text berichtet\, warum er nach Ansicht des Verfassers wichtig ist und der Song deshalb ausgewählt wurde. Nach Ende der knapp zweistündigen Veranstaltungen (mit Pause) gibt es noch ausreichend Gelegenheit\, sich im gemütlichen Kreis an die „Alten Zeiten“ zu erinnern und die eine oder andere Geschichte von damals zu erzählen.\nwww.obsaitensprung.de
URL:https://www.gdanska.de/event/beatkeller-geschichten/
LOCATION:Literatur Keller\, Zugang Gutenbergstr. 8\, Oberhausen\, DE\, 46045\, Deutschland
CATEGORIES:Sonstige Veranstaltungen
ATTACH;FMTTYPE=image/jpeg:https://www.gdanska.de/wp-content/uploads/2024/12/beatkeller-17.12.2024.jpg
ORGANIZER;CN="Gitarrissimo":MAILTO:info@obsaitensprung.de
END:VEVENT
BEGIN:VEVENT
DTSTART;TZID=Europe/Berlin:20250416T190000
DTEND;TZID=Europe/Berlin:20250416T203000
DTSTAMP:20260421T220201
CREATED:20250213T150626Z
LAST-MODIFIED:20250213T150626Z
UID:10001448-1744830000-1744835400@www.gdanska.de
SUMMARY:Literarischer Treff im Literaturkeller: Gehen ging\, gegangen
DESCRIPTION:Buchvorstellung von Rauner Piecha\nEin neues (altes) Konzept wird im Literaturhaus wiedergeboren und weiterentwickelt. An jedem dritten Mittwoch im Monat gibt es im Literaturkeller einen Treffpunkt für literarisch interessierte Menschen. Fester Programmpunkt ist das Gespräch über ein konkretes Buch und den Autor/die Autorin (Monatsschwerpunkte siehe unten) – mal aktuell\, mal klassisch\, mal ein Sachbuch\, mal ein Roman\, ein Erzählband oder Lyrik. Schön wäre natürlich\, wenn einige das Buch schon gelesen hätten. Darüber hinaus ist das Gespräch über weitere Literatur\, Autorinnen und Autoren genauso möglich wie der Austausch über die Aktivitäten des Literaturhauses\, Anregungen\, Pläne\, Projekte\, Utopien usw.\nBei einem Glas Wein oder einer Flasche alkoholfreiem Bier ist ein geselliger Rahmen für die Kultur des geschriebenen und gesprochenen Wortes geschaffen. Der Eintritt ist frei.
URL:https://www.gdanska.de/event/literarischer-treff-im-literaturkeller-gehen-ging-gegangen/
LOCATION:Literatur Keller\, Zugang Gutenbergstr. 8\, Oberhausen\, DE\, 46045\, Deutschland
CATEGORIES:Lesungen
ATTACH;FMTTYPE=image/jpeg:https://www.gdanska.de/wp-content/uploads/2025/02/Cover-Erpenbeck-Gehen-ging-gegangen.jpg
ORGANIZER;CN="LITERATURHAUS Oberhausen":MAILTO:literaturhaus-oberhausen@gmx.de
END:VEVENT
BEGIN:VEVENT
DTSTART;TZID=Europe/Berlin:20250417T200000
DTEND;TZID=Europe/Berlin:20250417T220000
DTSTAMP:20260421T220201
CREATED:20250312T100416Z
LAST-MODIFIED:20250312T100751Z
UID:10001461-1744920000-1744927200@www.gdanska.de
SUMMARY:Jazz -  Karussell „KNUD Trio“.
DESCRIPTION:„KNUD Trio“\nMit einer leidenschaftlichen Hingabe zur Musik und einem Repertoire aus selbstkomponierten Stücken schaffen Jona Hahn am Klavier\, Kevin Hemkemeier am Kontrabass und Jonathan Schierhorn am Drumset eine atmosphärische Klanglandschaft\, die mit unseren Erwartungen spielt! \nDie junge Band aus NRW bietet eine zeitgenössische Interpretation des Jazz\, die durch subtile Harmonien\, fließende Melodien und kraftvolle Rhythmen geprägt ist. Die Songs\, die die drei hauptsächlich zusammen komponieren\, erzählen Geschichten von heftigen Stürmen und der Naturverbundenheit. Sie spielen mit dem Dualität zwischen Gravitation und Schwerelosigkeit und lassen dabei Raum für individuelle Interpretation und emotionale Tiefe. \nSie haben sich hierbei vom Sound bekannter Gruppen\, wie zum Beispiel dem Esbjörn Svensson Trio\, dem Mark Guiliana Jazz Quartet und Phronesis inspirieren lassen\, und unter anderem den Fokus auf rhythmische Vielfalt in Kombination mit schönen eingängigen Melodien gesetzt.\nDas KNUD Trio formierte sich 2021 durch das gemeinsame Jazz Studium an der Folkwang Universität der Künste in Essen. \nDas Trio präsentiert nun bei ihrer dritten Tour: „ KNUD – Release Tour 2025“ ihr Debut-Album. \nJona Hahn – Flügel\nKevin Hemkemeier – Kontrabass\nJonathan Schierhorn – Schlagzeug \nEintritt: 15\,- / 10\,- erm. f. Studis \nEinlass: 19:30 \nTischreservierung für hungrige Gäste: gdanska.de \n– oder einfach spontan kommen! \nDas Jazz-Karussell Oberhausen wird vom Kulturbüro der Stadt unterstützt
URL:https://www.gdanska.de/event/jazz-karussell-knud-trio/
LOCATION:Gdanska\, Altmarkt 3\, 46045 Oberhausen
CATEGORIES:Jazz,Konzerte
ATTACH;FMTTYPE=image/png:https://www.gdanska.de/wp-content/uploads/2025/03/KNUD-Trio.png
ORGANIZER;CN="Jazzkarussell":MAILTO:eva.kurowski@t-online.de
END:VEVENT
BEGIN:VEVENT
DTSTART;TZID=Europe/Berlin:20250425T190000
DTEND;TZID=Europe/Berlin:20250425T210000
DTSTAMP:20260421T220201
CREATED:20250213T152418Z
LAST-MODIFIED:20250405T073100Z
UID:10001450-1745607600-1745614800@www.gdanska.de
SUMMARY:Traudl Bünger\, Eisernes Schweigen - Literaturhaus
DESCRIPTION:Lesereihe „80 Jahre …“:\nTraudl Bünger\, Eisernes Schweigen\nWas tut man\, wenn man nach dem Tod des eigenen Vaters auf dem Dachboden neonazistische Kampfschriften und zu Zeitzündern umgebaute Taschenuhren findet? Wenn der Vater gegenüber Ausländern schon immer „rigide Meinungen“ vertreten hat? Wenn man als Kind nicht – „wie alle anderen“ – in Italien Urlaub machen konnte? Die engagierte Journalistin Traudl Bünger startete eine Recherche\, von der sie anfangs nicht gewusst hat\, dass sie sich über vier Jahre hinziehen und zu Tage fördern wird\, dass ihr Vater in den 1960er Jahren als Rechtsradikaler an Attentaten in Südtirol mitgewirkt hat und dass es dabei auch einen Toten gab. Traudl Bünger zeigt in ihrem teils fiktionalen\, teils reichhaltig mit Dokumenten unterlegten Buch auch\, wie schwer sich die bundesdeutsche Justiz mit der Aufklärung und Bearbeitung dieser Verbrechen tat. Ein spannendes Buch\, das umso eindringlicher wirkt\, als die Autorin ihre Betroffenheit nicht verschweigt.\nFreitag\, 25. April 2025\, 19 Uhr (Einlass ab 18 Uhr)\nGdanska Theater\, Gutenbergstr. 8\, 46045 Oberhausen\nEintritt: 10 € / ermäßigt 5 €
URL:https://www.gdanska.de/event/traudl-buenger-eisernes-schweigen-literaturhaus/
LOCATION:Gdanska Theater\, Gutenbergstraße 8\, Hofeinfahrt\, 46045 Oberhausen
CATEGORIES:Lesungen
ATTACH;FMTTYPE=image/jpeg:https://www.gdanska.de/wp-content/uploads/2025/02/Traudl-Buenger-c-Maya-Claussen2-e1743838248729.jpg
ORGANIZER;CN="LITERATURHAUS Oberhausen":MAILTO:literaturhaus-oberhausen@gmx.de
END:VEVENT
BEGIN:VEVENT
DTSTART;TZID=Europe/Berlin:20250425T200000
DTEND;TZID=Europe/Berlin:20250425T200000
DTSTAMP:20260421T220201
CREATED:20250323T085539Z
LAST-MODIFIED:20250418T201025Z
UID:10001473-1745611200-1745611200@www.gdanska.de
SUMMARY:Andreas Diehlmann Band - Gitarrissimo Bluesrock
DESCRIPTION:🎸 Konzert im Gdanska: Andreas Diehlmann Band live! 🎶Datum: Freitag\, 25.04.Ort: Restaurant Gdanska\, Oberhausen \nDer Ausnahmegitarrist Andreas Diehlmann bringt mit seiner Band erstklassigen Bluesrock auf die Bühne – kraftvoll\, authentisch\, mitreißend. Spätestens seit dem Charterfolg ihres Albums Point Of No Return ist das Powertrio aus Kassel kein Geheimtipp mehr\, sondern eine feste Größe in der deutschen Bluesszene. \nBegleitet von Jörg Sebald (Bass) und Tom Bonn (Drums)\, spielt sich die Band mit virtuoser Leichtigkeit durch ihre eigenen\, tief im Blues verwurzelten Kompositionen. Ihre letzten drei Alben stürmten auf Platz 1 der Amazon-Bluescharts – und live sind sie eine Wucht! \nKommt vorbei\, genießt gute Musik\, leckeres Essen und echte Blues-Energie.🎟️ Reservierungen empfohlen!
URL:https://www.gdanska.de/event/gitarrissimo-bluesrock/
LOCATION:Gdanska\, Altmarkt 3\, 46045 Oberhausen
CATEGORIES:Gitarrissimo,Konzerte
ATTACH;FMTTYPE=image/jpeg:https://www.gdanska.de/wp-content/uploads/2025/03/andreas-diehlmann.jpg
ORGANIZER;CN="Gitarrissimo":MAILTO:info@obsaitensprung.de
END:VEVENT
BEGIN:VEVENT
DTSTART;TZID=Europe/Berlin:20250426T200000
DTEND;TZID=Europe/Berlin:20250426T220000
DTSTAMP:20260421T220201
CREATED:20250320T124721Z
LAST-MODIFIED:20250320T124721Z
UID:10001467-1745697600-1745704800@www.gdanska.de
SUMMARY:Luis Ake (DE) Indie - Radar - Ruhr
DESCRIPTION:Drei geöffnete Hemdknöpfe\, ein Dekolleté bis zum Solarplexus und ein perfekt sitzender Anzug – so betritt Luis Ake die Bühne\, ein Künstler\, der mehr Fragen aufwirft als Antworten gibt. Am 26.04. präsentiert er euch seinen einzigartigen Mix aus poppigem Trance und melancholischem New Wave.\nIst dieser mysteriöse Mann\, der vielleicht eine Maschine gebaut hat\, die Liebe erzeugt\, der wahre Dandy unserer Zeit? Oder ein geheimer Pferdeliebhaber mit einem Hang zu edlen Stoffen und schnellen Oldtimern? Eines ist sicher: Sein Anzug sitzt perfekt und sein Leid ist echt!\nLUIS AKE\n26.04.2025\nGdanska Oberhausen\, Altmarkt 3\, 46045 Oberhausen\nEinlass: 19Uhr\nBeginn: 20Uhr
URL:https://www.gdanska.de/event/luis-ake-de-indie-radar-ruhr/
LOCATION:Gdanska\, Altmarkt 3\, 46045 Oberhausen
CATEGORIES:INDIE RADAR RUHR,Konzerte
ATTACH;FMTTYPE=image/jpeg:https://www.gdanska.de/wp-content/uploads/2025/03/luis.jpeg
END:VEVENT
BEGIN:VEVENT
DTSTART;TZID=Europe/Berlin:20250430T190000
DTEND;TZID=Europe/Berlin:20250430T233000
DTSTAMP:20260421T220201
CREATED:20250221T103815Z
LAST-MODIFIED:20250423T141103Z
UID:10001458-1746039600-1746055800@www.gdanska.de
SUMMARY:Tanz in den Mai - Gdanska am Altmarkt
DESCRIPTION:🌸 Tanz in den Mai – Open Air im Gdanska! 🌸📅 Mittwoch\, 30. April 2025🕗 Musik ab 20 Uhr | Eintritt frei!📍 Terrassenbühne im Biergarten – Gdanska\, Altmarkt 3\, Oberhausen \nLasst uns gemeinsam in den Mai tanzen – unter freiem Himmel\, mit kühlen Getränken\, bester Stimmung und Live-Musik bis Mitternacht! \n🎸 Auf der Bühne für euch:🔹 BASEMENT – Blues & Rock Specials: ehrlicher Sound und groovige Klassiker🔹 SUPERZEIT – Die besten Hits der 60er und 70er: Nostalgie pur und Tanzgarantie \n🍺 Draußen gibt’s nicht nur Musik\, sondern auch frisch gezapftes Bier vom Wagen und leckeres Essen aus der Gdanska-Küche – perfekt für einen entspannten Abend im Biergarten.🎟️ Zahle\, was du willst – der Eintritt ist frei! \nKommt vorbei\, bringt Freunde mit und feiert mit uns in den Mai! 🌙🍻🎶
URL:https://www.gdanska.de/event/tanz-in-den-mai-gdanska-am-altmarkt/
LOCATION:Gdanska\, Altmarkt 3\, 46045 Oberhausen
CATEGORIES:Konzerte,Open Air
ATTACH;FMTTYPE=image/jpeg:https://www.gdanska.de/wp-content/uploads/2025/02/Plakat-Maitanz-2025-scaled.jpg
END:VEVENT
END:VCALENDAR