BEGIN:VCALENDAR
VERSION:2.0
PRODID:-//Gdanska - ECPv6.15.20//NONSGML v1.0//EN
CALSCALE:GREGORIAN
METHOD:PUBLISH
X-WR-CALNAME:Gdanska
X-ORIGINAL-URL:https://www.gdanska.de
X-WR-CALDESC:Veranstaltungen für Gdanska
REFRESH-INTERVAL;VALUE=DURATION:PT1H
X-Robots-Tag:noindex
X-PUBLISHED-TTL:PT1H
BEGIN:VTIMEZONE
TZID:Europe/Berlin
BEGIN:DAYLIGHT
TZOFFSETFROM:+0100
TZOFFSETTO:+0200
TZNAME:CEST
DTSTART:20240331T010000
END:DAYLIGHT
BEGIN:STANDARD
TZOFFSETFROM:+0200
TZOFFSETTO:+0100
TZNAME:CET
DTSTART:20241027T010000
END:STANDARD
BEGIN:DAYLIGHT
TZOFFSETFROM:+0100
TZOFFSETTO:+0200
TZNAME:CEST
DTSTART:20250330T010000
END:DAYLIGHT
BEGIN:STANDARD
TZOFFSETFROM:+0200
TZOFFSETTO:+0100
TZNAME:CET
DTSTART:20251026T010000
END:STANDARD
BEGIN:DAYLIGHT
TZOFFSETFROM:+0100
TZOFFSETTO:+0200
TZNAME:CEST
DTSTART:20260329T010000
END:DAYLIGHT
BEGIN:STANDARD
TZOFFSETFROM:+0200
TZOFFSETTO:+0100
TZNAME:CET
DTSTART:20261025T010000
END:STANDARD
END:VTIMEZONE
BEGIN:VEVENT
DTSTART;TZID=Europe/Berlin:20250603T190000
DTEND;TZID=Europe/Berlin:20250603T223000
DTSTAMP:20260422T014000
CREATED:20250510T155720Z
LAST-MODIFIED:20250510T155720Z
UID:10001486-1748977200-1748989800@www.gdanska.de
SUMMARY:GO MUSIC live im Gdanska
DESCRIPTION:GO MUSIC live im Gdanska – Musik zum Erleben\, nicht nur zum Hören! \n📍 Dienstag\, 3. Juni 2025 – Einlass 19:00 Uhr\nBeginn: 20:15 Uhr\nEintrittspreis: 22 € \nBevor sich die renommierte Konzertreihe GO MUSIC in die Sommerpause verabschiedet\, lädt Bassist und Produzent Martin Engelien zu einem musikalischen Highlight ins Gdanska ein. Seit fast drei Jahrzehnten steht GO MUSIC für echte Live-Musik – stilistisch offen\, voller Spielfreude und jenseits jeder Routine. \nMit dabei ist diesmal der gefeierte Gitarrist Gregor Hilden\, der mit seinem eleganten Stil zwischen Soul\, Funk und Blues begeistert. Unterstützt wird er von Hammond-Legende Wolfgang Roggenkamp\, der mit seinem Spiel ganze Klangräume erschafft\, und dem energiegeladenen Drummer Dirk Brand\, der den Sound mit Groove und Präzision erdet. \nGO MUSIC steht für musikalische Begegnungen auf höchstem Niveau – keine Covershow\, sondern echte Improvisation\, spannende Arrangements und unverwechselbare Soli. \n🎸 Live\, spontan\, authentisch – ein Abend\, der bleibt.\n🎟 Tickets jetzt sichern – nicht verpassen!
URL:https://www.gdanska.de/event/go-music-live-im-gdanska/
LOCATION:Gdanska\, Altmarkt 3\, 46045 Oberhausen
CATEGORIES:Gitarrissimo,Konzerte
ATTACH;FMTTYPE=image/jpeg:https://www.gdanska.de/wp-content/uploads/2025/05/oberhausen_2.jpg
ORGANIZER;CN="Gitarrissimo":MAILTO:info@obsaitensprung.de
END:VEVENT
BEGIN:VEVENT
DTSTART;TZID=Europe/Berlin:20250604T190000
DTEND;TZID=Europe/Berlin:20250604T210000
DTSTAMP:20260422T014000
CREATED:20250213T153309Z
LAST-MODIFIED:20250510T160634Z
UID:10001452-1749063600-1749070800@www.gdanska.de
SUMMARY:Literarisches Duett - Literaturhaus
DESCRIPTION:Janelle Pötzsch und Harald Obendiek führen durch den Abend und stellen ganz subjektiv ausgewählte Neuerscheinungen vor – Romane\, Erzählungen und Sachbücher abseits des Mainstream. Und nicht nur die\, die gefallen haben. Sachkundig und meinungsstark werden die Bücher präsentiert\, nicht immer stimmen die beiden Vorstellenden im Urteil überein. Gute Unterhaltung ist garantiert.\nMittwoch\, 4. Juni 2025\, 19 Uhr (Einlass ab 18 Uhr)\nGdanska Theater\, Gutenbergstr. 8\, 46045 Oberhausen\nEintritt: 10 € / ermäßigt 5 €
URL:https://www.gdanska.de/event/literarisches-duett-literaturhaus/
LOCATION:Gdanska Theater\, Gutenbergstraße 8\, Hofeinfahrt\, 46045 Oberhausen
CATEGORIES:Lesungen
ATTACH;FMTTYPE=image/jpeg:https://www.gdanska.de/wp-content/uploads/2025/02/Literarisches-Duett-e1746893187554.jpg
ORGANIZER;CN="LITERATURHAUS Oberhausen":MAILTO:literaturhaus-oberhausen@gmx.de
END:VEVENT
BEGIN:VEVENT
DTSTART;TZID=Europe/Berlin:20250613T190000
DTEND;TZID=Europe/Berlin:20250613T210000
DTSTAMP:20260422T014000
CREATED:20250213T153443Z
LAST-MODIFIED:20250510T160602Z
UID:10001453-1749841200-1749848400@www.gdanska.de
SUMMARY:AufRuhr Chor\, Mein Name ist Mensch - Literaturhaus
DESCRIPTION:Die 18 Sängerinnen und Sänger des Ruhrgebietschors AufRuhr unter der Leitung von Juri Dadiani singen\, was sie bewegt: Den aufkeimenden Nationalismus hierzulande betrachtet der engagierte Chor mit Sorge und richtet sich mit seinen Liedern gegen Hetze\, Gewalt\, Rassismus und soziale Kälte. Auf dem Programm stehen ausgewählte Songs bekannter Liedermacher und Bands wie Sarah Lesch – Georg Danzer – Konstantin Wecker – Rio Reiser – Faber – Stoppok – Ton\, Steine\, Scherben – Berthold Brecht und Kurt Weill.\nAufRuhr hat seine Wurzeln im ehemaligen Eisenheimchor\, dessen Leiter\, Otto Beatus\, viele Lieder aus dem aktuellen Repertoire arrangiert hat. Heute singt AufRuhr unter der Leitung des Dirigenten und Komponisten Juri Dadiani\, der die Entwicklung des Chors seit 3 Jahren mitprägt und ihn am Klavier begleitet. Ebenfalls mit dabei ist Markus Kaiser an der Gitarre.\nFreitag\, 13. Juni 2025\, 19 Uhr (Einlass ab 18 Uhr)\nGdanska Konzertsaal\, Altmarkt 3\, 46045 Oberhausen\nEintritt 10 € / ermäßigt 5 €
URL:https://www.gdanska.de/event/aufruhr-chor-mein-name-ist-mensch-literaturhaus/
LOCATION:Gdanska\, Altmarkt 3\, 46045 Oberhausen
CATEGORIES:Konzerte
ATTACH;FMTTYPE=image/jpeg:https://www.gdanska.de/wp-content/uploads/2025/02/AufRuhr-Chor-e1746893154398.jpg
ORGANIZER;CN="LITERATURHAUS Oberhausen":MAILTO:literaturhaus-oberhausen@gmx.de
END:VEVENT
BEGIN:VEVENT
DTSTART;TZID=Europe/Berlin:20250617T193000
DTEND;TZID=Europe/Berlin:20250617T213000
DTSTAMP:20260422T014000
CREATED:20250612T135914Z
LAST-MODIFIED:20250612T135914Z
UID:10001488-1750188600-1750195800@www.gdanska.de
SUMMARY:Beatkeller-Geschichten - Gitarrissimo
DESCRIPTION:Beatkeller-Geschichten – Gitarrissimo 928 \nChronologie der Musik der 60er Jahre 1968 – Teil 2\nerzählt von Jürgen Reinke mit Musikbeispielen und passenden Bildern \nDienstag\, 17. Juni 2025\nBeginn: 19:30 Uhr\nEintrittspreis: 10 € \nRestaurant »Gdanska«\nAltmarkt 3\n46045 Oberhausen\nE-Mail: info@obsaitensprung.de
URL:https://www.gdanska.de/event/beatkeller-geschichten-gitarrissimo-6/
LOCATION:Gdanska\, Altmarkt 3\, 46045 Oberhausen
CATEGORIES:Gitarrissimo
ATTACH;FMTTYPE=image/jpeg:https://www.gdanska.de/wp-content/uploads/2025/06/Beatkeller_1968_2_17.06.25-Kopie.jpg
ORGANIZER;CN="Gitarrissimo":MAILTO:info@obsaitensprung.de
END:VEVENT
BEGIN:VEVENT
DTSTART;TZID=Europe/Berlin:20250618T190000
DTEND;TZID=Europe/Berlin:20250618T203000
DTSTAMP:20260422T014000
CREATED:20250213T153708Z
LAST-MODIFIED:20250510T160515Z
UID:10001454-1750273200-1750278600@www.gdanska.de
SUMMARY:Literarischer Treff im Literaturkeller: Martina Hefter\, Hey guten Morgen\, wie geht es dir?
DESCRIPTION:Buchvorstellung Sabine Teuchert\nEin neues (altes) Konzept wird im Literaturhaus wiedergeboren und weiterentwickelt. An jedem dritten Mittwoch im Monat gibt es im Literaturkeller einen Treffpunkt für literarisch interessierte Menschen. Fester Programmpunkt ist das Gespräch über ein konkretes Buch und den Autor/die Autorin (Monatsschwerpunkte siehe unten) – mal aktuell\, mal klassisch\, mal ein Sachbuch\, mal ein Roman\, ein Erzählband oder Lyrik. Schön wäre natürlich\, wenn einige das Buch schon gelesen hätten. Darüber hinaus ist das Gespräch über weitere Literatur\, Autorinnen und Autoren genauso möglich wie der Austausch über die Aktivitäten des Literaturhauses\, Anregungen\, Pläne\, Projekte\, Utopien usw.\nBei einem Glas Wein oder einer Flasche alkoholfreiem Bier ist ein geselliger Rahmen für die Kultur des geschriebenen und gesprochenen Wortes geschaffen. Der Eintritt ist frei.\njeweils Mittwoch\, ab 19 Uhr
URL:https://www.gdanska.de/event/literarischer-treff-im-literaturkeller-martina-hefter-hey-guten-morgen-wie-geht-es-dir/
LOCATION:Literatur Keller\, Zugang Gutenbergstr. 8\, Oberhausen\, DE\, 46045\, Deutschland
CATEGORIES:Lesungen,Sonstige Veranstaltungen
ATTACH;FMTTYPE=image/jpeg:https://www.gdanska.de/wp-content/uploads/2025/02/Cover-Hefter-Guten-morgen-wie-geht-s-dir-e1746893107748.jpg
ORGANIZER;CN="LITERATURHAUS Oberhausen":MAILTO:literaturhaus-oberhausen@gmx.de
END:VEVENT
BEGIN:VEVENT
DTSTART;TZID=Europe/Berlin:20250621T150000
DTEND;TZID=Europe/Berlin:20250621T220000
DTSTAMP:20260422T014000
CREATED:20250424T111937Z
LAST-MODIFIED:20250612T121459Z
UID:10001480-1750518000-1750543200@www.gdanska.de
SUMMARY:WIR SIND OBERHAUSEN - 25 Jahre Gdanska
DESCRIPTION:Liebe Gdanska Freunde\, \nam 01.04.2025 ist das Gdanska 25 Jahre alt geworden.\nKaum zu glauben – Das möchten wir gemeinsam mit euch feiern – mit einem bunten Fest am Samstag\, den 21. Juni 2025\, auf dem Altmarkt in Oberhausen. \n✨ Was euch erwartet:\n🎶 Live-Musik auf der Bühne vor dem Biergarten – von Jazz über Indie bis Rock mit: \nEva Kurowski – Jazzkarussell (15:40 Uhr)\nBenrose Duo (16:30 Uhr)\nCommuna Band (17 Uhr)\nReTown Band für Indie Radar Ruhr (19 Uhr)\nNomedia Band (20 Uhr)\nMartin Engelien Band – Gitarrissimo (21 Uhr) \n📚 Literatur & Theater: \nRalph Hammerthaler liest ab 15:10 Uhr\nTomasz Gawinski liest aus „Kokopol“ (16:30 Uhr\, auf Polnisch)\nTheaterstück „Zachciało się wam Kalwarii“ auf Polnisch ab 19:00 Uhr \n🏆 Highlight des Tages:\nVerleihung der Neptun-Statuette um 18 Uhr an herausragende Persönlichkeiten – Winfried Baar und Jakub Wawrzyniak\, den stellv. polnischen Botschafter in Berlin. \n💬 Gastgeber Maria & Czeslaw Golebiewski laden ein – zum Erinnern\, Feiern und Genießen. Seid dabei\, wenn wir 25 Jahre deutsch-polnische Kulturgeschichte lebendig feiern! \n📍 Wann: Samstag\, 21. Juni 2025 | 15:00 – 22:00 Uhr\n📍 Wo: Altmarkt Oberhausen\, im und vor dem Gdanska \nWir freuen uns auf euch! 🥳🇩🇪🇵🇱
URL:https://www.gdanska.de/event/wir-sind-oberhausen-25-jahre-gdanska/
LOCATION:Gdanska\, Altmarkt 3\, 46045 Oberhausen
CATEGORIES:Konzerte,Lesungen,Open Air,Sonstige Veranstaltungen,Theater
ATTACH;FMTTYPE=image/jpeg:https://www.gdanska.de/wp-content/uploads/2025/04/25-Jahre-Plakat-Rot-Zylinder-1-scaled.jpg
END:VEVENT
END:VCALENDAR