BEGIN:VCALENDAR
VERSION:2.0
PRODID:-//Gdanska - ECPv6.15.20//NONSGML v1.0//EN
CALSCALE:GREGORIAN
METHOD:PUBLISH
X-WR-CALNAME:Gdanska
X-ORIGINAL-URL:https://www.gdanska.de
X-WR-CALDESC:Veranstaltungen für Gdanska
REFRESH-INTERVAL;VALUE=DURATION:PT1H
X-Robots-Tag:noindex
X-PUBLISHED-TTL:PT1H
BEGIN:VTIMEZONE
TZID:Europe/Berlin
BEGIN:DAYLIGHT
TZOFFSETFROM:+0100
TZOFFSETTO:+0200
TZNAME:CEST
DTSTART:20240331T010000
END:DAYLIGHT
BEGIN:STANDARD
TZOFFSETFROM:+0200
TZOFFSETTO:+0100
TZNAME:CET
DTSTART:20241027T010000
END:STANDARD
BEGIN:DAYLIGHT
TZOFFSETFROM:+0100
TZOFFSETTO:+0200
TZNAME:CEST
DTSTART:20250330T010000
END:DAYLIGHT
BEGIN:STANDARD
TZOFFSETFROM:+0200
TZOFFSETTO:+0100
TZNAME:CET
DTSTART:20251026T010000
END:STANDARD
BEGIN:DAYLIGHT
TZOFFSETFROM:+0100
TZOFFSETTO:+0200
TZNAME:CEST
DTSTART:20260329T010000
END:DAYLIGHT
BEGIN:STANDARD
TZOFFSETFROM:+0200
TZOFFSETTO:+0100
TZNAME:CET
DTSTART:20261025T010000
END:STANDARD
END:VTIMEZONE
BEGIN:VEVENT
DTSTART;TZID=Europe/Berlin:20250904T193000
DTEND;TZID=Europe/Berlin:20250904T220000
DTSTAMP:20260424T131652
CREATED:20250810T125605Z
LAST-MODIFIED:20250810T130010Z
UID:10001510-1757014200-1757023200@www.gdanska.de
SUMMARY:MAX SCHULZE-HENNINGS QUARTETT - Jazzkarussell
DESCRIPTION:BESETZUNG:\nMax Schulze-Hennings – Tenor Sax\nClemens Orth – Piano\nHardy Fischötter – Drums\nDaniel Oetz Salcines – Kontrabass \nVERANSTALTUNGSINFO:\n/// DO\, 04.09.2025\n20:00 Uhr\nEinlass 19:30 Uhr \nEintritt 15\,- € / 10\,- erm. Für Schüler u. Studis \nZurück aus der Sommerpause geht es in die erste Runde. \nDie Karussell-Dreherin Eva Kurowski hat dazu eine Band aus Köln eingeladen\, die schon im Juni zum 25. Gdanska Jubiläum spielen sollte\, aber aus organisatorischen Gründen wurde das Konzert verschoben. Nun endlich: Bühne frei für die vier wunderbaren Musiker\, die sich dem Jazz und Latin verschrieben haben. Clemens Orth ist in Köln ein sehr bekannter Pianist\, der Salon de Jazz ist sein zweites Wohnzimmer. Nach sehr langer Zeit freuen wir uns ihn wieder einmal beim Jazz-Karussell zu begrüßen. Saxofonist Max Schulze-Hennings ist beim Jazz-Karussell ebenfalls kein Unbekannter. Ob in Begleitung des Hammond-Wunders Adam\, oder mit Gypsy-Swing\, es ist immer original und authentisch\, ein echter Genuss ihn spielen zu hören. Mit Drummer Hardy Fischötter und Daniel Oetz Salcines am Kontrabass haben wir eine super Rhythmusgruppe\, die einfach Spaß macht. \nWie immer kann man bei den Konzerten polnisch essen und international trinken. Tischreservierung für hungrige Gäste: https://www.gdanska.de/tisch-reservieren/\n-oder einfach kommen! \nDas Jazz-Karussell Oberhausen wird vom Kulturbüro der Stadt gefördert.
URL:https://www.gdanska.de/event/max-schulze-hennings-quartett-jazzkarussell-2/
LOCATION:Gdanska\, Altmarkt 3\, 46045 Oberhausen
CATEGORIES:Jazz,Konzerte
ATTACH;FMTTYPE=image/jpeg:https://www.gdanska.de/wp-content/uploads/2022/09/max-schulze-hennings-saxophon.jpg
ORGANIZER;CN="Jazzkarussell":MAILTO:eva.kurowski@t-online.de
END:VEVENT
BEGIN:VEVENT
DTSTART;TZID=Europe/Berlin:20250913T190000
DTEND;TZID=Europe/Berlin:20250913T220000
DTSTAMP:20260424T131653
CREATED:20250805T110631Z
LAST-MODIFIED:20250805T115318Z
UID:10001507-1757790000-1757800800@www.gdanska.de
SUMMARY:13. NALEPA DAY
DESCRIPTION:Tadeusz Nalepa ist der ungekrönte König des polnischen Blues. Er war diesem Musikgenre von Anfang an bis zum Ende treu. Er war einer der wichtigsten Musiker in der Geschichte des polnischen Rock. Sein Debüt gab er 1963 beim Zweiten Festival für junge Talente in Stettin. \nDie Lieder und seine Musik werden von den Gitarristen Marian Riad und Andi Koehler und  dem Schlagzeuger Gienek Hanusek präsentiert. \nDer spezielle Gast des Abends ist die polnische Vokalistin und Multiinstrumentalistin –  Magda Piskorczyk. Sie singt mit einer reifen\, tiefen\, „schwarzen“ Stimme und spielt Gitarre – akustische\, elektrische und Bassgitarre – sowie Schlaginstrumente. Ihre Musik ist vor allem in der afroamerikanischen und afrikanischen Tradition verwurzelt. Sie arrangiert und komponiert\, tritt regelmäßig mit ihrer Band auf und war Gast bei vielen internationalen Festivals\, unter anderem in Deutschland\, England\, Schweden\, Norwegen\, Ungarn\, Frankreich\, den USA und Taiwan.
URL:https://www.gdanska.de/event/13-nalepa-day/
LOCATION:Gdanska\, Altmarkt 3\, 46045 Oberhausen
CATEGORIES:Konzerte
ATTACH;FMTTYPE=image/jpeg:https://www.gdanska.de/wp-content/uploads/2025/08/PHOTO-2025-08-05-08-53-52.jpg
ORGANIZER;CN="Leonard Paszek":MAILTO:leonard.p@interia.pl
END:VEVENT
BEGIN:VEVENT
DTSTART;TZID=Europe/Berlin:20250916T190000
DTEND;TZID=Europe/Berlin:20250916T210000
DTSTAMP:20260424T131653
CREATED:20250915T094722Z
LAST-MODIFIED:20250915T094815Z
UID:10001529-1758049200-1758056400@www.gdanska.de
SUMMARY:Beatkeller Geschichten
DESCRIPTION:Beatkeller Geschichten\nSein über 60 Jahre gesammeltes Wissen möchte Gitarrissimo-Chef Jürgen Reinke mit dieser Reihe gerne mit Gleichaltrigen teilen oder an Jüngere weitergeben. Pro Folge werden im Schnitt etwa 20-25 Titel\, die für das entsprechende Jahr von Bedeutung waren oder eine wichtige Bedeutung für die weitere Entwicklung der Rockmusik in den 60ern oder 70ern hatten\, gespielt. Dafür steht Reinke seine umfangreiche CD-Sammlung mit über 60.000 Titeln zur Verfügung. Die Musiktitel werden mit Musikerfotos\, Plakatfotos\, Plattencovern u.ä. „per Beamer auf die Leinwand gebracht“ bildlich unterstützt. Hierzu stehen dem Erzählenden weit über 100.000 Abbildungen zur Verfügung\, die auch zum Teil aus dem „Archiv für populäre Musik“ in Dortmund stammen. Der verbale Teil der Veranstaltung wird nicht vollchronologisch wie früher im Geschichtsunterricht ablaufen\, sondern zu jedem der gespielten Titel wird in einem kurzen Text berichtet\, warum er nach Ansicht des Verfassers wichtig ist und der Song deshalb ausgewählt wurde. Nach Ende der knapp zweistündigen Veranstaltungen (mit Pause) gibt es noch ausreichend Gelegenheit\, sich im gemütlichen Kreis an die „Alten Zeiten“ zu erinnern und die eine oder andere Geschichte von damals zu erzählen.\nwww.obsaitensprung.de
URL:https://www.gdanska.de/event/beatkeller-geschichten-4/
LOCATION:Literatur Keller\, Zugang Gutenbergstr. 8\, Oberhausen\, DE\, 46045\, Deutschland
CATEGORIES:Sonstige Veranstaltungen
ATTACH;FMTTYPE=image/jpeg:https://www.gdanska.de/wp-content/uploads/2025/06/beatkeller.jpg
ORGANIZER;CN="Gitarrissimo":MAILTO:info@obsaitensprung.de
END:VEVENT
BEGIN:VEVENT
DTSTART;TZID=Europe/Berlin:20250918T193000
DTEND;TZID=Europe/Berlin:20250918T213000
DTSTAMP:20260424T131653
CREATED:20250810T125909Z
LAST-MODIFIED:20250810T125909Z
UID:10001511-1758223800-1758231000@www.gdanska.de
SUMMARY:CHARLOTTE ILLINGER & TRIO INDIGO - Jazzkarussell
DESCRIPTION:BESETZUNG:\nCharlotte Illinger: Gesang\nMartin Scholz: Klavier\nAlex Morsey: Bass\nAndré Spajic: Schlagzeug \nVERANSTALTUNGSINFO:\n/// DO\, 18.09.2025\n20:00 / Einlass 19:30\nEintritt 15\,- €\n(10\,- € erm.) \nCharlotte Illinger gehört zu den profiliertesten Jazz Sängerinnen der jüngeren Generation und ist bereits jetzt ein kleiner Stern in der Deutschen Jazz Szene. Sie verfügt über ein altes\, authentisches Jazzfeeling der 50´er und 60´er Jahre mit Gänsehautgarantie. Durch ihren Scat-Gesang behauptet sie sich ebenso als Instrumentalistin. Der berühmte Jazzposaunist Nils Landgren meinte: „Deine Stimme\, dein jazziges Tembre\, deine Intonation\, deine klare time und dein feeling haben uns restlos überzeugt.“ Ihr Begleit Trio namens TRIO INDIGO besteht aus Martin Scholz am Klavier\, dem Essener Bassisten Alex Morsey und André Spajic am Schlagzeug\, die gemeinsam bereits sei 25 Jahren auf der Bühne stehen. \nTischreservierung für hungrige Gäste\, die gerne „auf Nummer Sicher“ gehen: https://www.gdanska.de/tisch-reservieren/ \nDas Jazz-Karussell Oberhausen wird vom Kulturbüro der Stadt gefördert.
URL:https://www.gdanska.de/event/charlotte-illinger-trio-indigo-jazzkarussell/
LOCATION:Gdanska\, Altmarkt 3\, 46045 Oberhausen
CATEGORIES:Jazz,Konzerte
ATTACH;FMTTYPE=image/jpeg:https://www.gdanska.de/wp-content/uploads/2025/08/charlotte_illinger.jpg
ORGANIZER;CN="Jazzkarussell":MAILTO:eva.kurowski@t-online.de
END:VEVENT
BEGIN:VEVENT
DTSTART;TZID=Europe/Berlin:20250919T200000
DTEND;TZID=Europe/Berlin:20250919T220000
DTSTAMP:20260424T131653
CREATED:20250725T123027Z
LAST-MODIFIED:20250725T124807Z
UID:10001499-1758312000-1758319200@www.gdanska.de
SUMMARY:Marco Pastorino - Gitarrissimo 932
DESCRIPTION:
URL:https://www.gdanska.de/event/marco-pastorani-gitarrissimo-932/
LOCATION:Gdanska\, Altmarkt 3\, 46045 Oberhausen
CATEGORIES:Gitarrissimo,Konzerte
ATTACH;FMTTYPE=image/jpeg:https://www.gdanska.de/wp-content/uploads/2025/07/Pastorino-Marco.jpg
ORGANIZER;CN="Gitarrissimo":MAILTO:info@obsaitensprung.de
END:VEVENT
BEGIN:VEVENT
DTSTART;TZID=Europe/Berlin:20250920T190000
DTEND;TZID=Europe/Berlin:20250920T210000
DTSTAMP:20260424T131653
CREATED:20250703T080350Z
LAST-MODIFIED:20250819T100401Z
UID:10001496-1758394800-1758402000@www.gdanska.de
SUMMARY:Jola - Kora - Konzert
DESCRIPTION:KORZE\, bez której… \nJola Wolters singt Kora & Maanam \nJolanta Wolters – śpiew \nArkadiusz Błeszyński – gitara\, harmonijka ustna \nFilip R. Max – gitara\, śpiew \n„Rockige Rebellion und lyrische Feinfühligkeit“ \nDie charismatische Sängerin und ihre Gitarristen Arkadiusz Błeszyński und Filip R. Max erwecken mit ihrem Konzert den Geist vergangener Jahre und entführen das Publikum auf eine emotionale Reise in die faszinierende musikalische Welt der polnischen Rock- Ikone Kora (Maanam). Das Publikum wird Songs wie „Eksplozja“\, „Zdrada“\, „Cykady na Cykladach“\, „Krakowski Spleen“\, „Kreon“\, „Paranoja“ und viele andere hören. \nJolanta Wolters ist eine polnische Sängerin aus Zielona Góra\, die in Duisburg lebt. Sie tritt sowohl in Deutschland als auch in Polen auf – u.a. im Lubuski Theater in Zielona Góra\, im Theater/Opernhaus Duisburg und im legendären Piwnica pod Baranami in Krakau. \nBei Konzerten in Deutschland und Polen erhält sie hervorragende Kritiken. Ihre Sensibilität und außergewöhnliche stimmliche Ausdruckskraft ermöglichen ihr einen mühelosen Wechsel zwischen lyrischem Repertoire und kraftvollem Punk-Rock. „Sie ist eine Meisterin in jedem Stil“\, „Phänomenal“ – schrieb die Westdeutsche Allgemeine Zeitung über Jola. Die Künstlerin begeistert nicht nur mit ihrer Stimme\, sondern reißt das Publikum auch mit ihrer emotionaler Tiefe und Ausstrahlung mit. \n\n\nDie Künstlerin hat Soloalben veröffentlicht\, auf denen sie Schauspielerlieder und Poesie sowohl auf Polnisch als auch auf Deutsch singt:: „Jeżeli miłość jest / Wenn es Liebe ist“\, „KORZE\, bez której“ und „Wierszowa Kraina“ – mit Klassikern der polnischen Kinderlyrik. \nArkadiusz Błeszyński ist ein Blues-Gitarrist\, Komponist\, Texter und Arrangeur. Er ist Mitbegründer zahlreicher Musikformationen wie Casus Reggae\, Schau-Pau Acoustic Blues oder The Blair Witch Project & Jan Błędowski. Er komponierte auch Musik für Theaterinszenierungen\, u.a. für Die Hochzeit von Stanisław Wyspiański in der Regie von Jerzy Stuhr und Michał Nocoń. \nFilip R. Max ist Rocksänger\, Gitarrist\, Komponist\, Arrangeur und Texter. Als Frontmann der Rockband Prohibicja feierte er zahlreiche Erfolge und gewann u.a. den Hauptpreis beim May-Day Rock Festival in Głogów\, dem Rockfestival in Kalisz und dem Lubuski Rockfestival in Zielona Góra. Er wurde mit dem ersten Preis beim Wettbewerb Mikrofon prawdy („Mikrofon der Wahrheit“) für Rocksänger ausgezeichnet. Zudem spielte er in Theaterstücken wie Zabawa jak nigdy (Regie: R. Kłosowski)\, Narkomani (Regie: K. Rościszewski) und Roberto Zucco (Regie: W. Matuszewski).
URL:https://www.gdanska.de/event/jola-kora-koncert/
LOCATION:Gdanska\, Altmarkt 3\, 46045 Oberhausen
CATEGORIES:Konzerte
ATTACH;FMTTYPE=image/jpeg:https://www.gdanska.de/wp-content/uploads/2025/07/WhatsApp-Image-2025-08-18-at-10.25.37.jpg
END:VEVENT
BEGIN:VEVENT
DTSTART;TZID=Europe/Berlin:20250926T190000
DTEND;TZID=Europe/Berlin:20250926T210000
DTSTAMP:20260424T131653
CREATED:20250629T124346Z
LAST-MODIFIED:20250907T083556Z
UID:10001494-1758913200-1758920400@www.gdanska.de
SUMMARY:Kaleb Erdmann\, Die Ausweichschule - Literaturhaus
DESCRIPTION:Lesereihe „80 Jahre …“: \nKaleb Erdmann\, Die Ausweichschule\nAm letzten Tag der Abiturprüfungen im Jahr 2002 fallen Schüsse im Erfurter Gutenberg-\nGymnasium. Unser Erzähler erlebt diesen Tag als Elfjähriger\, wird mit seinen Mitschülern\nevakuiert und registriert in den folgenden Wochen die Hilflosigkeit der Erwachsenen im\nAngesicht dieser Tat. Mehr als zwanzig Jahre später bricht das Ereignis völlig unerwartet\nerneut in sein Leben ein und löst eine obsessive Beschäftigung mit dem Sujet aus\, die in\nein Romanprojekt resultieren soll. Aber warum nach so vielen Jahren alte Wunden\naufreißen? Hat er ein Recht dazu? Wie verhält es sich mit seinen Erinnerungen\, welche\nGeschichten hat er so häufig erzählt\, dass sie wahr wurden? Ein pointierter\, persönlicher\,\nerschütternder Text über ein Phänomen\, das uns weltweit umtreibt. \nGefördert vom Ministerium für Kultur und Wissenschaft des Landes Nordrhein-Westfalen \nFreitag\, 26. September 2025\, 19 Uhr (Einlass ab 18 Uhr)\nGdanska Theater\, Gutenbergstr. 8\, 46045 Oberhausen\nEintritt: 10 € / ermäßigt 5 €
URL:https://www.gdanska.de/event/kaleb_erdman_die-ausweichschule-literaturhaus/
LOCATION:Gdanska Theater\, Gutenbergstraße 8\, Hofeinfahrt\, 46045 Oberhausen
CATEGORIES:Lesungen
ATTACH;FMTTYPE=image/jpeg:https://www.gdanska.de/wp-content/uploads/2025/06/Kaleb-Erdmann2.jpg
END:VEVENT
BEGIN:VEVENT
DTSTART;TZID=Europe/Berlin:20250927T190000
DTEND;TZID=Europe/Berlin:20250927T220000
DTSTAMP:20260424T131653
CREATED:20250910T075818Z
LAST-MODIFIED:20250910T075923Z
UID:10001515-1758999600-1759010400@www.gdanska.de
SUMMARY:4. Gdanska Herbst Festival Syndykat und Communa
DESCRIPTION:
URL:https://www.gdanska.de/event/herbstfestival-syndykat-und-communa/
LOCATION:Gdanska\, Altmarkt 3\, 46045 Oberhausen
CATEGORIES:Konzerte
ATTACH;FMTTYPE=image/jpeg:https://www.gdanska.de/wp-content/uploads/2025/09/herbstfestival-2.jpg
ORGANIZER;CN="Leonard Paszek":MAILTO:leonard.p@interia.pl
END:VEVENT
BEGIN:VEVENT
DTSTART;TZID=Europe/Berlin:20250928T180000
DTEND;TZID=Europe/Berlin:20250928T210000
DTSTAMP:20260424T131653
CREATED:20250901T135023Z
LAST-MODIFIED:20250903T123200Z
UID:10001514-1759082400-1759093200@www.gdanska.de
SUMMARY:Kwiaty Polonii - Spotkanie literacko-muzyczne "Matka i córka"
DESCRIPTION:Prof. Brygida Helbig und Justina Mischewski\, Mutter und Tochter \nCezarius Gadzina und Anna Ciborowska\, Mann und Frau \nBraucht es lautstarke Erklärungen\, um eine Führungspersönlichkeit zu sein\, oder zeigt es sich eher im täglichen Handeln und in der Authentizität?\nWie verfolgt man seine Ziele im Exil\, trotz Herausforderungen und Zweifeln?\nDarüber sprechen wir bei einem einzigartigen Treffen mit: Prof. Brygida Helbig – Schriftstellerin\, Dozentin\, Kolumnistin\, Autorin des für den Nike Literary Award nominierten Romans „Niebko“ (https://brygidahelbig.de/pl/) und Justina Mischewski (Helbig) – Psychologin\, Coach\, Spezialistin für die Arbeit mit Menschen im Exil\, Absolventin der Universität Sheffield.\nDas Treffen findet anlässlich der Veröffentlichung ihres gemeinsamen Buches „Im Namen der Mutter und der Tochter“ statt\, in dem es um die Beziehung zwischen Mutter und Tochter\, Emigration\, Bindungspsychologie und unausgesprochene Sehnsüchte geht. \nMusikalische Umrahmung\, eigentlich ein Konzert\, präsentiert  Cezariusz Gadzina\, Saxsophon mit seiner Frau Anna Ciborowska – Piano. \nEs wird inspirierend\, nachdenklich und ehrlich sein! Freuen Sie sich mit uns auf ein Gespräch voller Emotionen und tiefer Reflexionen.\nSie sind herzlich eingeladen!
URL:https://www.gdanska.de/event/kwiaty-polonii-spotkanie-literacko-muzyczne-matka-i-corka/
LOCATION:Gdanska\, Altmarkt 3\, 46045 Oberhausen
CATEGORIES:Konzerte,Sonstige Veranstaltungen,Veranstaltung in polnischer Sprache
ATTACH;FMTTYPE=image/jpeg:https://www.gdanska.de/wp-content/uploads/2025/09/Gdanska-2025.jpg
END:VEVENT
BEGIN:VEVENT
DTSTART;TZID=Europe/Berlin:20250930T200000
DTEND;TZID=Europe/Berlin:20250930T220000
DTSTAMP:20260424T131653
CREATED:20250725T101147Z
LAST-MODIFIED:20250727T082850Z
UID:10001501-1759262400-1759269600@www.gdanska.de
SUMMARY:Akustische Blues Night - Gitarrissimo 933
DESCRIPTION:Drei herausragende Musiker\, ein Abend voller Blues in seiner reinsten Form und ein einfaches\, aber geniales Konzept: Chris Kramer\, Michael von Merwyk und Bad Temper Joe vereinen ihre außergewöhnlichen Talente und Erfahrungen für ein einzigartiges Blueskonzert. Gemeinsam schaffen diese drei Künstler einen Abend\, der durch seine musikalische Vielfalt\, emotionale Intensität und die pure Freude am Spiel besticht. Eine Show\, die den Blues in all seinen Facetten feiert – abwechslungsreich\, unterhaltsam und kurzweilig.\nChris Kramer muß niemandem mehr beweisen\, dass er ein Meister der Mundharmonika ist – sechs Gewinne beim „German Blues Award“ in der Kategorie „Beste Mundharmonika“ sprechen für sich. Doch der gebürtige Ruhrpottler brilliert nicht nur auf diesem kleinen Instrument\, sondern auch als charismatischer Sänger und Geschichtenerzähler. Mit seiner beeindruckenden Bühnenpräsenz und seinem verschmitzten Humor versteht er es\, sein Publikum auf eine musikalische Reise mitzunehmen. Auch unter Kollegen genießt Kramers hohes Ansehen und hat sich weit über die Blues-Szene hinaus Respekt erspielt – etwa bei der belgischen Mundharmonika-Legende Toots Thielemans\, dem Rolling Stones-Pianisten Chuck Leavell oder als Tourmusiker von Peter Maffay. Der Dortmunder ist ein musikalischer Tausendsassa und unerschöpflicher Quell kreativer Ideen.\nMichael van Merwyk\, auch gerne „The Bear“ genannt\, ist Gewinner der German Blues Challenge\, stand bei der Internationalen Blues Challenge 2013 in Memphis mit seiner Band Bluesoul auf dem Treppchen und wurde von Jury und Fachpublikum mehrfach als bester Gitarrist und Sänger bei den German Blues Awards ausgezeichnet. Sein Handwerk lernte er aus erster Hand\, u.a. von Jimmy Rogers\, Lazy Lester\, Joe Louis Walker und Jimmy Johnson. Internationale Bluesgrößen wie Larry Garner und Big Daddy Wilson vertrauen ihm als Studio- und Tourgitarrist\, renommierte europäische Bluesfestivals laden ihn regelmäßig auf ihre Bühnen ein. Er tourt von Norwegen bis an die Mittelmeerküste\, von den Atlantikküste bis nach Moskau (im Moment allerdings nicht) und bleibt sich dabei immer mit seinem „American Music – Euro Style“ treu.\nBad Temper Joe\, der mürrische Bluesbarde aus der ostwestfälischen Provinz\, hat sich in den letzten Jahren ebenfalls zu einer absoluten Ausnahmeerscheinung der deutschen Blues-Szene entwickelt. Davon zeugt nicht nur die Vielzahl an Alben mit ebenso rauen wie eindringlichen Songs\, die BTJ zwischenzeitlich vorgelegt hat. Davon zeugen auch der Gewinn der German Blues Challenge sowie die Nominierungen für diverse Blues Awards und den Preis der deutschen Schallplattenkritik. Auch international schlägt BJT Wellen. 2020 konnte er sich als einziger europäischer Act im Finale der international Blues Challange in Memphis\, USA\, behaupten. Das britische Blues Matters Magazine urteilt folgerichtig: „It´s hard to believe that the sounds of the Mississippi-Delta have relocated to Germany\, but they have.“\nGemeinsam präsentieren die drei Künstler ein vielseitiges Programm\, bei dem jeder Lieder aus seinem Repertoire vorträgt\, während die beiden anderen ihn begleiten. Diese dynamische Interaktion sorgt für eine besondere Energie auf der Bühne und führt zu einem musikalischen Feuerwerk aus Eigenkompositionen und besonderen Arrangements von Klassikern\, das durch Vielseitigkeit\, Virtuosität und unbändige Spielfreude besticht. Drei prägende Namen des Blues\, gemeinsam vereint auf einer Bühne! Eine einzigartige Formation der deutschen Blues-Szene.
URL:https://www.gdanska.de/event/akustische-blues-night-gitarrissimo-933/
LOCATION:Gdanska\, Altmarkt 3\, 46045 Oberhausen
CATEGORIES:Gitarrissimo,Konzerte
ATTACH;FMTTYPE=image/jpeg:https://www.gdanska.de/wp-content/uploads/2025/07/bLUES-NIGHT-e1753604905238.jpg
ORGANIZER;CN="Gitarrissimo":MAILTO:info@obsaitensprung.de
END:VEVENT
END:VCALENDAR