BEGIN:VCALENDAR
VERSION:2.0
PRODID:-//Gdanska - ECPv6.15.20//NONSGML v1.0//EN
CALSCALE:GREGORIAN
METHOD:PUBLISH
X-ORIGINAL-URL:https://www.gdanska.de
X-WR-CALDESC:Veranstaltungen für Gdanska
REFRESH-INTERVAL;VALUE=DURATION:PT1H
X-Robots-Tag:noindex
X-PUBLISHED-TTL:PT1H
BEGIN:VTIMEZONE
TZID:Europe/Berlin
BEGIN:DAYLIGHT
TZOFFSETFROM:+0100
TZOFFSETTO:+0200
TZNAME:CEST
DTSTART:20240331T010000
END:DAYLIGHT
BEGIN:STANDARD
TZOFFSETFROM:+0200
TZOFFSETTO:+0100
TZNAME:CET
DTSTART:20241027T010000
END:STANDARD
BEGIN:DAYLIGHT
TZOFFSETFROM:+0100
TZOFFSETTO:+0200
TZNAME:CEST
DTSTART:20250330T010000
END:DAYLIGHT
BEGIN:STANDARD
TZOFFSETFROM:+0200
TZOFFSETTO:+0100
TZNAME:CET
DTSTART:20251026T010000
END:STANDARD
BEGIN:DAYLIGHT
TZOFFSETFROM:+0100
TZOFFSETTO:+0200
TZNAME:CEST
DTSTART:20260329T010000
END:DAYLIGHT
BEGIN:STANDARD
TZOFFSETFROM:+0200
TZOFFSETTO:+0100
TZNAME:CET
DTSTART:20261025T010000
END:STANDARD
BEGIN:DAYLIGHT
TZOFFSETFROM:+0100
TZOFFSETTO:+0200
TZNAME:CEST
DTSTART:20270328T010000
END:DAYLIGHT
BEGIN:STANDARD
TZOFFSETFROM:+0200
TZOFFSETTO:+0100
TZNAME:CET
DTSTART:20271031T010000
END:STANDARD
END:VTIMEZONE
BEGIN:VEVENT
DTSTART;TZID=Europe/Berlin:20251204T200000
DTEND;TZID=Europe/Berlin:20251204T220000
DTSTAMP:20260424T115610
CREATED:20251005T124713Z
LAST-MODIFIED:20251005T124800Z
UID:10001536-1764878400-1764885600@www.gdanska.de
SUMMARY:MARTIN SASSE TRIO „SWINGING CHRISTMAS“ - JazzKarussell
DESCRIPTION:BESETZUNG:\nMartin Sasse – Flügel\nMartin Gjakonovski – Kontrabass\nJoost van Schaik – Schlagzeug \n/// DO\, 04.12.2025\n20:00 / Einlass 19:30\nEintritt 15\,- €\n(10\,- € erm.) \nJazz-Karussell Oberhausen\nim Gdanska\nAltmarkt 3\, 46045 Oberhausen \n„Swinging Christmas“ lädt ein zu einer beschwingten Klangreise fernab der üblichen Easy-Listening-Pfade – als jazziges Replik von „Driving Home for Christmas“ \nAch\, was hat man nicht alles mit der guten alten Weihnachtsmusik gemacht? \nJahr für Jahr dient sie als akustischer Stimmungsaufheller\, schmückt sentimentale Werbespots und wird als belangloser Soundtrack auf Weihnachtsmärkten eingesetzt\, ohne dass die ursprüngliche Schönheit weihnachtlicher Melodien noch wahrgenommen wird. \nNun jedoch gibt es die ultimative musikalische Gegenargumentation: Das Martin Sasse Trio widmet sich leidenschaftlich sowohl amerikanischen Weihnachtsliedern als auch dem deutschen Erbe weihnachtlicher Volks- und Kirchenlieder – das Ergebnis ist schlicht überwältigend: ein Klangerlebnis\, das weit über die Weihnachtszeit hinaus nachwirkt. \n„Swinging Christmas“ erschließt das Weihnachtslied-Repertoire selbstbewusst dem Jazz. \nMartin Sasse\, einer der führenden Jazzpianisten Europas\, Martin Gjakonovski und Joost van Schaik kreieren aus den schlichten\, oft in ihrer natürlichen Schönheit berührenden Weihnachtsliedern einfühlsame Arrangements und schwungvolle\, groovige Improvisationen. Ebenso elegant wie intelligent wandeln sie durch Stimmungen\, Klänge und Situationen\, lassen sich mit spür- und hörbarer Freude von den vertrauten Melodien leiten und zelebrieren sie mal mit ansteckender Fröhlichkeit\, mal mit erhabener Festlichkeit. Nach dem grandiosen Album „Longing“ (2023\, JJ5135) ist Martin Sasse eine weitere Sternstunde zeitgenössischer Trio-Jazzkunst gelungen. \nTischreservierung für hungrige Gäste\, die gerne „auf Nummer Sicher“ gehen: gdanska.de \nDas Jazz-Karussell Oberhausen wird vom Kulturbüro der Stadt gefördert.
URL:https://www.gdanska.de/event/martin-sasse-trio-swinging-christmas-jazzkarussell/
LOCATION:Gdanska\, Altmarkt 3\, 46045 Oberhausen
CATEGORIES:Jazz,Konzerte
ATTACH;FMTTYPE=image/jpeg:https://www.gdanska.de/wp-content/uploads/2016/05/martin-sasse.jpg
ORGANIZER;CN="Jazzkarussell":MAILTO:eva.kurowski@t-online.de
END:VEVENT
BEGIN:VEVENT
DTSTART;TZID=Europe/Berlin:20251207T080000
DTEND;TZID=Europe/Berlin:20251207T170000
DTSTAMP:20260424T115610
CREATED:20251207T144153Z
LAST-MODIFIED:20251207T144153Z
UID:10001555-1765094400-1765126800@www.gdanska.de
SUMMARY:Beatkeller-Geschichten
DESCRIPTION:16.12.2025 Gitarrissimo 945 – Beatkeller-Geschichten \nDienstag\, 16. Dezember 2025\nBeginn: 20:15 Uhr\nEintrittspreis: 10 € \nRestaurant »Gdanska«\nAltmarkt 3\n46045 Oberhausen\nE-Mail: info@obsaitensprung.de
URL:https://www.gdanska.de/event/beatkeller-geschichten-5/
LOCATION:Literatur Keller\, Zugang Gutenbergstr. 8\, Oberhausen\, DE\, 46045\, Deutschland
CATEGORIES:Gitarrissimo,Lesungen
ATTACH;FMTTYPE=image/jpeg:https://www.gdanska.de/wp-content/uploads/2025/10/Beatkeller_1969_3_14.10.25-e1765118492145.jpg
ORGANIZER;CN="Gitarrissimo":MAILTO:info@obsaitensprung.de
END:VEVENT
BEGIN:VEVENT
DTSTART;TZID=Europe/Berlin:20251209T190000
DTEND;TZID=Europe/Berlin:20251209T210000
DTSTAMP:20260424T115610
CREATED:20250910T140221Z
LAST-MODIFIED:20250910T140956Z
UID:10001525-1765306800-1765314000@www.gdanska.de
SUMMARY:Poetry Jam der Schreibwerkstatt
DESCRIPTION:Ein Jahr lang haben die 12 jungen SchreiberInnen in der „Werkstatt“ gearbeitet: an Texten gefeilt\, gehobelt\, dass die Späne und Ideen nur so flogen\, in die Tiefe gebohrt\, Fundamente gelegt und vielfarbig dekoriert. Angeregt durch die Literaturpädagogin Pia Löber-Wille und mit viel gegenseitiger Unterstützung sind literarische Texte entstanden\, die an diesem Abend einem größeren Publikum präsentiert werden. „Jammen“ Sie mit! \nDie Schreibwerkstatt und der abschließende Poetry Jam wurden gefördert durch das Programm „Kulturrucksack“ der Landesregierung NRW. \nDienstag\, 9. Dezember 2025\, 19 Uhr (Einlass ab 18 Uhr) \nGdanska Theater\, Gutenbergstr. 8\, 46045 Oberhausen  \nEintritt frei \nReservierung über www.literaturhaus-oberhausen.de \nGdanska Theater: Eingang im Hof\, Zugang von der Gutenbergstr. 8\, 46045 Oberhausen \n 
URL:https://www.gdanska.de/event/poetry-jam-der-schreibwerkstatt/
LOCATION:Gdanska Theater\, Gutenbergstraße 8\, Hofeinfahrt\, 46045 Oberhausen
CATEGORIES:Lesungen
ATTACH;FMTTYPE=image/jpeg:https://www.gdanska.de/wp-content/uploads/2025/09/Schreibwerkstatt-Poetry-Jam.jpg
ORGANIZER;CN="LITERATURHAUS Oberhausen":MAILTO:literaturhaus-oberhausen@gmx.de
END:VEVENT
BEGIN:VEVENT
DTSTART;TZID=Europe/Berlin:20251209T200000
DTEND;TZID=Europe/Berlin:20251209T220000
DTSTAMP:20260424T115610
CREATED:20251115T112430Z
LAST-MODIFIED:20251129T133515Z
UID:10001547-1765310400-1765317600@www.gdanska.de
SUMMARY:Gitarrissimo 943 - Go Music Weihnachtskonzert
DESCRIPTION:09.12.2025 Gitarrissimo 943 – Go Music Weihnachtskonzert \nMartin Engelien\nVictor Smolski\nSimon Novsky\nSvenja Schmidt\nEmanuele Martinez\nKai Weiner\nDirk Brand\nReiner Witzel \nDienstag\, 09. Dezember 2025\nBeginn: 20:15 Uhr\nEintrittspreis: 27 € \nROCKIN’ X-MAS – Weihnachten rockt! 🔥🎄\nDie legendäre GO MUSIC Tour ist zurück – und diesmal wird’s festlich\, wild & wundervoll!\nWenn Bass-Legende Martin Engelien und Gitarren-Virtuose Victor Smolski die Bühne betreten\, wird aus Weihnachtszauber pure Rock-Ekstase! 🤘✨\nSie bringen ein internationales All-Star-Line-Up mit:\n⭐ Svenja Schmidt – Soulqueen mit Gänsehaut-Garantie\n⭐ Simon Novsky – Grammy-Gewinner mit Weltstimme\n⭐ Emanuele Martinez – Tenor & Violin-Magie aus Sardinien\n⭐ Kai Weiner – Stimme & Keys mit Herz und Groove\n💥 Dazu: Dirk Brand (Drums) & Reiner Witzel (Sax) – die Groove-Maschine höchstpersönlich!\n🎶 7 Städte\, 1 Mission: Weihnachten feiern\, wie es sich gehört – laut\, leidenschaftlich & voller Energie!\n📅 ROCKIN’ X-MAS Tour 2025 – GO MUSIC live in NRW!\n🎟 Tickets jetzt sichern – bevor der Weihnachtsstern verglüht! –> E-Mail: info@obsaitensprung.de \nRestaurant »Gdanska«\nAltmarkt 3\n46045 Oberhausen
URL:https://www.gdanska.de/event/gitarrissimo-943-go-music-weihnachtskonzert/
LOCATION:Gdanska\, Altmarkt 3\, 46045 Oberhausen
CATEGORIES:Gitarrissimo,Konzerte
ATTACH;FMTTYPE=image/jpeg:https://www.gdanska.de/wp-content/uploads/2025/11/Go-Music-Christmas.jpg
ORGANIZER;CN="Gitarrissimo":MAILTO:info@obsaitensprung.de
END:VEVENT
BEGIN:VEVENT
DTSTART;TZID=Europe/Berlin:20251210T190000
DTEND;TZID=Europe/Berlin:20251210T210000
DTSTAMP:20260424T115610
CREATED:20250910T140441Z
LAST-MODIFIED:20250910T140746Z
UID:10001526-1765393200-1765400400@www.gdanska.de
SUMMARY:Schüler*innen des Elsa-Brändström-Gymnasiums\, Am Anfang schreibt man für den Papierkorb
DESCRIPTION:Die vom Oberhausener Verlag Karl Maria Laufen veröffentlichte Buchreihe „Am Anfang schreibt man für den Papierkorb“ enthält Texte\, die im Rahmen des Kurses Kreatives Schreiben am Elsa-Brändström-Gymnasium entstanden sind. Ziel des Kurses ist es\, junge Menschen zu ermutigen und ihnen zu helfen\, ihre eigenen Gedanken\, Fragen\, Befürchtungen und Hoffnungen\, ihre eigenen Erfahrungen und Phantasien in poetischen Texten auszudrücken – etwa in Aphorismen\, Gedichten und Kurzgeschichten. Die entstandenen Schüler*innentexte werden seit einigen Jahren auch regelmäßig im Literaturhaus präsentiert. \nMittwoch\, 10. Dezember 2025\, 19 Uhr (Einlass ab 18 Uhr) \nGdanska Theater\, Gutenbergstr. 8\, 46045 Oberhausen  \nEintritt frei \nReservierung über www.literaturhaus-oberhausen.de \nGdanska Theater: Eingang im Hof\, Zugang von der Gutenbergstr. 8\, 46045 Oberhausen
URL:https://www.gdanska.de/event/schuelerinnen-des-elsa-braendstroem-gymnasiums-am-anfang-schreibt-man-fuer-den-papierkorb/
LOCATION:Gdanska Theater\, Gutenbergstraße 8\, Hofeinfahrt\, 46045 Oberhausen
CATEGORIES:Lesungen
ATTACH;FMTTYPE=image/jpeg:https://www.gdanska.de/wp-content/uploads/2025/09/Papierkorb42.jpg
ORGANIZER;CN="LITERATURHAUS Oberhausen":MAILTO:literaturhaus-oberhausen@gmx.de
END:VEVENT
BEGIN:VEVENT
DTSTART;TZID=Europe/Berlin:20251212T190000
DTEND;TZID=Europe/Berlin:20251212T210000
DTSTAMP:20260424T115610
CREATED:20250910T140711Z
LAST-MODIFIED:20250910T140711Z
UID:10001527-1765566000-1765573200@www.gdanska.de
SUMMARY:Harald Jähner\, Wunderland - Die Gründerzeit der BRD - Literaturhaus
DESCRIPTION:Lesereihe „80 Jahre …“: \nDie Trümmer waren beseitigt (nicht alle)\, das „Wirtschaftswunder“\, das kein Wunder war\, sondern die Folge massiver Unterstützung aus den USA\, mündete in einen Konsumrausch: „Neckermann macht’s möglich!“. Das eigene Leid wurde überhöht\, der Holocaust verdrängt und an vielen wichtigen Positionen fanden sich diejenigen\, die auch während des Faschismus dort saßen. Aber ein Ende der „dumpfen Jahre“ zeichnete sich ab: Erste Prozesse wegen NS-Verbrechen fanden statt\, progressive Ideen fanden Verbreitung. Nach dem großen Erfolg seines Buches „Wolfszeit. Deutschland und die Deutschen 1945 – 1955“ wendet sich Harald Jähner jetzt den „Gründerjahren der Bundesrepublik“ zu und zeigt die Mentalität zwischen Kontinuität und Aufbruch auf. \nFreitag\, 12. Dezember 2025\, 19 Uhr (Einlass ab 18 Uhr) \nGdanska Theater\, Gutenbergstr. 8\, 46045 Oberhausen \nEintritt: 10 € (ermäßigt 5 €) \n  \n  \nReservierung über www.literaturhaus-oberhausen.de \nGdanska Theater: Eingang im Hof\, Zugang von der Gutenbergstr. 8\, 46045 Oberhausen
URL:https://www.gdanska.de/event/harald-jaehner-wunderland-die-gruenderzeit-der-brd-literaturhaus/
LOCATION:Gdanska Theater\, Gutenbergstraße 8\, Hofeinfahrt\, 46045 Oberhausen
CATEGORIES:Lesungen
ATTACH;FMTTYPE=image/jpeg:https://www.gdanska.de/wp-content/uploads/2025/09/Harald-Jaehner-c-Barbara-Dietl-2.jpg
ORGANIZER;CN="LITERATURHAUS Oberhausen":MAILTO:literaturhaus-oberhausen@gmx.de
END:VEVENT
BEGIN:VEVENT
DTSTART;TZID=Europe/Berlin:20251214T170000
DTEND;TZID=Europe/Berlin:20251214T190000
DTSTAMP:20260424T115610
CREATED:20251118T114259Z
LAST-MODIFIED:20251118T114705Z
UID:10001549-1765731600-1765738800@www.gdanska.de
SUMMARY:Swięta u Placków - Zachciało się wam Kalwarii"
DESCRIPTION:Kochani\, gramy te sztukę już 4 lata i nadal nas śmieszy. Nadal są chętni\, żeby wypełnić salę teatralną w restauracji „Gdańska” w Oberhausen i śmiać się do łez razem z nami. Zapraszamy tych\, którzy jeszcze nie widzieli\, albo parę razy już widzieli i nie mogą bez Placków żyć\,  w niedzielę 14. grudnia 2025  do Oberhausen. Dwie godziny śmiechu gwarantowane. \nTym razem okazja jest znakomita: podzielimy się z Plackami opłatkiem. \n 
URL:https://www.gdanska.de/event/swieta-u-plackow-zachcialo-sie-wam-kalwarii/
LOCATION:Gdanska Theater\, Gutenbergstraße 8\, Hofeinfahrt\, 46045 Oberhausen
CATEGORIES:Theater,Veranstaltung in polnischer Sprache
ATTACH;FMTTYPE=image/jpeg:https://www.gdanska.de/wp-content/uploads/2025/11/PHOTO-2025-11-17-09-44-37-1.jpg
ORGANIZER;CN="Leonard Paszek":MAILTO:leonard.p@interia.pl
END:VEVENT
BEGIN:VEVENT
DTSTART;TZID=Europe/Berlin:20251218T200000
DTEND;TZID=Europe/Berlin:20251218T220000
DTSTAMP:20260424T115610
CREATED:20251005T125011Z
LAST-MODIFIED:20251005T125011Z
UID:10001537-1766088000-1766095200@www.gdanska.de
SUMMARY:MILLI SINGS „THE LEGEND OF MONK“ - JazzKarussell
DESCRIPTION:BESETZUNG:\nMilli Häuser – Gesang (arr & more / lyrics)\nMatthias Dymke – Flügel\nAlexander Morsey – Kontrabass\nUwe Kellerhoff – Schlagzeug / Percussion \n/// DO\, 18.12.2025\n20:00 / Einlass 19:30\nEintritt 15\,- €\n(10\,- € erm.) \nJazz-Karussell Oberhausen\nim Gdanska\nAltmarkt 3\, 46045 Oberhausen \nMilli Häuser mit Trio spielen eine eigenwillige Hommage an den musikalischen Architekten und Pianisten Thelonious Monk. Das Besondere: Die im Ursprung instrumentalen Stücke werden gesungen\, mit überwiegend eigenen Texten auf deutsch und englisch\, das Ganze in eigenen modernen Arrangements. \nUnd natürlich gibt es brillante Jazzimprovisationen\, sowie gesungene Auszüge von original übernommenen Monk- Improvisationen und biographische Momente anhand kleiner Geschichten über Monks Leben. \n»Ein effektvoller Abend\, der immer zu überraschen weiß…« (WAZ Herne) \n»…Lupenreiner Jazz mit “Milli sings Monk” um den legendären Pianisten Thelonious Monk (1917-1982). Monk gilt mit seinem eigenwilligen Klavierstil und seinen unverwechselbaren\, abstrakten Kompositionen als einer der wichtigsten Innovatoren des Modern Jazz… . \nDer “gesungene Monk” erschließt sich dem Publikum hier auf wunderbare Weise… . \nNeben den musikalischen Ausdrucksformen erscheint immer wieder auch der Mensch Thelonious Monk\, ein schräger Vogel\, könnte man wohl sagen\, nie so recht gelandet im Alltäglichen – aber eben dies war die Voraussetzung\, die der Künstler für seine Genie-Attacken brauchte… . \nDie Musik der Band verströmen das gewisse Bebop Flair\, spielt hoch motiviert und gekonnt. \nMilli Häuser singt leichtfüßig und virtuos und ziemlich sinnlich dazu… .” (jb\, WAZ Bochum) \n»…Milli Häuser und Band haben ihre ganz eigene Herangehensweise an Monk. Sie betrachten den Musiker eher aus der Ferne\, ahmen ihn nicht nach und sind\, immer auf der Suche nach dem perfekten Ton. Milli Häusers Gesangsimprovisationen und Bühnenpräsenz sind so\, dass man dazu am liebsten mit swingt. Ihre facettenreiche Stimme ist wie ein Sahnehäubchen auf den Stücken des musikalischen Architekten Monk…« (ns\, WAZ Herne) \nTischreservierung für hungrige Gäste\, die gerne „auf Nummer Sicher“ gehen: gdanska.de
URL:https://www.gdanska.de/event/milli-sings-the-legend-of-monk-jazzkarussell/
LOCATION:Gdanska\, Altmarkt 3\, 46045 Oberhausen
CATEGORIES:Jazz,Konzerte
ATTACH;FMTTYPE=image/jpeg:https://www.gdanska.de/wp-content/uploads/2025/10/milli-haeuser-monk.jpg
ORGANIZER;CN="Jazzkarussell":MAILTO:eva.kurowski@t-online.de
END:VEVENT
BEGIN:VEVENT
DTSTART;TZID=Europe/Berlin:20251220T160000
DTEND;TZID=Europe/Berlin:20251220T220000
DTSTAMP:20260424T115610
CREATED:20251206T091652Z
LAST-MODIFIED:20251210T155749Z
UID:10001553-1766246400-1766268000@www.gdanska.de
SUMMARY:Polnischer Abend auf dem Weihnachtsmarkt
DESCRIPTION:Auf dem Weihnachtsmark in Oberhausen – Altmarkt: \nPOLNISCHE WEIHNACHT ist cool! \nPolnische Musik\, Weihnachtslieder\, stimmungsvolle Lieder\, polnische Folkloretänze\, polnische Weihnachtstraditionen.
URL:https://www.gdanska.de/event/polnischer-abend-auf-dem-weihnachtsmarkt/
LOCATION:Gdanska\, Altmarkt 3\, 46045 Oberhausen
CATEGORIES:Sonstige Veranstaltungen
ATTACH;FMTTYPE=image/jpeg:https://www.gdanska.de/wp-content/uploads/2025/12/Polnische-Weihnacht-aktuellr-Version-scaled.jpg
END:VEVENT
BEGIN:VEVENT
DTSTART;TZID=Europe/Berlin:20251222T200000
DTEND;TZID=Europe/Berlin:20251222T230000
DTSTAMP:20260424T115610
CREATED:20251115T164533Z
LAST-MODIFIED:20251115T164533Z
UID:10001548-1766433600-1766444400@www.gdanska.de
SUMMARY:Weihnachtsrock - Superzeit
DESCRIPTION:22.12.2025 Gitarrissimo 946 – Weihnachtsrock\nSuperzeit \nLiebe Rockfreunde\,\nseit 16 Jahren gibt es den Weihnachtsrock im Gdanska.\nImmer am 22. Dezember mit SUPERZEIT – und immer ist es ein Fest\nfür alle\, die die Hits der 60er und 70er Jahre lieben.\nAlso\, Karten reservieren\, abrocken und Spaß haben.\nWeihnachtsrock ist Kult !    \n\nMontag\, 22. Dezember 2025\nBeginn: 20:15 Uhr\nEintrittspreis: 18 € \nRestaurant »Gdanska«\nAltmarkt 3\n46045 Oberhausen\nE-Mail: info@obsaitensprung.de
URL:https://www.gdanska.de/event/weihnachtsrock-superzeit/
LOCATION:Gdanska\, Altmarkt 3\, 46045 Oberhausen
CATEGORIES:Gitarrissimo,Konzerte
ATTACH;FMTTYPE=image/jpeg:https://www.gdanska.de/wp-content/uploads/2025/11/2024-Plakat-Weihnachtsrock-2024-1-scaled-e1763225122657.jpg
ORGANIZER;CN="Gitarrissimo":MAILTO:info@obsaitensprung.de
END:VEVENT
BEGIN:VEVENT
DTSTART;TZID=Europe/Berlin:20251223T200000
DTEND;TZID=Europe/Berlin:20251223T230000
DTSTAMP:20260424T115610
CREATED:20251118T120027Z
LAST-MODIFIED:20251118T120027Z
UID:10001550-1766520000-1766530800@www.gdanska.de
SUMMARY:Rock-Christmas 35 im GDANSKA
DESCRIPTION:Alle Jahre wieder … \nUnser jährliches BENEFIZ-Weihnachtskonzert für die Pupils for the Poor\, wie immer am 23.12. Dieses Jahr bereits die 35. Auflage (seit 1990). Unter dem Motto ‚Rock-Christmas 35‘ bereits seit 2006 in der Kult(ur)kneipe GDANSKA beheimatet. Kommet wie immer zahlreich und feiert mit. \nEinlass 19:00 Uhr – Show 20:15 Uhr – Abendkasse=Spende: 10 Euro \nMR. MOST MONEY MAN stehen für den feinsten Live-Sound der letzten vier Dekaden Musikhistorie. Das Publikum erwartet Nonstop ein launiger Querschnitt aus den besten Songs der vergangenen 40 Jahre. Die Band präsentiert im Laufe des Abends die Party Kracher aus Rock & Pop & Alternative der 80s & Up mit ausgeprägtem Feier- und Party-Potenzial. Zu\nWeihnachten steht dabei natürlich auch wieder das ein oder andere (Rock) Christmas Evergreen auf dem musikalischen Programm. \nwww.Gdanska.de \nwww.MrMostMoneyMan.de \nwww.facebook.com/MrMostMoneyMan
URL:https://www.gdanska.de/event/rock-christmas-35-im-gdanska/
LOCATION:Gdanska\, Altmarkt 3\, 46045 Oberhausen
CATEGORIES:Konzerte
ATTACH;FMTTYPE=image/jpeg:https://www.gdanska.de/wp-content/uploads/2025/11/MR.-MOST-MONEY-MAN-Rock-Christmas-35.jpg
END:VEVENT
BEGIN:VEVENT
DTSTART;TZID=Europe/Berlin:20251224T080000
DTEND;TZID=Europe/Berlin:20251230T170000
DTSTAMP:20260424T115610
CREATED:20251207T153733Z
LAST-MODIFIED:20251221T134402Z
UID:10001558-1766563200-1767114000@www.gdanska.de
SUMMARY:Betriebsferien - wir haben bis zum 30.12. geschlossen.
DESCRIPTION:🎄 Wichtige Information für unsere Gäste! 🥂 \nLiebe Gäste und Freunde des Gdanska\, \nWir gönnen uns eine kleine Pause! \nDas Restaurant Gdanska bleibt wegen Betriebsferien geschlossen vom: \nDienstag\, 24. Dezember bis Montag\, 30. Dezember 2025 \nWir sind aber pünktlich zurück\, um das Jahr gebührend zu verabschieden!\nWir freuen uns riesig auf unsere legendäre Silvesterparty am Dienstag\, den 31. Dezember 2025\, hier öffnen wir wieder die Türen! \nWir wünschen Ihnen eine frohe Weihnachtszeit und einen guten Rutsch! \nIhr Team vom Gdanska
URL:https://www.gdanska.de/event/12060/
LOCATION:Gdanska\, Altmarkt 3\, 46045 Oberhausen
ATTACH;FMTTYPE=image/png:https://www.gdanska.de/wp-content/uploads/2025/12/Winterferien-1.png
END:VEVENT
BEGIN:VEVENT
DTSTART;TZID=Europe/Berlin:20251231T190000
DTEND;TZID=Europe/Berlin:20260101T010000
DTSTAMP:20260424T115610
CREATED:20251016T100710Z
LAST-MODIFIED:20251115T164957Z
UID:10001541-1767207600-1767229200@www.gdanska.de
SUMMARY:Silvester 2025 - AUSVERKAUFT
DESCRIPTION:AUSVERKAUFT \nZwei Bühnen – ein Silvester \ngroße Bühne: DJ – Tomek\nkleine Bühne: Duo – „Benrose“ \nEinlass 19 Uhr\nParty 20 Uhr bis 1 Uhr \nEintritt: 35 Euro\nBegrüßungsgetränk & Sektglas zur Mitternacht \nKarten ab 16.10.2025 an der Theke erhältlich. \nAUSVERKAUFT
URL:https://www.gdanska.de/event/silvester-2025/
LOCATION:Gdanska\, Altmarkt 3\, 46045 Oberhausen
CATEGORIES:Konzerte,Sonstige Veranstaltungen
ATTACH;FMTTYPE=image/png:https://www.gdanska.de/wp-content/uploads/2025/10/AUSVERKAUFT.png
END:VEVENT
END:VCALENDAR