BEGIN:VCALENDAR
VERSION:2.0
PRODID:-//Gdanska - ECPv6.15.20//NONSGML v1.0//EN
CALSCALE:GREGORIAN
METHOD:PUBLISH
X-WR-CALNAME:Gdanska
X-ORIGINAL-URL:https://www.gdanska.de
X-WR-CALDESC:Veranstaltungen für Gdanska
REFRESH-INTERVAL;VALUE=DURATION:PT1H
X-Robots-Tag:noindex
X-PUBLISHED-TTL:PT1H
BEGIN:VTIMEZONE
TZID:Europe/Berlin
BEGIN:DAYLIGHT
TZOFFSETFROM:+0100
TZOFFSETTO:+0200
TZNAME:CEST
DTSTART:20250330T010000
END:DAYLIGHT
BEGIN:STANDARD
TZOFFSETFROM:+0200
TZOFFSETTO:+0100
TZNAME:CET
DTSTART:20251026T010000
END:STANDARD
BEGIN:DAYLIGHT
TZOFFSETFROM:+0100
TZOFFSETTO:+0200
TZNAME:CEST
DTSTART:20260329T010000
END:DAYLIGHT
BEGIN:STANDARD
TZOFFSETFROM:+0200
TZOFFSETTO:+0100
TZNAME:CET
DTSTART:20261025T010000
END:STANDARD
BEGIN:DAYLIGHT
TZOFFSETFROM:+0100
TZOFFSETTO:+0200
TZNAME:CEST
DTSTART:20270328T010000
END:DAYLIGHT
BEGIN:STANDARD
TZOFFSETFROM:+0200
TZOFFSETTO:+0100
TZNAME:CET
DTSTART:20271031T010000
END:STANDARD
END:VTIMEZONE
BEGIN:VEVENT
DTSTART;TZID=Europe/Berlin:20260424T190000
DTEND;TZID=Europe/Berlin:20260424T210000
DTSTAMP:20260420T114852
CREATED:20260402T134952Z
LAST-MODIFIED:20260402T134952Z
UID:10001610-1777057200-1777064400@www.gdanska.de
SUMMARY:Ursula Krechel\, Sehr geehrte Frau Ministerin
DESCRIPTION:Wir freuen uns\, zum ersten Mal die Georg-Büchner-Preisträgerin des letzten Jahres\, Ursula Krechel\, bei uns im Literaturhaus Oberhausen begrüßen zu können. Mit ihrem im letzten Jahr erschienenen Roman „Sehr geehrte Frau Ministerin“ stellt uns die Autorin ein vielschichtiges Werk vor. Kurze Einblicke in das Leben mehrerer Protagonistinnen\, deren Geschichten sich begegnen und auch unglücklich verzweigen\, werden zu einer komplexen Handlungsstruktur verwoben. Es geht um Unverständnis gegenüber und Gewalt gegen Frauen und um unvorhergesehene Auswirkungen verzweifelter Handlungen. Durch die sprachlichen und literarischen Besonderheiten des Erzählens ist ein anspruchsvoller Roman entstanden\, der eine Kulturgeschichte aller Frauen beschreiben soll. Hören wir\, was uns die Autorin dazu zu sagen hat.\nUrsula Krechel ist 1947 in Trier geboren und lebt heute in Berlin. Nach dem Studium der Germanistik\, Theaterwissenschaft und Kunstgeschichte und der Lehrtätigkeit an verschiedenen Universitäten\, veröffentlicht sie seit 1977 ihre Werke\, die vielfach prämiert sind. Für den Roman „Landgericht“ erhielt sie 2012 den Deutschen Buchpreis.\nFreitag\, 24. April 2026\, 19 Uhr (Einlass ab 18 Uhr)\nGdanska Theater\, Gutenbergstr. 8\, 46045 Oberhausen\nEintritt: 10 € / ermäßigt 5 €
URL:https://www.gdanska.de/event/ursula-krechel-sehr-geehrte-frau-ministerin/
LOCATION:Gdanska Theater\, Gutenbergstraße 8\, Hofeinfahrt\, 46045 Oberhausen
CATEGORIES:Lesungen
ATTACH;FMTTYPE=image/jpeg:https://www.gdanska.de/wp-content/uploads/2026/04/Ursula-Krechel-c-Amrei-Marie.jpg
ORGANIZER;CN="LITERATURHAUS Oberhausen":MAILTO:literaturhaus-oberhausen@gmx.de
END:VEVENT
BEGIN:VEVENT
DTSTART;TZID=Europe/Berlin:20260425T190000
DTEND;TZID=Europe/Berlin:20260425T210000
DTSTAMP:20260420T114852
CREATED:20260323T140215Z
LAST-MODIFIED:20260411T124341Z
UID:10001601-1777143600-1777150800@www.gdanska.de
SUMMARY:"Być jak Charlie Chaplin" Monodram- Theater auf Polnisch
DESCRIPTION:O spektaklu \n„Być jak Charlie Chaplin” to brawurowa próba zmierzenia się z legendą. Najsłynniejszy komik kina niemego stał się ikoną popkultury już bardzo dawno temu. Jego znakiem rozpoznawczym były melonik\, laseczka oraz charakterystyczny wąsik i to jest pewne. Potem pojawiają się już tylko pytania i wątpliwości. Nieprzypadkowo w konkursie na sobowtórów Charlie Chaplina sam Charlie Chaplin zajął… 3 miejsce\, jak mówi jedna z najsłynniejszych anegdot związanych z reżyserem filmu „Dyktator”. Do dziś nie wiemy\, kim był z pochodzenia i gdzie się urodził ten genialny aktor\, scenarzysta i reżyser. \nOryginalny scenariusz Piotra Wyszomirskiego napisany współczesnym językiem\, konfrontuje osobę i twórczość Chaplina z kondycją dzisiejszego aktora. Porusza nieoczywiste tematy\, nie stroniąc od krytycznego spojrzenia na rzeczywistość. Tekst w formie monodramu przygotowany został pod konkretnego aktora i daje szerokie pole do ukazania jego scenicznych możliwości. Autor za medium i partnera nieprzypadkowo wybrał aktora teatru muzycznego. \n„Być jak Charlie Chaplin” to wulkan energii\, w którym Mateusz Deskiewicz z Teatru Muzycznego w Gdyni pokazuje pełen wachlarz swych umiejętności: tańczy\, śpiewa\, wzrusza\, rozśmiesza i prowokuje do refleksji. Podczas premiery na scenie towarzyszył mu przy pianinie Artur Guza – muzyk\, kompozytor\, aktor Teatru Muzycznego w Gdyni. \nhttps://charlie.pomyslodalnia.pl \nhttps://www.gdanska.de/wp-content/uploads/2026/03/WhatsApp-Video-2026-03-23-at-14.40.11-1.mp4
URL:https://www.gdanska.de/event/byc-jak-charlie-chaplin-monodram-muzyczny/
LOCATION:Gdanska Theater\, Gutenbergstraße 8\, Hofeinfahrt\, 46045 Oberhausen
CATEGORIES:Theater,Veranstaltung in polnischer Sprache
ATTACH;FMTTYPE=image/jpeg:https://www.gdanska.de/wp-content/uploads/2026/03/Chaplin-olakat.jpg
ORGANIZER;CN="Leonard Paszek":MAILTO:leonard.p@interia.pl
END:VEVENT
BEGIN:VEVENT
DTSTART;TZID=Europe/Berlin:20260425T200000
DTEND;TZID=Europe/Berlin:20260425T223000
DTSTAMP:20260420T114852
CREATED:20260206T190334Z
LAST-MODIFIED:20260323T140613Z
UID:10001582-1777147200-1777156200@www.gdanska.de
SUMMARY:A.S. Fanning (DE) - Indie Radar Ruhr
DESCRIPTION:A.S. Fanning – Take Me Back To Nowhere\nA.S. Fanning is an Irish songwriter whose music fuses the introspection of indie folk with the expansive weight of alternative rock and psychedelic music. Marked by layered textures\, melancholic atmospheres\, and his resonant baritone\, his songs confront themes of dread\, mortality\, and uncertainty. \nDrawing comparisons to Leonard Cohen and Scott Walker\, Fanning transforms unease into hauntingly beautiful soundscapes\, blending acoustic intimacy with subtle electronic flourishes to create a voice that is both timeless and distinctly his own. A.S. Fanning’s latest album Mushroom Cloud earned widespread acclaim in the UK\, praised for its sweeping atmospheres and unflinching lyricism. Hailed in the press as a career-defining work\, it secured him recognition as Songwriter of the Year 2023 in Far Out Magazine and cemented his reputation as one of Ireland’s most compelling voices. \n \nA.S. Fanning\n25.04.2025\nGdanska\, Altmarkt 3\, 46045 Oberhausen\nEinlass: 19:30Uhr\nBeginn: 20Uhr
URL:https://www.gdanska.de/event/a-s-fanning-de-indie-radar-ruhr/
LOCATION:Gdanska\, Altmarkt 3\, 46045 Oberhausen
CATEGORIES:INDIE RADAR RUHR,Konzerte
ATTACH;FMTTYPE=image/png:https://www.gdanska.de/wp-content/uploads/2026/02/051_Indie-Radar-Ruhr_26-04-25-A.S.-Fanning_1080x1350-2.png
ORGANIZER;CN="INDIE RADAR RUHR":MAILTO:booking@indie-radar-ruhr.de
END:VEVENT
BEGIN:VEVENT
DTSTART;TZID=Europe/Berlin:20260430T210000
DTEND;TZID=Europe/Berlin:20260430T210000
DTSTAMP:20260420T114852
CREATED:20260409T093936Z
LAST-MODIFIED:20260419T105635Z
UID:10001620-1777582800-1777582800@www.gdanska.de
SUMMARY:Tanz in den Mai umsonst und draußen FEEL FINE
DESCRIPTION:Die Band Feel Fine ist seit Jahrzehnten unterwegs\, um ihre Helden und Legenden am Leben zu erhalten\, auch wenn diese langsam ziemlich in die Jahre kommen. Das Ergebnis der 8-köpfigen Band aus dem schwärztesten Teil des Ruhrgebiets ist eine Soul & Funk Show\, bei der niemand still stehen kann. „We got to groove“ ist das Motto mit den Hits aus den vergangenen Tagen von Johnny Guitar Watson\, Donna Summer\, Chaka Khan\, Stevie Wonder\, Aretha Franklin und natürlich den Funky-Disco-Klassikern von Chic\, Earth Wind & Fire\, Kool & the Gang und vielen anderen – jedes einzelne Stück handverlesen und immer mit der ganz besonderen Feel-Fine-Note! Der Spaß auf der Bühne und das Publikum stehen dabei immer im Vordergrund. Feel Fine feiert dieses Jahr 40-jähriges Bestehen\, das muss gefeiert werden! In diesem Sinne: \nGet The Party Started! ALTMARKT OBERHAUSEN \nRobert Waggeling – vocals\n\nNeeltje Scholz – vocals\n\nMaartje Schouten – vocals\n\nJörg Krause – guitar\, vocals\n\nJürgen Pomorin – bass\n\nDarius Dudek – keyboards\n\nJens Rohloff – percussion\n\nPeer Scholz – drums\, vocals
URL:https://www.gdanska.de/event/tanz-in-den-mai-umsonst-und-draussen-feel-fine/
LOCATION:Gdanska\, Altmarkt 3\, 46045 Oberhausen
CATEGORIES:Open Air
ATTACH;FMTTYPE=image/jpeg:https://www.gdanska.de/wp-content/uploads/2026/04/Feel-Fine-2026.jpg
END:VEVENT
END:VCALENDAR