BEGIN:VCALENDAR
VERSION:2.0
PRODID:-//Gdanska - ECPv6.15.20//NONSGML v1.0//EN
CALSCALE:GREGORIAN
METHOD:PUBLISH
X-ORIGINAL-URL:https://www.gdanska.de
X-WR-CALDESC:Veranstaltungen für Gdanska
REFRESH-INTERVAL;VALUE=DURATION:PT1H
X-Robots-Tag:noindex
X-PUBLISHED-TTL:PT1H
BEGIN:VTIMEZONE
TZID:Europe/Berlin
BEGIN:DAYLIGHT
TZOFFSETFROM:+0100
TZOFFSETTO:+0200
TZNAME:CEST
DTSTART:20200329T010000
END:DAYLIGHT
BEGIN:STANDARD
TZOFFSETFROM:+0200
TZOFFSETTO:+0100
TZNAME:CET
DTSTART:20201025T010000
END:STANDARD
BEGIN:DAYLIGHT
TZOFFSETFROM:+0100
TZOFFSETTO:+0200
TZNAME:CEST
DTSTART:20210328T010000
END:DAYLIGHT
BEGIN:STANDARD
TZOFFSETFROM:+0200
TZOFFSETTO:+0100
TZNAME:CET
DTSTART:20211031T010000
END:STANDARD
BEGIN:DAYLIGHT
TZOFFSETFROM:+0100
TZOFFSETTO:+0200
TZNAME:CEST
DTSTART:20220327T010000
END:DAYLIGHT
BEGIN:STANDARD
TZOFFSETFROM:+0200
TZOFFSETTO:+0100
TZNAME:CET
DTSTART:20221030T010000
END:STANDARD
END:VTIMEZONE
BEGIN:VEVENT
DTSTART;TZID=Europe/Berlin:20210918T153000
DTEND;TZID=Europe/Berlin:20210918T180000
DTSTAMP:20260419T163554
CREATED:20210909T165717Z
LAST-MODIFIED:20210910T101812Z
UID:10000978-1631979000-1631988000@www.gdanska.de
SUMMARY:Debattierclub: Integration durch Religion: Chance oder Hindernis?
DESCRIPTION:Fakultät V: Debattierclub\nDas Thema „Integration“ beschäftigt seit Jahrzehnten die Gesellschaft und nimmt spätestens seit den großen internationalen Fluchtbewegungen in den Jahren 2015/16 auch einen zentralen Stellenwert in Wahlprogrammen der Parteien der Bundesrepublik ein. Dabei übernehmen nicht nur Bund und Länder Verantwortung\, sondern auch religiöse Institutionen\, Verbände und Organisationen\, die teils in Kooperation mit staatlichen Stellen stehen. Insbesondere die Kirchen als auch islamische Verbände sind Teil weitreichender Integrations- und Willkommensstrukturen in einem Staat\, der für sich in Anspruch nimmt\, keine Religion inne zu haben. Gerade hier stellt sich die Frage\, welches Verhältnis der Staat zur Religion an sich haben sollte? Ob die Kooperation mit religiösen Strukturen mehr Vorteile oder Nachteile mit sich bringt und wo Grundsatzfragen unbeantwortet im Raum stehen\, wird am 18. September 2021 im Debattierclub der Freien Universität Oberhausen diskutiert.\nDen Fragen werden sich folgende Gäste stellen:\nLale Akgün: SPD\, ehem. Mitglied des Deutschen Bundestages & Dipl.-Psychologin\nEren Güvercin: Journalist\, Autor und Gründer der muslimischen Alhambra Gesellschaft\nTala Hariri: Sprecherin LAG Säkulare Grüne NRW\nSören Asmus: Pfarrer im evangelischen Kirchenkreis Duisburg und dort für interreligiösen Dialog\, interkulturelle Fragen\, Integration & Migration als Referent zuständig\nModeriert wird der Abend von unserem Dekan Schmalle.\nWir freuen uns auf ein interessiertes Publikum und einen kritischen\, streitbaren und konstruktiven Austausch im Debattierclub.\n#FreieUniOberhausen #MutimRevier #UniimQuatier
URL:https://www.gdanska.de/event/debattierclub-integration-durch-religion-chance-oder-hindernis/
LOCATION:Gdanska\, Altmarkt 3\, 46045 Oberhausen
CATEGORIES:Endlich Sommer OPEN AIR,Lesungen
ATTACH;FMTTYPE=image/jpeg:https://www.gdanska.de/wp-content/uploads/2021/09/Debatierclub2021.jpg
ORGANIZER;CN="Freie Universit%C3%A4t Oberhausen":MAILTO:uni@kitev.de
END:VEVENT
END:VCALENDAR