BEGIN:VCALENDAR
VERSION:2.0
PRODID:-//Gdanska - ECPv6.15.20//NONSGML v1.0//EN
CALSCALE:GREGORIAN
METHOD:PUBLISH
X-ORIGINAL-URL:https://www.gdanska.de
X-WR-CALDESC:Veranstaltungen für Gdanska
REFRESH-INTERVAL;VALUE=DURATION:PT1H
X-Robots-Tag:noindex
X-PUBLISHED-TTL:PT1H
BEGIN:VTIMEZONE
TZID:Europe/Berlin
BEGIN:DAYLIGHT
TZOFFSETFROM:+0100
TZOFFSETTO:+0200
TZNAME:CEST
DTSTART:20210328T010000
END:DAYLIGHT
BEGIN:STANDARD
TZOFFSETFROM:+0200
TZOFFSETTO:+0100
TZNAME:CET
DTSTART:20211031T010000
END:STANDARD
BEGIN:DAYLIGHT
TZOFFSETFROM:+0100
TZOFFSETTO:+0200
TZNAME:CEST
DTSTART:20220327T010000
END:DAYLIGHT
BEGIN:STANDARD
TZOFFSETFROM:+0200
TZOFFSETTO:+0100
TZNAME:CET
DTSTART:20221030T010000
END:STANDARD
BEGIN:DAYLIGHT
TZOFFSETFROM:+0100
TZOFFSETTO:+0200
TZNAME:CEST
DTSTART:20230326T010000
END:DAYLIGHT
BEGIN:STANDARD
TZOFFSETFROM:+0200
TZOFFSETTO:+0100
TZNAME:CET
DTSTART:20231029T010000
END:STANDARD
END:VTIMEZONE
BEGIN:VEVENT
DTSTART;TZID=Europe/Berlin:20220923T190000
DTEND;TZID=Europe/Berlin:20220923T213000
DTSTAMP:20260419T201018
CREATED:20220721T123736Z
LAST-MODIFIED:20220721T123736Z
UID:10001100-1663959600-1663968600@www.gdanska.de
SUMMARY:Karosh Taha\, Im Bauch der Königin - LITERATURHAUS
DESCRIPTION:Aus der Sicht zweier kurdischer Jugendlicher – Amal und Raffiq – wird eine Geschichte in ganz anderer Weise erzählt. Shahira\, die Mutter ihres Freunds Younes\,  bricht die Regeln der kurdischen Community mehrfach: Sie ist alleinerziehend\, schert sich nicht um die Blicke der Leute\, die sie mit ihrer Freizügigkeit auf sich zieht\, lebt nicht monogam. Für Amal und Raffiq ist sie Faszination und Provokation zugleich. Sie bewundern sie für ihre\, missbilligen aber auch\, wie sie ihre Bedürfnisse scheinbar über die von Younes stellt. Shahiras Andersartigkeit konfrontiert alle drei mit ihren eigenen Sehnsüchten und ihren Vorurteilen. Die alternativen Geschichten\, die uns Amal und Raffiq erzählen führen in je eigene Richtungen und zeigen\, dass es nicht eine Wahrheit gibt. \nDie Veranstaltung wird gefördert durch das Kultursekretariat NRW und das Ministerium für Kultur und Wissenschaft des Landes NRW. \nFreitag\, 23. September 2022\n19:00 Uhr (Einlass ab 18:00 Uhr)\nGdanska Theater (Eingang im Hof\, Zugang von der Gutenbergstr.8)\, 46045 Oberhausen Eintritt: 10 € (ermäßigt 5 €)\, Reservierung über www.literaturhaus-oberhausen.de \n \n  \n  \n  \n 
URL:https://www.gdanska.de/event/karosh-taha-im-bauch-der-koenigin-literaturhaus/
LOCATION:Gdanska Theater\, Gutenbergstraße 8\, Hofeinfahrt\, 46045 Oberhausen
CATEGORIES:Lesungen
ATTACH;FMTTYPE=image/jpeg:https://www.gdanska.de/wp-content/uploads/2022/07/Karosh-Taha.jpg
ORGANIZER;CN="LITERATURHAUS Oberhausen":MAILTO:literaturhaus-oberhausen@gmx.de
END:VEVENT
BEGIN:VEVENT
DTSTART;TZID=Europe/Berlin:20220916T190000
DTEND;TZID=Europe/Berlin:20220916T200000
DTSTAMP:20260419T201018
CREATED:20220902T102949Z
LAST-MODIFIED:20220904T072403Z
UID:10001106-1663354800-1663358400@www.gdanska.de
SUMMARY:Ausstellung Words And Shapes  - Gabriele Fengels
DESCRIPTION:Vernissage 16.09.2022 um 19:00 Uhr.\nAusstellungsdauer  16.09. – 18.11.2022.\nGabriele Fengels wurde 1963 in Oberhausen geboren\, lebt und arbeitet in Oberhausen und Wiarden/ Friesland.\nSie ist Mitglied im Künstlerforum Jever.  \nSprache ist die Hauptdarstellerin in der Kunst von Gabriele Fengels.\nSie arbeitet mit Schrift\, Farbe und Struktur.Buchstaben\, Wörter\, Sätze und Texte werden mit Acrylfarbe und verschiedenen Materialien kombiniert.\nDiese „Words And Shapes“ wollen nicht nur ästhetisch sein\, sondern Raum geben für Stimmungen und Einsichten\, die über die konventionelle Wortbedeutung hinausgehen.
URL:https://www.gdanska.de/event/ausstellung-words-and-shapes-gabriele-fengels/
LOCATION:Gdanska\, Altmarkt 3\, 46045 Oberhausen
CATEGORIES:Ausstellungen
ATTACH;FMTTYPE=image/jpeg:https://www.gdanska.de/wp-content/uploads/2022/09/gabi.jpg
ORGANIZER;CN="LITERATURHAUS Oberhausen":MAILTO:literaturhaus-oberhausen@gmx.de
END:VEVENT
BEGIN:VEVENT
DTSTART;TZID=Europe/Berlin:20220909T190000
DTEND;TZID=Europe/Berlin:20220909T213000
DTSTAMP:20260419T201018
CREATED:20220721T122018Z
LAST-MODIFIED:20220721T122820Z
UID:10001099-1662750000-1662759000@www.gdanska.de
SUMMARY:Mithu Sanyal -Identitti - LITERATURHAUS
DESCRIPTION:Was für ein Skandal: Prof. Dr. Saraswati ist WEISS! Schlimmer geht es nicht. Denn die Professorin für Postcolonial Studies in Düsseldorf war eben noch die Übergöttin aller Debatten über Identität – und beschrieb sich als Person of Colour. Als würden Sally Rooney\, Beyoncé und Frantz Fanon zusammen Sex Education gucken\, beginnt damit eine Jagd nach „echter“ Zugehörigkeit. Während das Netz Saraswati hetzt und Demos ihre Entlassung fordern\, stellt ihre Studentin Nivedita ihr intimste Fragen. Mithu Sanyal schreibt mit beglückender Selbstironie und befreiendem Wissen. Den Schleudergang dieses Romans verlässt niemand\, wie er*sie ihn betrat. \nMithu Sanyal wurde 1971 in Düsseldorf geboren und ist Kulturwissenschaftlerin\, Autorin\, Journalistin und Kritikerin. 2009 erschien ihr Sachbuch „Vulva. Das unsichtbare Geschlecht“\, 2016 „Vergewaltigung. Aspekte eines Verbrechens“. Sanyal bekam für Identitti 2021 den Literaturpreis Ruhr verliehen. \nFreitag\, 9. September 2022\n19:00 Uhr (Einlass ab 18:00 Uhr)\nGdanska Theater (Eingang im Hof\, Zugang von der Gutenbergstr.8)\, 46045 Oberhausen Eintritt: 10 € (ermäßigt 5 €)\, Reservierung über www.literaturhaus-oberhausen.de \n 
URL:https://www.gdanska.de/event/mithu-sanyal-identitti/
LOCATION:Gdanska Theater\, Gutenbergstraße 8\, Hofeinfahrt\, 46045 Oberhausen
CATEGORIES:Lesungen
ATTACH;FMTTYPE=image/jpeg:https://www.gdanska.de/wp-content/uploads/2022/07/Sanval.jpg
ORGANIZER;CN="LITERATURHAUS Oberhausen":MAILTO:literaturhaus-oberhausen@gmx.de
END:VEVENT
BEGIN:VEVENT
DTSTART;TZID=Europe/Berlin:20220826T190000
DTEND;TZID=Europe/Berlin:20220826T220000
DTSTAMP:20260419T201018
CREATED:20220715T103233Z
LAST-MODIFIED:20220721T123125Z
UID:10001089-1661540400-1661551200@www.gdanska.de
SUMMARY:Gabriele Krone - Schmalz\, Respekt geht anders - Literaturhaus
DESCRIPTION:Das Buch „Respekt geht anders“ von Gabriele Krone-Schmalz erschien 2020. Die Autorin zeigt sich in diesem Buch besorgt über die polarisierende Debattenkultur in unserem Land\, die dazu beiträgt\, die Gesellschaft zu spalten. Sie plädiert für eine konstruktive Streitkultur\, die auf einen respektvollen Umgang miteinander basiert. Sie setzt sich insbesondere mit den Meinungsmedien und ihrer Inszenierung von Debatten über Demokratie\, Rassismus\, Geschlecht\, Pazifismus und andere „Aufreger-Themen“ auseinander und plädiert für eine verantwortungsvolle Berichterstattung. Anlässlich des Kriegs in der Ukraine mehr als wünschenswert.\nGabriele Krone-Schmalz war bis Ende der 90iger Jahre mehrfach ausgezeichnete Fernsehmoderatorin und Auslandkorrespondentin. Seit 2003 ist sie im Hochschulbereich tätig\, 2011 wurde sie Professorin für TV und Journalistik an der Hochschule Iserlohn.\nDie Veranstaltung wird gefördert vom Bundesministerium für Familie\, Senioren\, Frauen und Jungend im Rahmen des Bundesprogramms „demokratie leben“. \nEintritt 15 € (ermäßigt 7\,50 €)\, Reservierung über www.literaturhaus-oberhausen.de
URL:https://www.gdanska.de/event/gabriele-krone-schmalz-respekt-geht-anders/
LOCATION:Gdanska\, Altmarkt 3\, 46045 Oberhausen
CATEGORIES:Lesungen
ATTACH;FMTTYPE=image/jpeg:https://www.gdanska.de/wp-content/uploads/2022/07/Gabriele-Krone.jpg
ORGANIZER;CN="LITERATURHAUS Oberhausen":MAILTO:literaturhaus-oberhausen@gmx.de
END:VEVENT
BEGIN:VEVENT
DTSTART;TZID=Europe/Berlin:20220722T190000
DTEND;TZID=Europe/Berlin:20220722T220000
DTSTAMP:20260419T201018
CREATED:20220715T102736Z
LAST-MODIFIED:20220717T140012Z
UID:10000906-1658516400-1658527200@www.gdanska.de
SUMMARY:Katja Oskamp\, "Marzahn\, mon amour" - Literaturhaus
DESCRIPTION:Lesereihe „Erzählungen aus unserer Zeit“: \nGeschichten\, die das Leben schreibt. Eine Schriftstellerin\, die von der Schriftstellerei nicht leben kann und Fußpflegerin wird. Ein Plattenbau-Stadtteil im Osten Berlins\, Symbol für soziale Uniformität\, als Sammelbecken für Unikate. Und eine Fußpflegerin\, die sich die Geschichten dieser einmaligen Menschen anhört\, sie aufschreibt und daraus einen Bestseller macht.\nKatja Oskamp\, geboren 1970 in Leipzig\, ist in Berlin aufgewachsen. Nach dem Studium der Theaterwissenschaft arbeitete sie als Dramaturgin am Volkstheater Rostock und studierte am Deutschen Literaturinstitut Leipzig. Sie veröffentlichte bis heute 2 Romane und 2 Erzählbände\, zuletzt 2019 „Marzahn\, mon amour“. \nEintritt: 10 € (ermäßigt 5 €)\, Reservierung über www.literaturhaus-oberhausen.de
URL:https://www.gdanska.de/event/katja-oskamp-marzahn-mon-amour/
LOCATION:Gdanska Theater\, Gutenbergstraße 8\, Hofeinfahrt\, 46045 Oberhausen
CATEGORIES:Lesungen
ATTACH;FMTTYPE=image/jpeg:https://www.gdanska.de/wp-content/uploads/2022/07/Katja-3.-Quartal.jpg
ORGANIZER;CN="LITERATURHAUS Oberhausen":MAILTO:literaturhaus-oberhausen@gmx.de
END:VEVENT
BEGIN:VEVENT
DTSTART;TZID=Europe/Berlin:20220610T190000
DTEND;TZID=Europe/Berlin:20220610T210000
DTSTAMP:20260419T201018
CREATED:20220221T125905Z
LAST-MODIFIED:20220426T085913Z
UID:10001055-1654887600-1654894800@www.gdanska.de
SUMMARY:Die Spielkinder\, & Gäste\, Groß\, größer am kleinsten - ein Ralf Rothmann-Abend - AUSVERKAUFT
DESCRIPTION:– AUSVERKAUFT – AUSVERKAUFT – AUSVERKAUFT – \nEine Revue aus Texten von Ralf Rothmann\, ein wilder Mix aus Lesung\, Musik\, Spiel und Quatsch\, eine Feier des Lebens in allen Facetten. Heimspiel für die Spielkinder: Nach umjubelten Auftritten\n(zum Beispiel bei den Ruhrfestspielen) findet die letzte Aufführung des Bühnenprogramms in der Geburtsstadt von Ralf Rothmann\, des Autors statt. Ein ganz besonderer Abend zwischen Tackenberg und Kaisergarten\, zwischen Kindheit und Erwachsenwerden. Mit Lina\, Nils\, Maja und Till Beckmann\, sowie Charly Hübner\, Jennifer Ewert\, Sebastian Maier\, Kay und Jens Schilling steht an diesem Abend viel schauspielerische und künstlerische Qualität auf der Literaturhaus-Bühne. Und mit diesem Rothmann-Programm zum letzten Mal. Eben eine Hommage an den Anfang\, die Mitte und das Ende des Lebens: „Denn die wahren Trauernden erkennt man an ihrem Humor“.\nDiese Veranstaltung findet statt mit freundlicher Unterstützung des Ministeriums für Heimat\, Kommunales\, Bau und Gleichstellung des Landes NRW\nMehr unter: https://mhkbg.nrw/themen/heimat/neustart-miteinander\n#nrwheimat #nrw #neustartmiteinander\nFreitag\, 10. Juni 2022\n19:00 Uhr (Einlass ab 18:00 Uhr)\nGdanska (Konzertsaal)\, Altmarkt 3\, 46045 Oberhausen\nEintritt 20 € (ermäßigt 10 €)\, Anmeldung per Homepage; alternativ Kartenvorverkauf
URL:https://www.gdanska.de/event/die-spielkinder-gaeste-gross-groesser-am-kleinsten-ein-ralf-rothmann-abend/
LOCATION:Gdanska\, Altmarkt 3\, 46045 Oberhausen
CATEGORIES:Lesungen
ATTACH;FMTTYPE=image/jpeg:https://www.gdanska.de/wp-content/uploads/2022/02/Spielkinder1.jpg
ORGANIZER;CN="LITERATURHAUS Oberhausen":MAILTO:literaturhaus-oberhausen@gmx.de
END:VEVENT
BEGIN:VEVENT
DTSTART;TZID=Europe/Berlin:20220520T190000
DTEND;TZID=Europe/Berlin:20220520T210000
DTSTAMP:20260419T201018
CREATED:20220221T125441Z
LAST-MODIFIED:20220221T125441Z
UID:10001054-1653073200-1653080400@www.gdanska.de
SUMMARY:Jenny Erpenbeck\, Kairos
DESCRIPTION:Eine bekannte Geschichte: Eine junge Frau und ein alternder\, verheirateter Mann verlieben sich ineinander. Aber vor dem Hintergrund des Intellektuellen-Milieus in der DDR Ende der achtziger Jahre kann Jenny Erpenbeck diese Geschichte neu erzählen. In einer rhythmisierten Sprache\, die eine große Affinität zur Musik zeigt\, verschränkt Erpenbeck\, die selbst aus dieser Bohème stammt\, die Liebes- mit der politischen Geschichte. Kairos\, das ist der griechische Gott des glücklichen Zufalls\, der nur für einen Moment an seiner Haarlocke zu greifen ist. Am Ende des Buches fragt man sich\, ob Katharina und Hans\, die beiden Protagonisten\, Kairos nicht besser hätten vorbeigehen lassen. Aber dann gäbe es dieses wunderbare Buch nicht.\nFreitag\, 20. Mai 2022\n19 Uhr (Einlass 18 Uhr)\nGdanska (Konzertsaal)\, Altmarkt 3\, 46045 Oberhausen\nEintritt: 15 € (ermäßigt 7\,50 €)\, Anmeldung per Homepage; alternativ Kartenvorverkauf
URL:https://www.gdanska.de/event/jenny-erpenbeck-kairos/
LOCATION:Gdanska Theater\, Gutenbergstraße 8\, Hofeinfahrt\, 46045 Oberhausen
CATEGORIES:Lesungen,Theater
ATTACH;FMTTYPE=image/jpeg:https://www.gdanska.de/wp-content/uploads/2022/02/Jenny-Erpenbeck-c-Katharina-Behling.jpg
ORGANIZER;CN="LITERATURHAUS Oberhausen":MAILTO:literaturhaus-oberhausen@gmx.de
END:VEVENT
BEGIN:VEVENT
DTSTART;TZID=Europe/Berlin:20220506T150000
DTEND;TZID=Europe/Berlin:20220506T190000
DTSTAMP:20260419T201019
CREATED:20220221T124536Z
LAST-MODIFIED:20220221T125021Z
UID:10001053-1651849200-1651863600@www.gdanska.de
SUMMARY:LiteRadTour\, Vol.5 – Buchhandlungs-Tour
DESCRIPTION:EigentümerInnen geführte Buchhandlungen sind das Herz des literarischen Lebens in unserer Stadt. Sie bringen die Bücher unters Lesepublikum – sie bestellen\, beraten\, empfehlen\, recherchieren\, präsentieren\, liefern aus und verkaufen. Sie sichten die Neuerscheinungen\, machen Büchertische\, organisieren Lesungen und nicht selten kommen Buchliebhaber in der Buchhandlung miteinander ins Gespräch – kennst du dieses …\, hast du das schon gelesen …\, ich war begeistert von …\nDrei dieser Buchhandlungen\, mit je eigener Tradition und Geschichte\, werden wir auf unserer Tour besuchen und uns vor Ort von den BuchhändlerInnen Leseempfehlungen geben lassen: Erzählungen aus unserer Zeit.\nDie erste Station ist die Königshardter Buchhandlung (dort gegen 16 Uhr noch Einstieg möglich)\, von da aus geht es\, wie immer überwiegend auf netten Nebenstrecken\, etappenweise zurück. Ein gemeinsamer Abschluss im Gdanska ist geplant.\nFreitag\, 6. Mai 2022\nStart 15 Uhr Altmarkt 3 (vor dem Gdanska)\nEnde 19 Uhr am Ausgangspunkt\nTeilnahme: 10 € (ermäßigt 5 €)\nbegrenzte Teilnehmerzahl; Anmeldung und eigenes Rad erforderlich
URL:https://www.gdanska.de/event/literadtour-vol-5-buchhandlungs-tour/
LOCATION:Gdanska\, Altmarkt 3\, 46045 Oberhausen
CATEGORIES:Lesungen
ATTACH;FMTTYPE=image/jpeg:https://www.gdanska.de/wp-content/uploads/2022/02/LiteRadTour.jpg
ORGANIZER;CN="LITERATURHAUS Oberhausen":MAILTO:literaturhaus-oberhausen@gmx.de
END:VEVENT
BEGIN:VEVENT
DTSTART;TZID=Europe/Berlin:20220422T190000
DTEND;TZID=Europe/Berlin:20220422T210000
DTSTAMP:20260419T201019
CREATED:20220221T123505Z
LAST-MODIFIED:20220221T123505Z
UID:10001052-1650654000-1650661200@www.gdanska.de
SUMMARY:Mirjam Wittig\, An der Grasnarbe
DESCRIPTION:Ein Debütroman im Literaturhaus Oberhausen – für uns kein Debüt und immer wieder lohnend.\nMit Mirjam Wittig begrüßen wir eine junge Frau\, deren erster Roman druckfrisch vorliegt. An der Grasnarbe erzählt die Geschichte einer Frau\, die ihr vertrautes\, problembehaftetes Stadtleben aufgibt\, um über ein einfaches\, mit der Natur verbundenes Landleben zur Ruhe zu kommen. Aber das „neue Leben“ ist beschwerlich und durch die sichtbaren Klimaveränderungen auch bedrohlich. Die ersehnte innere Ruhe will sich nicht einstellen. Die Auseinandersetzung innerer und äußerer Landschaften wird intensiv erzählt und einfühlsam beschrieben.\nMirjam Wittig (1996) hat u.a. literarisches Schreiben und Lektorieren studiert. Sie war Redaktionsmitglied der Literaturzeitschrift BELLA triste\, hat Literaturfestivals organisiert und zahlreiche Preise und Stipendien bekommen.\nFreitag\, 22. April 2022\n19 Uhr (Einlass 18 Uhr)\nGdanska Theater (Eingang im Hof\, Zugang von der Gutenbergstr.8)\, 46045 Oberhausen Eintritt: 10 € (ermäßigt 5 €)\, Anmeldung per Homepage; alternativ Kartenvorverkauf
URL:https://www.gdanska.de/event/mirjam-wittig-an-der-grasnarbe/
LOCATION:Gdanska Theater\, Gutenbergstraße 8\, Hofeinfahrt\, 46045 Oberhausen
CATEGORIES:Lesungen,Theater
ATTACH;FMTTYPE=image/jpeg:https://www.gdanska.de/wp-content/uploads/2022/02/Mirjam-Wittig-c-Stefan-Klueter.jpg
ORGANIZER;CN="LITERATURHAUS Oberhausen":MAILTO:literaturhaus-oberhausen@gmx.de
END:VEVENT
BEGIN:VEVENT
DTSTART;TZID=Europe/Berlin:20220401T190000
DTEND;TZID=Europe/Berlin:20220401T210000
DTSTAMP:20260419T201019
CREATED:20220221T123112Z
LAST-MODIFIED:20220221T123112Z
UID:10001051-1648839600-1648846800@www.gdanska.de
SUMMARY:Hendrik Bolz\, Nullerjahre – Jugend in blühenden Landschaften
DESCRIPTION:Vom Austeilen und Auf-die-Fresse-Kriegen: eine Nachwendejugend in Mecklenburg-Vorpommern.\nHendrik Bolz\, geboren 1988\, ist in Stralsund aufgewachsen\, im nordöstlichsten Winkel Deutschlands\, in einer Welt\, die\, obwohl das Land längst nicht mehr „DDR“ heißt\, wenig mit dem zu tun hat\, was im Westen als Normalität durchgeht: Es sind die Nullerjahre.\nWährend in den Plattenbauten von Knieper West immer mehr Erwachsene die Suche nach einem Platz im neuen System aufgeben\, nehmen Hendrik und seine Freunde die Herausforderung an: Sie finden Auswege aus der Langeweile und Fluchtwege\, die Optionen bleiben die gleichen: Fressen oder gefressen werden.\nIm Kindergarten\, in der Schule und im Fußballverein haben sie gelernt\, dass ein großer Junge nicht weint und dass der Klügere nur so lange nachgibt\, bis er der Dümmere ist. Nun gilt es\, härter zu werden\, um\, wenn es drauf ankommt\, dem anderen die Nase zu brechen. Und stumpfer zu werden\, um dabei nicht zu zögern. Die Mittel finden sich – Kraftsport\, Drogen\, Rap. Und bald sind es neue »Kleine«\, die sich verstecken müssen.\nHendrik Bolz erzählt eindringlich von einem Jahrzehnt im Osten Deutschlands\, das uns ein Stück bundesrepublikanische Gegenwart erklären kann. Moderiert wird der Abend von Jan Kawelke\, Host des WDR-Cosmo-Podcast „Machiavelli – Rap und Politik“. Übrigens: der Abend ist der einzige Auftritt von Hendrik Bolz im Ruhrgebiet.\nFreitag\, 1. April 2022\n19 Uhr (Einlass 18 Uhr)\nGdanska (Konzertsaal)\, Altmarkt 3\, 46045 Oberhausen\nEintritt: 20 € (VVK 17 €)\, Anmeldung per Homepage; alternativ Kartenvorverkauf
URL:https://www.gdanska.de/event/hendrik-bolz-nullerjahre-jugend-in-bluehenden-landschaften/
LOCATION:Gdanska\, Altmarkt 3\, 46045 Oberhausen
CATEGORIES:Lesungen
ATTACH;FMTTYPE=image/jpeg:https://www.gdanska.de/wp-content/uploads/2022/02/Hendrik-Bolz-1.jpg
ORGANIZER;CN="LITERATURHAUS Oberhausen":MAILTO:literaturhaus-oberhausen@gmx.de
END:VEVENT
BEGIN:VEVENT
DTSTART;TZID=Europe/Berlin:20220325T190000
DTEND;TZID=Europe/Berlin:20220325T210000
DTSTAMP:20260419T201019
CREATED:20220103T140731Z
LAST-MODIFIED:20220104T095005Z
UID:10001042-1648234800-1648242000@www.gdanska.de
SUMMARY:LITERATURHAUS präsentiert: LITERARISCHES DUETT Janelle Pötzsch & Harald Obendiek
DESCRIPTION:Im direkten Anschluss an die Leipziger Buchmesse haben sich die Literaturwissenschaftlerin Janelle Pötzsch und Dr. Harald Obendiek unter den Neuerscheinungen dieses Literaturjahres umgeschaut. Sie geben ausgefeilte Empfehlungen über das\, was der Buchmarkt im Frühjahr 2022 zu bieten hat\, aber auch die eine oder andere Warnung.\nEintritt 10 Euro; ermäßigt 5 Euro\nAnmeldung erforderlich
URL:https://www.gdanska.de/event/literaturhaus-praesentiert-literarisches-duet-janelle-poetzsch-harald-obendiek/
LOCATION:Gdanska Theater\, Gutenbergstraße 8\, Hofeinfahrt\, 46045 Oberhausen
CATEGORIES:Lesungen
ATTACH;FMTTYPE=image/jpeg:https://www.gdanska.de/wp-content/uploads/2022/01/Literarisches-Duett2.jpg
ORGANIZER;CN="LITERATURHAUS Oberhausen":MAILTO:literaturhaus-oberhausen@gmx.de
END:VEVENT
BEGIN:VEVENT
DTSTART;TZID=Europe/Berlin:20220304T190000
DTEND;TZID=Europe/Berlin:20220304T210000
DTSTAMP:20260419T201019
CREATED:20220103T135928Z
LAST-MODIFIED:20220303T204224Z
UID:10001041-1646420400-1646427600@www.gdanska.de
SUMMARY:LITERATURHAUS präsentiert: EIN FRAUENLEBEN ZWISCHEN ERFOLG UND SCHEITERN - Tove Ditlevsen
DESCRIPTION:Frauensalon im Literaturhaus \nIn ihrer Kopenhagen-Trilogie berichtet die dänische Autorin Tove Ditlevsen (1917 – 1976) schonungslos aus ihrem Leben. Kindheit\, Jugendzeit\, Erwachsenenalter – wir erfahren von ihrem starken Wunsch\, Autorin zu werden\, von ihren unzähligen Enttäuschungen\, ihren Erfolgen als Schriftstellerin\, ihren Freundschaften und Liebesverhältnissen\, ihrer Mutterschaft und von den Verlockungen der Sucht. \nDer Frauensalon stellt das Leben der Schriftstellerin und ausgewählte Texte der Trilogie vor.\nEintritt frei (Hut geht rum)\nAnmeldung erforderlich
URL:https://www.gdanska.de/event/tove-ditlevsen-ein-frauenleben-zwischen-erfolg-und-scheitern/
LOCATION:Gdanska Theater\, Gutenbergstraße 8\, Hofeinfahrt\, 46045 Oberhausen
CATEGORIES:Lesungen
ATTACH;FMTTYPE=image/jpeg:https://www.gdanska.de/wp-content/uploads/2022/01/Concordia-fuer-Frauensalon-klein.jpg
ORGANIZER;CN="LITERATURHAUS Oberhausen":MAILTO:literaturhaus-oberhausen@gmx.de
END:VEVENT
BEGIN:VEVENT
DTSTART;TZID=Europe/Berlin:20220225T190000
DTEND;TZID=Europe/Berlin:20220225T210000
DTSTAMP:20260419T201019
CREATED:20211206T141021Z
LAST-MODIFIED:20220104T100218Z
UID:10001038-1645815600-1645822800@www.gdanska.de
SUMMARY:LITERATURHAUS präsentiert: WIR HABEN RAKETEN GEANGELT\, Karen Köhler
DESCRIPTION:Lesereihe „Erzählungen aus unserer Zeit“\nKaren Köhler ist gelernte Schauspielerin und Dramaturgin. Mit ihrem Debut als Schriftstellerin\, dem Erzählband „Wir haben Raketen geangelt“\, hat sie gleich Aufsehen erregt und sich in Position für ihren 5 Jahre später publizierten Roman „Miroloi“ gebracht\, der für den Deutschen Buchpreis 2019 nominiert war (Longlist). Ihre Erzählungen sind „abgedreht“\, „raffiniert konstruiert“ und „sprachlich radikal“ – so die durchweg positiven Kritiken. Ihre Figuren leben\, wie sollte es heute anders sein\, nah am Abgrund und überleben – wenn überhaupt – nur mit Müh und Not.\nEintritt 10 Euro; ermäßigt 5 Euro\nAnmeldung erforderlich
URL:https://www.gdanska.de/event/literaturhaus-praesentiert-wir-haben-raketen-geangelt-karen-koehler/
LOCATION:Gdanska Theater\, Gutenbergstraße 8\, Hofeinfahrt\, 46045 Oberhausen
CATEGORIES:Lesungen
ATTACH;FMTTYPE=image/jpeg:https://www.gdanska.de/wp-content/uploads/2021/12/Koehler_Karen-c-Julia-Klug.jpg
ORGANIZER;CN="LITERATURHAUS Oberhausen":MAILTO:literaturhaus-oberhausen@gmx.de
END:VEVENT
BEGIN:VEVENT
DTSTART;TZID=Europe/Berlin:20220211T190000
DTEND;TZID=Europe/Berlin:20220211T210000
DTSTAMP:20260419T201019
CREATED:20220103T134321Z
LAST-MODIFIED:20220104T100234Z
UID:10001040-1644606000-1644613200@www.gdanska.de
SUMMARY:LITERATURHAUS präsentiert:  NAHEZU NICHTS GELINGT - Lütfiye Güzel
DESCRIPTION:Lütfiye Güzel hat ihr neues Buch just zum Zeitpunkt der ersten Corona-Welle im vergangenen Jahr publiziert. Das im Titel angelegt Motiv der Vergeblichkeit\, des Steine rollenden Sisyphos\, könnte als Orakelspruch über die nachfolgenden Versuche der Pandemiebekämpfung gelesen werden. Doch so vordergründig sind Güzels Texte nicht\, z.B. \nEine Stadt. / Darunter eine Kindheit. / Blicke von der Brücke. / Darunter ein Schulterzucken. / Eine Figur mit der / Selbsterkundung im Schneidersitz / und mit Löchern in der Erinnerung. / Eine leise Verzweiflung / trifft auf Klassenfahrt.\nEintritt 10 Euro; ermäßigt 5 Euro\nAnmeldung erforderlich
URL:https://www.gdanska.de/event/luetfiye-guezel-nahezu-nichts-gelingt/
LOCATION:Gdanska Theater\, Gutenbergstraße 8\, Hofeinfahrt\, 46045 Oberhausen
CATEGORIES:Lesungen
ATTACH;FMTTYPE=image/jpeg:https://www.gdanska.de/wp-content/uploads/2022/01/luetfiye-guezel.jpg
ORGANIZER;CN="LITERATURHAUS Oberhausen":MAILTO:literaturhaus-oberhausen@gmx.de
END:VEVENT
BEGIN:VEVENT
DTSTART;TZID=Europe/Berlin:20220128T190000
DTEND;TZID=Europe/Berlin:20220128T210000
DTSTAMP:20260419T201019
CREATED:20220122T132054Z
LAST-MODIFIED:20220122T132633Z
UID:10001046-1643396400-1643403600@www.gdanska.de
SUMMARY:Literaturhaus präsentiert: Jochen Schimmang\, "Adorno wohnt hier nicht mehr"
DESCRIPTION:Vor 50 Jahren\, im August 1969\, starb Adorno – und Jochen Schimmang übt sich in Abwesenheitspﬂege. In melancholischen bis heiteren\, zum Teil autobiograﬁsch gefärbten Geschichten erzählt er von Formen und Figuren des Verschwindens. Von Menschen\, Gebäuden\, ganzen Vierteln; von Techniken\, Gesten\, Sprechweisen.\nEin Jubilar versteckt sich mit seiner Frau auf dem Dachboden vor seinen Freunden\, die zum 70. Geburtstag aus allen Himmelsrichtungen auf ihn einstürmen\, obwohl er viel lieber nur mit zweien von ihnen essen gegangen wäre. Rothermund macht sich auf die Suche nach dem verschwundenen Maler Gutermuth. Ein Spaziergang durch Frankfurt zeigt\, wer\, außer Adorno\, noch alles nicht mehr dort wohnt. Aber Spaziergänge sind ohnehin sterbende Institutionen\, ein Sich-Verirren in der Welt kann zum Verwirren der Welt werden. Milieus\, die sich nicht mehr erreichen\, Nomaden in Monaden. Nur Gott ist nicht verschwunden\, er taucht pünktlich um halb sieben in der Kirche auf – im Fischgrätmantel.\nJochen Schimmangs feinsinnige Erzählungen gehen auf Spurensuche nach Lücken und Verlusten und zeigen zugleich\, dass »Identität« eine höchst fragile Konstruktion ist. \nFreitag\, 28. Januar 2022 19 Uhr (Einlass 18 Uhr)\nGdanska Theater (Eingang im Hof\, Zugang von der Gutenbergstr.8) \, 46045 Oberhausen Eintritt: 10 € (ermäßigt 5 €)\, Anmeldung erforderlich
URL:https://www.gdanska.de/event/literaturhaus-praesentiert-jochen-schimmang-adorno-wohnt-hier-nicht-mehr/
LOCATION:Gdanska Theater\, Gutenbergstraße 8\, Hofeinfahrt\, 46045 Oberhausen
CATEGORIES:Lesungen
ATTACH;FMTTYPE=image/jpeg:https://www.gdanska.de/wp-content/uploads/2022/01/Jochen-Schimmang-klein.jpg
ORGANIZER;CN="LITERATURHAUS Oberhausen":MAILTO:literaturhaus-oberhausen@gmx.de
END:VEVENT
BEGIN:VEVENT
DTSTART;TZID=Europe/Berlin:20220128T190000
DTEND;TZID=Europe/Berlin:20220128T210000
DTSTAMP:20260419T201019
CREATED:20211206T100103Z
LAST-MODIFIED:20220122T132336Z
UID:10001037-1643396400-1643403600@www.gdanska.de
SUMMARY:ABGESAGT  DUNKELBLUM - Eva Menasse ABGESAGT
DESCRIPTION:Diese Veranstaltung ist wegen Krankheit abgesagt.\nAm 28.01.2022 präsentieren wir Jochen Schlimmang mit der Lesung „Adorno wohnt hier nicht mehr“ Info siehe unten. \nFreitag\, 28. Januar 2022 \nAuf den ersten Blick ist Dunkelblum eine Kleinstadt wie jede andere. Doch hinter der Fassade der österreichischen Gemeinde verbirgt sich die Geschichte eines furchtbaren Verbrechens. Ihr Wissen um das Ereignis verbindet die älteren Dunkelblumer seit Jahrzehnten – genauso wie ihr Schweigen über Tat und Täter. In den Spätsommertagen des Jahres 1989\, während hinter der nahegelegenen Grenze zu Ungarn bereits Hunderte DDR-Flüchtlinge warten\, geraten die Dinge plötzlich in Bewegung: Wie in einem Spuk tauchen Spuren des alten Verbrechens auf – und konfrontieren die Dunkelblumer mit einer Vergangenheit\, die sie längst für erledigt hielten.\nIn ihrem neuen Roman entwirft Eva Menasse ein großes Geschichtspanorama am Beispiel einer kleinen Stadt\, die immer wieder zum Schauplatz der Weltpolitik wird\, und erzählt vom Umgang der Bewohner mit einer historischen Schuld.
URL:https://www.gdanska.de/event/eva-menasse-dunkelblum/
LOCATION:Gdanska Theater\, Gutenbergstraße 8\, Hofeinfahrt\, 46045 Oberhausen
CATEGORIES:Abgesagt,Lesungen
ATTACH;FMTTYPE=image/jpeg:https://www.gdanska.de/wp-content/uploads/2021/12/Eva-Menasse-c-Joerg-Steinmetz-1.jpg
ORGANIZER;CN="LITERATURHAUS Oberhausen":MAILTO:literaturhaus-oberhausen@gmx.de
END:VEVENT
BEGIN:VEVENT
DTSTART;TZID=Europe/Berlin:20220114T190000
DTEND;TZID=Europe/Berlin:20220114T190000
DTSTAMP:20260419T201019
CREATED:20211206T094846Z
LAST-MODIFIED:20220104T095740Z
UID:10001036-1642186800-1642186800@www.gdanska.de
SUMMARY:LITERATURHAUS präsentiert: SO STERBEN WIR - Roland Schulz
DESCRIPTION:LESEREIHE „MEDIZIN UND LITERATUR“\nWas passiert mit deinem Körper\, wenn du stirbst? Was fühlst du – Trauer\, Schmerz? Und dann\, wenn dein Herzschlag verstummt ist? Was geschieht mit deinem Leichnam\, bis du bestattet wirst? Wie wird man um dich trauern?\nSterben\, Tod und Trauer sind unumgänglich\, für jeden von uns. Und doch wissen wir kaum etwas darüber. Roland Schulz findet Worte für das Unbeschreibliche und gibt Antworten auf die tiefsten Fragen des Lebens.\n„Tage vor deinem Tod\, wenn noch niemand deine Sterbestunde kennt\, hört dein Herz auf\, Blut bis in die Spitzen deiner Finger zu pumpen. Wird anderswo gebraucht. In deinem Kopf.“\nMit diesen Worten nimmt Roland Schulz den Leser mit auf die letzte Reise. Eindringlich beschreibt er\, was wir während unserer letzten Tage und Stunden erleben. Er verfolgt die Reise des Körpers von der Leichenschau bis zur Bestattung und fragt schließlich\, was Sterben und Tod für diejenigen bedeutet\, die zurückbleiben: Wie trauern wir – und wie können wir weiterleben.\nEin aufwendig recherchiertes Buch\, kraftvoll und voller Menschlichkeit. (Gewinner des Preises „Wissensbuch des Jahres 2019“ der Zeitschrift „Bild der Wissenschaft“) \nEintritt 10 Euro; ermäßigt 5 Euro\nAnmeldung erforderlich
URL:https://www.gdanska.de/event/roland-schulz-so-sterben-wir/
LOCATION:Gdanska Theater\, Gutenbergstraße 8\, Hofeinfahrt\, 46045 Oberhausen
CATEGORIES:Lesungen
ATTACH;FMTTYPE=image/jpeg:https://www.gdanska.de/wp-content/uploads/2021/12/Roland-Schulz-c-Dirk-Bruniecki.jpg
ORGANIZER;CN="LITERATURHAUS Oberhausen":MAILTO:literaturhaus-oberhausen@gmx.de
END:VEVENT
END:VCALENDAR