BEGIN:VCALENDAR
VERSION:2.0
PRODID:-//Gdanska - ECPv6.15.20//NONSGML v1.0//EN
CALSCALE:GREGORIAN
METHOD:PUBLISH
X-WR-CALNAME:Gdanska
X-ORIGINAL-URL:https://www.gdanska.de
X-WR-CALDESC:Veranstaltungen für Gdanska
REFRESH-INTERVAL;VALUE=DURATION:PT1H
X-Robots-Tag:noindex
X-PUBLISHED-TTL:PT1H
BEGIN:VTIMEZONE
TZID:Europe/Berlin
BEGIN:DAYLIGHT
TZOFFSETFROM:+0100
TZOFFSETTO:+0200
TZNAME:CEST
DTSTART:20180325T010000
END:DAYLIGHT
BEGIN:STANDARD
TZOFFSETFROM:+0200
TZOFFSETTO:+0100
TZNAME:CET
DTSTART:20181028T010000
END:STANDARD
BEGIN:DAYLIGHT
TZOFFSETFROM:+0100
TZOFFSETTO:+0200
TZNAME:CEST
DTSTART:20190331T010000
END:DAYLIGHT
BEGIN:STANDARD
TZOFFSETFROM:+0200
TZOFFSETTO:+0100
TZNAME:CET
DTSTART:20191027T010000
END:STANDARD
BEGIN:DAYLIGHT
TZOFFSETFROM:+0100
TZOFFSETTO:+0200
TZNAME:CEST
DTSTART:20200329T010000
END:DAYLIGHT
BEGIN:STANDARD
TZOFFSETFROM:+0200
TZOFFSETTO:+0100
TZNAME:CET
DTSTART:20201025T010000
END:STANDARD
END:VTIMEZONE
BEGIN:VEVENT
DTSTART;TZID=Europe/Berlin:20191222T173000
DTEND;TZID=Europe/Berlin:20191222T173000
DTSTAMP:20260419T212020
CREATED:20191126T172308Z
LAST-MODIFIED:20191126T172346Z
UID:10000830-1577035800-1577035800@www.gdanska.de
SUMMARY:Theater für Kinder - „Hilfe\, die Herdmanns kommen!“
DESCRIPTION:„Hilfe\, die Herdmanns kommen!“\nMusiktheater für Kinder ab 8 Jahre nach Barbara Robinson\nEine Inszenierung des Theaters Kontra-Punkt. \nZsuzsa Debre holt das etwas andere Krippenspiel nach Oberhausen! \nEine Reservierung der Plätze unter 0173 5393166 ist notwendig\, da nur eine begrenzte Platzanzahl zur Verfügung steht. Der Eintritt ist frei! \nZum Stück: Möhre statt Myrrhe \nZwei Dinge gibt es immer wieder: Das Krippenspiel zu Weihnachten und eine Familie wie die Herdmanns. Wer die Herdmanns noch nicht kennt\, dem sei gesagt\, dass er Glück gehabt hat\, denn die fünf Kinder diskutieren mit ihren Fäusten und werden automatisch jedes Schuljahr versetzt\, weil kein Lehrer sie zweimal haben will oder zwei von ihnen in einer Klasse. Wenn das Krippenspiel und die Herdmanns aufeinanderstoßen\, dann passiert etwas\, an das man nicht einmal im Traum gedacht hätte\, dann versteht man die Sorgen der Heiligen Familie und die Weihnachtsbotschaft kommt ganz nah. \nZur Inszenierung \nWas Barbara Robinson in unnachahmlicher Weise mit Worten erzählt\, wird in dieser Inszenierung in atemberaubenden Musikarrangements von Klassik bis Hard Rock\, mit Instrumenten von Piano bis singende Säge\, mit Sprache\, Gesang und skurrilen Choreographien dargestellt. Die „schrecklichen“ Herdmanns kommen im Frack daher\, spielen klassische Musikinstrumente\, brechen jegliche Erwartungshaltung und entlarven unsere Vorurteile. \nAls Gruppe sind sie stark\, pöbeln und bedrohen alle anderen. Im Rollentausch mit den Schauspielern offenbaren sie neben ihrer musikalischen Seite die anderen Facetten ihrer Charaktere. Dann ist es Eugenia Herdmann\, die wie eine Löwin um das Leben des Christkindes kämpft; Ralf Herdmann prangert die Ungerechtigkeit an\, dass ein Bösewicht wie Herodes weiterleben darf und die Herdmannschen 3 Könige bringen wirklich überlebenswichtige Geschenke. \nZum Hintergrund – Besonderheiten des Projektes \nZsuzsa Debre hat vor zwei Jahren bei der Premiere mit der neuen Besetzung des Stückes in Düsseldorf an mehreren Spielstätten selbst erlebt\, dass bei dem Stück Kinder aus unterschiedlichen Schulen\, aus unterschiedlichen Nationen mit den Herdmanns Kindern mitfieberten. So trägt das Stück sicherlich zur Aktivierung und Stärkung des privaten Engagements bei. Es fördert im besten Fall die Integration und/oder das interkulturelle Zusammenleben. Ein Ziel dieses Projektes ist es\, möglichst viele Kinder aller Nationen aus dem Wohngebiet Alt-Oberhausen mit der Aufführung des Theaters Kontra-Punkt zu erreichen und damit auch gleichzeitig deren Eltern. So beginnt im besten Fall eine Kommunikation\, die auf Neugier und Wissbegierde beruht. \nDas Theater Gdanska ist ein wunderbares Beispiel für das gesellschaftliche Miteinander in Oberhausen und wurde deshalb von Frau Debre als Spielstätte ausgewählt. Ganz nach dem Motto des Gdanska Theaters und Restaurants: gemeinsam füreinander und miteinander! \nDas Ensemble \nRegie: Annette Bieker I Dramaturgie: Frank Schulz I Bühne\, Kostüme\, Zeichnungen: Jan Kocman I Musik: Bremer Kaffeehaus-Orchester und Musikensemble Kollektiv I Violine: Zsuzsa Debre I Saxophon/Klarinette: Bernd Bolsinger Violoncello: Volker Kamp I Klavier: Theodor Pauss I Kontrabass: Nils Imhorst I Schauspieler: Annette Bieker\, Frank Schulz Fotos: Sitó\, Klaus Fischer\, Maurice Kobel I www.kontra-punkt.de I www.zsuzsa-klangwelten.com I Design Plakate/Flyer: Klaus Wiesel wiesel.klaus@web.de \nMit bestem Dank \nDie Aktion „Hilfe\, die Herdmanns kommen!“ wird mit Mitteln aus dem Verfügungsfond im Rahmen des Förderprogramms „Soziale Stadt Oberhausen Brückenschlag“ gefördert. Mit Hilfe der Verfügungsfonds-Mittel können Workshops\, Ausstellungen und Mitmachaktionen\, Straßen- und Nachbarschaftsfeste bis zu 2.000 Euro zu 100% gefördert werden. So können sich bspw. Bürgerinnen und Bürger\, Gewerbetreibende oder Vereine aktiv mit ihren Ideen in die Entwicklung und Belebung des Programmgebietes Brückenschlag einbringen. Haben Sie auch eine Idee\, wie das Programmgebiet Brückenschlag belebt und gestärkt werden kann? Dann melden Sie sich im Stadtteilbüro Brückenschlag Marktstraße 97 (Di.\, Mi. und Fr. 10-13 Uhr sowie Do. 15-18 Uhr; Tel.: 0208 82849086; info@brueckenschlag-ob.de).
URL:https://www.gdanska.de/event/theater-fuer-kinder-hilfe-die-herdmanns-kommen/
LOCATION:Gdanska Theater\, Gutenbergstraße 8\, Hofeinfahrt\, 46045 Oberhausen
CATEGORIES:Theater
ATTACH;FMTTYPE=image/jpeg:https://www.gdanska.de/wp-content/uploads/2019/11/CHampions-scaled.jpg
END:VEVENT
END:VCALENDAR